From mboxrd@z Thu Jan  1 00:00:00 1970
Return-Path: <test-report-bounces@dpdk.org>
Received: from mails.dpdk.org (mails.dpdk.org [217.70.189.124])
	by inbox.dpdk.org (Postfix) with ESMTP id 1D16845487
	for <public@inbox.dpdk.org>; Tue, 18 Jun 2024 07:46:05 +0200 (CEST)
Received: from mails.dpdk.org (localhost [127.0.0.1])
	by mails.dpdk.org (Postfix) with ESMTP id 02C6740DD6;
	Tue, 18 Jun 2024 07:46:05 +0200 (CEST)
Received: from mail-pl1-f227.google.com (mail-pl1-f227.google.com
 [209.85.214.227])
 by mails.dpdk.org (Postfix) with ESMTP id 6699A4026B
 for <test-report@dpdk.org>; Tue, 18 Jun 2024 07:44:47 +0200 (CEST)
Received: by mail-pl1-f227.google.com with SMTP id
 d9443c01a7336-1f6a837e9a3so31486955ad.1
 for <test-report@dpdk.org>; Mon, 17 Jun 2024 22:44:47 -0700 (PDT)
DKIM-Signature: v=1; a=rsa-sha256; c=relaxed/relaxed;
 d=iol.unh.edu; s=unh-iol; t=1718689486; x=1719294286; darn=dpdk.org;
 h=references:in-reply-to:cc:to:from:subject:message-id:date:from:to
 :cc:subject:date:message-id:reply-to;
 bh=9FewjtyFbCZZW4mJwLCNZvgMtmM+ilYlCAUrX3wyldc=;
 b=BrkJ1topq3I1Yb28L4aFDe9B06QNaMDnQ9fIdxMFk5FiHO4Z7sfZF9S102lgmz7Zmp
 IJ5H+AI8ji3l4CyrpJIOdGXtSGSJbnl8fhdWxDZ25tIgHVRMJoVxyWE+N1MnUojLQyYp
 8tg/+VJhyplL0vKdGqQhvawdLjRd8GyKc3x9M=
X-Google-DKIM-Signature: v=1; a=rsa-sha256; c=relaxed/relaxed;
 d=1e100.net; s=20230601; t=1718689486; x=1719294286;
 h=references:in-reply-to:cc:to:from:subject:message-id:date
 :x-gm-message-state:from:to:cc:subject:date:message-id:reply-to;
 bh=9FewjtyFbCZZW4mJwLCNZvgMtmM+ilYlCAUrX3wyldc=;
 b=s0h06jMLLhjvlvXeyEEL2ODxTHy/7Nddl7d0lcrsq/3mk0KsOBBBMRXnkg3h9xBLj8
 GeTWSfSoP96jmmVoa+ThF8p1PeW2hJJ6o5S8+CgCLOTMJtXyWVM6nISDE7XuIuajsLZ5
 hHhSqSWzBTLjLzWewMP/+EPAdfoFzZG0kD2yu9JeRbYLORI42/v5UaVhwvwUP/kig6W2
 XiqU106xxoRWty1nJXwArRKn6TUoMdf2xwgBw/NQFGecyV4KZTkWH646i+iMvdShVvwE
 jTezn1HWYsmaJMT8TqRvZf9wZwxsRvsvC9dlfBR47M8TTujnx540VKjPc1pUu7KhyItO
 De1g==
X-Gm-Message-State: AOJu0YxNMm8DBVgskfYxIqatkqGswrZ2dFaFCfCYal3eL6A/MvQfMi7k
 yvz/Z6TQjqlw1Ee1Sa/jgZaGUunSmZpz3KIqhBjVjZHNmJw5SWDPG2FCQFa3byWBnj7Rhzd3wM2
 OJOjnmJRkPsFjFQ538+2YBkxPncbRVa9lwuiACFEBMhxALw2+FeB/fQeQ
X-Google-Smtp-Source: AGHT+IFWW7NZVVY/+sQOZiH4Mkl3NmWD4BzbGWPDBOX7UM35OXt/KWJJIWui5VGrmmqcD92dpZpVLpsGFJSG
X-Received: by 2002:a17:902:e84c:b0:1f8:68b8:3736 with SMTP id
 d9443c01a7336-1f868b83a8cmr110487735ad.35.1718689486598; 
 Mon, 17 Jun 2024 22:44:46 -0700 (PDT)
Received: from postal.iol.unh.edu (postal.iol.unh.edu.
 [2606:4100:3880:1234::84]) by smtp-relay.gmail.com with ESMTPS id
 d9443c01a7336-1f869ce6325sm3442765ad.35.2024.06.17.22.44.46
 (version=TLS1_2 cipher=ECDHE-ECDSA-AES128-GCM-SHA256 bits=128/128);
 Mon, 17 Jun 2024 22:44:46 -0700 (PDT)
X-Relaying-Domain: iol.unh.edu
Date: Mon, 17 Jun 2024 22:44:46 -0700 (PDT)
Message-ID: <66711ece.170a0220.7066a.6b01SMTPIN_ADDED_MISSING@mx.google.com>
Received: from [172.17.0.2] (unknown [172.18.0.217])
 by postal.iol.unh.edu (Postfix) with ESMTP id ABF74605C380;
 Tue, 18 Jun 2024 01:44:45 -0400 (EDT)
Subject: |SUCCESS| pw141207 [PATCH] vhost: Fix the crash caused by accessing 
From: dpdklab@iol.unh.edu
To: Test Report <test-report@dpdk.org>
Cc: dpdk-test-reports@iol.unh.edu
In-Reply-To: <20240617033539.36949-1-15957197901@163.com>
References: <20240617033539.36949-1-15957197901@163.com>
Content-Type: text/plain
X-BeenThere: test-report@dpdk.org
X-Mailman-Version: 2.1.29
Precedence: list
List-Id: automatic DPDK test reports <test-report.dpdk.org>
List-Unsubscribe: <https://mails.dpdk.org/options/test-report>,
 <mailto:test-report-request@dpdk.org?subject=unsubscribe>
List-Archive: <http://mails.dpdk.org/archives/test-report/>
List-Post: <mailto:test-report@dpdk.org>
List-Help: <mailto:test-report-request@dpdk.org?subject=help>
List-Subscribe: <https://mails.dpdk.org/listinfo/test-report>,
 <mailto:test-report-request@dpdk.org?subject=subscribe>
Errors-To: test-report-bounces@dpdk.org

Test-Label: iol-compile-arm64-testing
Test-Status: SUCCESS
http://dpdk.org/patch/141207

_Testing PASS_

Submitter: zhaoxinxin <15957197901@163.com>
Date: Monday, June 17 2024 03:35:39 
DPDK git baseline: Repo:dpdk
  Branch: master
  CommitID:b303beb6a9b12df49124ee0701027ca72be7aee1

141207 --> testing pass

Test environment and result as below:

+----------------------------------------+--------------------+
|              Environment               | dpdk_meson_compile |
+========================================+====================+
| Ubuntu 20.04 ARM SVE                   | PASS               |
+----------------------------------------+--------------------+
| Debian 12 with MUSDK                   | PASS               |
+----------------------------------------+--------------------+
| RHEL9 (ARM)                            | PASS               |
+----------------------------------------+--------------------+
| Fedora 40 (ARM)                        | PASS               |
+----------------------------------------+--------------------+
| Fedora 37 (ARM)                        | PASS               |
+----------------------------------------+--------------------+
| Ubuntu 22.04 (ARM)                     | PASS               |
+----------------------------------------+--------------------+
| Debian 11 (Buster) (ARM)               | PASS               |
+----------------------------------------+--------------------+
| Ubuntu 24.04 (ARM)                     | PASS               |
+----------------------------------------+--------------------+
| Ubuntu 20.04 aarch32 GCC Cross Compile | PASS               |
+----------------------------------------+--------------------+
| Ubuntu 20.04 (ARM)                     | PASS               |
+----------------------------------------+--------------------+
| Fedora 39 (ARM)                        | PASS               |
+----------------------------------------+--------------------+
| Fedora 38 (ARM)                        | PASS               |
+----------------------------------------+--------------------+
| Ubuntu 20.04 ARM Clang Cross Compile   | PASS               |
+----------------------------------------+--------------------+
| Fedora 40 (ARM Clang)                  | PASS               |
+----------------------------------------+--------------------+
| Ubuntu 20.04 ARM GCC Cross Compile     | PASS               |
+----------------------------------------+--------------------+
| CentOS Stream 9 (ARM)                  | PASS               |
+----------------------------------------+--------------------+


Ubuntu 20.04 ARM SVE
	Kernel: 5.4.0-167-generic
	Compiler: gcc (Ubuntu 10.5.0-1ubuntu1~20.04) 10.5.0

Debian 12 with MUSDK
	Kernel: Container Host Kernel
	Compiler: gcc 12.2.0

RHEL9 (ARM)
	Kernel: Depends on container host
	Compiler: gcc 11.4.1

Fedora 40 (ARM)
	Kernel: Depends on container host
	Compiler: gcc 14.1.1

Fedora 37 (ARM)
	Kernel: Depends on container host
	Compiler: gcc 12.3.1

Ubuntu 22.04 (ARM)
	Kernel: Container Host Kernel
	Compiler: gcc 11.4.0

Debian 11 (Buster) (ARM)
	Kernel: Container Host Kernel
	Compiler: gcc 10.2.1

Ubuntu 24.04 (ARM)
	Kernel: 5.4.0-167-generic
	Compiler: gcc 13.2.0

Ubuntu 20.04 aarch32 GCC Cross Compile
	Kernel: 5.4.0-167-generic
	Compiler: gcc 9.4.0

Ubuntu 20.04 (ARM)
	Kernel: Container Host Kernel
	Compiler: gcc 9.4.0

Fedora 39 (ARM)
	Kernel: Depends on container host
	Compiler: gcc 13.2.1

Fedora 38 (ARM)
	Kernel: Depends on container host
	Compiler: gcc 13.2.1

Ubuntu 20.04 ARM Clang Cross Compile
	Kernel: 5.4.0-72-generic
	Compiler: clang 10.0.0-4ubuntu1

Fedora 40 (ARM Clang)
	Kernel: Depends on container host
	Compiler: clang 18.1.6

Ubuntu 20.04 ARM GCC Cross Compile
	Kernel: 5.4.0-167-generic
	Compiler: aarch64-linux-gnu-gcc (Ubuntu 9.4.0-1ubuntu1~20.04.2) 9.4.0

CentOS Stream 9 (ARM)
	Kernel: Container Host Kernel
	Compiler: gcc 11.4.1

To view detailed results, visit:
https://lab.dpdk.org/results/dashboard/patchsets/30210/

UNH-IOL DPDK Community Lab

To manage your email subscriptions, visit: 
https://lab.dpdk.org/results/dashboard/preferences/subscriptions/