From mboxrd@z Thu Jan  1 00:00:00 1970
Return-Path: <test-report-bounces@dpdk.org>
Received: from mails.dpdk.org (mails.dpdk.org [217.70.189.124])
	by inbox.dpdk.org (Postfix) with ESMTP id E603445487
	for <public@inbox.dpdk.org>; Tue, 18 Jun 2024 07:51:57 +0200 (CEST)
Received: from mails.dpdk.org (localhost [127.0.0.1])
	by mails.dpdk.org (Postfix) with ESMTP id 1DF7940E0F;
	Tue, 18 Jun 2024 07:51:57 +0200 (CEST)
Received: from mail-pg1-f226.google.com (mail-pg1-f226.google.com
 [209.85.215.226])
 by mails.dpdk.org (Postfix) with ESMTP id 7F96E4026B
 for <test-report@dpdk.org>; Tue, 18 Jun 2024 07:46:49 +0200 (CEST)
Received: by mail-pg1-f226.google.com with SMTP id
 41be03b00d2f7-6bfd4b88608so3561000a12.1
 for <test-report@dpdk.org>; Mon, 17 Jun 2024 22:46:49 -0700 (PDT)
DKIM-Signature: v=1; a=rsa-sha256; c=relaxed/relaxed;
 d=iol.unh.edu; s=unh-iol; t=1718689608; x=1719294408; darn=dpdk.org;
 h=references:in-reply-to:cc:to:from:subject:message-id:date:from:to
 :cc:subject:date:message-id:reply-to;
 bh=9FewjtyFbCZZW4mJwLCNZvgMtmM+ilYlCAUrX3wyldc=;
 b=WtViWF0E9tZmjBnCHnkRlMoDicArxlVQyNXJRpEhOC9DcRI0rS1sUvadqSNqMYjaLK
 xYuTTkBXu+o1vtPEVnUkJ5Ry3LFjlG9dHlrANMF/xF4u1OTTTUZ/0Yz5Ufcbn/tgitne
 3TRwHhhg+exWdbMa2a4ph/AEcZXU6Z1O4M/X4=
X-Google-DKIM-Signature: v=1; a=rsa-sha256; c=relaxed/relaxed;
 d=1e100.net; s=20230601; t=1718689608; x=1719294408;
 h=references:in-reply-to:cc:to:from:subject:message-id:date
 :x-gm-message-state:from:to:cc:subject:date:message-id:reply-to;
 bh=9FewjtyFbCZZW4mJwLCNZvgMtmM+ilYlCAUrX3wyldc=;
 b=vgoSoAp83UjCTcsVn16VBXKVlYAIFz8rrxUzzQ3Zle4lQ4VtNvO+ikffxsI9JpHMDg
 HX2xDTqZQ+ae+iqUCYwFUKmXK4+kmRlUza83U4PZFTHZs9Dx0vcP//u4CM+bCAOFibg6
 JCYG9VpufWELnnyX6KWtHyHadWQwlY8X8s7fRewL+Vi4BosfbPYEIMB4A86sMESPZqWg
 YAl16ASqHG/mhNKZJgZCWEdh1lak16URdQDcl3E+zm2db9IE+oBCkqXwEYMO4JzuDZjn
 GLnKTb9p/Hz8nbIshhWvgmcHTxpBIeCcDjk5PDFpQewNiJt6tE+bxmaBQOC33TwsYJm0
 qrMQ==
X-Gm-Message-State: AOJu0YyA2DH7Ti+JD7LmGLBTUHWuzmveDqPKbEt832YmVQ4N4f48br0L
 WhwioPDt2aE9aIPH7dtiXYIax6N+J5If53F5Opodo0UUlvuLXgYsBkyDhmllastZtFL5i9IxskW
 7ePO6Nxg3ZWZQclJmdNGFZ9nqdQ7txr9PzVTg+B74ci2UJ9tuL0DgelWw
X-Google-Smtp-Source: AGHT+IHKZ+8EQQ12BItq6UeIHpR5fXYSUaXHLHkWYLhl0mS9aWFyL+yJFPQ69sR876ImL2yAe+wjTOcDxyjQ
X-Received: by 2002:a05:6a20:3d82:b0:1af:4faf:e4a8 with SMTP id
 adf61e73a8af0-1bae7f0f0e7mr11910298637.33.1718689608574; 
 Mon, 17 Jun 2024 22:46:48 -0700 (PDT)
Received: from postal.iol.unh.edu (postal.iol.unh.edu.
 [2606:4100:3880:1234::84]) by smtp-relay.gmail.com with ESMTPS id
 d9443c01a7336-1f855eef4d4sm4326105ad.139.2024.06.17.22.46.48
 (version=TLS1_2 cipher=ECDHE-ECDSA-AES128-GCM-SHA256 bits=128/128);
 Mon, 17 Jun 2024 22:46:48 -0700 (PDT)
X-Relaying-Domain: iol.unh.edu
Date: Mon, 17 Jun 2024 22:46:48 -0700 (PDT)
Message-ID: <66711f48.170a0220.926ca.cca2SMTPIN_ADDED_MISSING@mx.google.com>
Received: from [172.21.0.6] (unknown [172.18.0.240])
 by postal.iol.unh.edu (Postfix) with ESMTP id A6070605C380;
 Tue, 18 Jun 2024 01:46:47 -0400 (EDT)
Subject: |SUCCESS| pw141207 [PATCH] vhost: Fix the crash caused by accessing 
From: dpdklab@iol.unh.edu
To: Test Report <test-report@dpdk.org>
Cc: dpdk-test-reports@iol.unh.edu
In-Reply-To: <20240617033539.36949-1-15957197901@163.com>
References: <20240617033539.36949-1-15957197901@163.com>
Content-Type: text/plain
X-BeenThere: test-report@dpdk.org
X-Mailman-Version: 2.1.29
Precedence: list
List-Id: automatic DPDK test reports <test-report.dpdk.org>
List-Unsubscribe: <https://mails.dpdk.org/options/test-report>,
 <mailto:test-report-request@dpdk.org?subject=unsubscribe>
List-Archive: <http://mails.dpdk.org/archives/test-report/>
List-Post: <mailto:test-report@dpdk.org>
List-Help: <mailto:test-report-request@dpdk.org?subject=help>
List-Subscribe: <https://mails.dpdk.org/listinfo/test-report>,
 <mailto:test-report-request@dpdk.org?subject=subscribe>
Errors-To: test-report-bounces@dpdk.org

Test-Label: iol-compile-arm64-testing
Test-Status: SUCCESS
http://dpdk.org/patch/141207

_Testing PASS_

Submitter: zhaoxinxin <15957197901@163.com>
Date: Monday, June 17 2024 03:35:39 
DPDK git baseline: Repo:dpdk
  Branch: master
  CommitID:b303beb6a9b12df49124ee0701027ca72be7aee1

141207 --> testing pass

Test environment and result as below:

+----------------------------------------+--------------------+
|              Environment               | dpdk_meson_compile |
+========================================+====================+
| Ubuntu 20.04 ARM SVE                   | PASS               |
+----------------------------------------+--------------------+
| Debian 12 with MUSDK                   | PASS               |
+----------------------------------------+--------------------+
| RHEL9 (ARM)                            | PASS               |
+----------------------------------------+--------------------+
| Fedora 40 (ARM)                        | PASS               |
+----------------------------------------+--------------------+
| Fedora 37 (ARM)                        | PASS               |
+----------------------------------------+--------------------+
| Ubuntu 22.04 (ARM)                     | PASS               |
+----------------------------------------+--------------------+
| Debian 11 (Buster) (ARM)               | PASS               |
+----------------------------------------+--------------------+
| Ubuntu 24.04 (ARM)                     | PASS               |
+----------------------------------------+--------------------+
| Ubuntu 20.04 aarch32 GCC Cross Compile | PASS               |
+----------------------------------------+--------------------+
| Ubuntu 20.04 (ARM)                     | PASS               |
+----------------------------------------+--------------------+
| Fedora 39 (ARM)                        | PASS               |
+----------------------------------------+--------------------+
| Fedora 38 (ARM)                        | PASS               |
+----------------------------------------+--------------------+
| Ubuntu 20.04 ARM Clang Cross Compile   | PASS               |
+----------------------------------------+--------------------+
| Fedora 40 (ARM Clang)                  | PASS               |
+----------------------------------------+--------------------+
| Ubuntu 20.04 ARM GCC Cross Compile     | PASS               |
+----------------------------------------+--------------------+
| CentOS Stream 9 (ARM)                  | PASS               |
+----------------------------------------+--------------------+


Ubuntu 20.04 ARM SVE
	Kernel: 5.4.0-167-generic
	Compiler: gcc (Ubuntu 10.5.0-1ubuntu1~20.04) 10.5.0

Debian 12 with MUSDK
	Kernel: Container Host Kernel
	Compiler: gcc 12.2.0

RHEL9 (ARM)
	Kernel: Depends on container host
	Compiler: gcc 11.4.1

Fedora 40 (ARM)
	Kernel: Depends on container host
	Compiler: gcc 14.1.1

Fedora 37 (ARM)
	Kernel: Depends on container host
	Compiler: gcc 12.3.1

Ubuntu 22.04 (ARM)
	Kernel: Container Host Kernel
	Compiler: gcc 11.4.0

Debian 11 (Buster) (ARM)
	Kernel: Container Host Kernel
	Compiler: gcc 10.2.1

Ubuntu 24.04 (ARM)
	Kernel: 5.4.0-167-generic
	Compiler: gcc 13.2.0

Ubuntu 20.04 aarch32 GCC Cross Compile
	Kernel: 5.4.0-167-generic
	Compiler: gcc 9.4.0

Ubuntu 20.04 (ARM)
	Kernel: Container Host Kernel
	Compiler: gcc 9.4.0

Fedora 39 (ARM)
	Kernel: Depends on container host
	Compiler: gcc 13.2.1

Fedora 38 (ARM)
	Kernel: Depends on container host
	Compiler: gcc 13.2.1

Ubuntu 20.04 ARM Clang Cross Compile
	Kernel: 5.4.0-72-generic
	Compiler: clang 10.0.0-4ubuntu1

Fedora 40 (ARM Clang)
	Kernel: Depends on container host
	Compiler: clang 18.1.6

Ubuntu 20.04 ARM GCC Cross Compile
	Kernel: 5.4.0-167-generic
	Compiler: aarch64-linux-gnu-gcc (Ubuntu 9.4.0-1ubuntu1~20.04.2) 9.4.0

CentOS Stream 9 (ARM)
	Kernel: Container Host Kernel
	Compiler: gcc 11.4.1

To view detailed results, visit:
https://lab.dpdk.org/results/dashboard/patchsets/30210/

UNH-IOL DPDK Community Lab

To manage your email subscriptions, visit: 
https://lab.dpdk.org/results/dashboard/preferences/subscriptions/