From mboxrd@z Thu Jan  1 00:00:00 1970
Return-Path: <test-report-bounces@dpdk.org>
Received: from mails.dpdk.org (mails.dpdk.org [217.70.189.124])
	by inbox.dpdk.org (Postfix) with ESMTP id 19F0C4548C
	for <public@inbox.dpdk.org>; Tue, 18 Jun 2024 12:19:24 +0200 (CEST)
Received: from mails.dpdk.org (localhost [127.0.0.1])
	by mails.dpdk.org (Postfix) with ESMTP id 242D040DD5;
	Tue, 18 Jun 2024 12:19:24 +0200 (CEST)
Received: from mail-qk1-f225.google.com (mail-qk1-f225.google.com
 [209.85.222.225])
 by mails.dpdk.org (Postfix) with ESMTP id ABD8040684
 for <test-report@dpdk.org>; Tue, 18 Jun 2024 12:19:22 +0200 (CEST)
Received: by mail-qk1-f225.google.com with SMTP id
 af79cd13be357-7955ddc6516so374955485a.1
 for <test-report@dpdk.org>; Tue, 18 Jun 2024 03:19:22 -0700 (PDT)
DKIM-Signature: v=1; a=rsa-sha256; c=relaxed/relaxed;
 d=iol.unh.edu; s=unh-iol; t=1718705962; x=1719310762; darn=dpdk.org;
 h=references:in-reply-to:cc:to:from:subject:message-id:date:from:to
 :cc:subject:date:message-id:reply-to;
 bh=PLYDUGJgUp93OHsfhRjGaMaZqqPSb/8dhM2mxrvnxYY=;
 b=BFNr0+K6kQ14IIE0QKXafy9isQgO20asdemQvw9F3GW/oH/gk8dqJotsWzFGirivmO
 u2eTiZgtg1/ryoDLS/uMaBrT28atfjkk5Wnss8BhOrwGHEEYC8VDrCm5YdhxneCYyNBq
 RmeSPfodKwBlHRJWFQDE80PxHYbMVUI9WNn6g=
X-Google-DKIM-Signature: v=1; a=rsa-sha256; c=relaxed/relaxed;
 d=1e100.net; s=20230601; t=1718705962; x=1719310762;
 h=references:in-reply-to:cc:to:from:subject:message-id:date
 :x-gm-message-state:from:to:cc:subject:date:message-id:reply-to;
 bh=PLYDUGJgUp93OHsfhRjGaMaZqqPSb/8dhM2mxrvnxYY=;
 b=jUF+EY9F+ZKfUOqUoS7HkvOD0EmEUbVJk9xeG6Zoe7TWn9q2km/Xrg0bCMVnhW4/c3
 jLIuzbae3tfc2eK/+JFlEbxAAxxw+t0oHZKvG6WCaM5ECsNtYqbf4VpsXZqnHPucMaeu
 /WclIRsqKPV0w0L8y7mYa2yhRdY+f8tTU+c4tdv1YzF7a6oraPvaVImKLJY7urtrT8Ih
 0PB63tuvCJHB4lVWHzeApDJht8pUhkQvQ8mFUa+vcWq7aykOiLKxuJf5RcMG6tCrcXQ4
 yLAvS5oMCl1cdIPSotgBzubrmIMJXQTkaXtGzLlM3ssHQ6BXSp1ckc8i0cP+hYdL+8ZB
 y/Aw==
X-Gm-Message-State: AOJu0Yze9d7ZjkLWO+Fd65uLCTb46g5rWHtY4KRDHp279HT244w7F4Qk
 vMfVHhmUkmWmqVY/x+mvspKurhrtBIlMAk+a43QumcStMr3HuFQJFMbbRQifWADMFGyTSl/B8kC
 QHlKJrXkX/er8mzV+pksj8DBJi9OhhStkgREt7Luo
X-Google-Smtp-Source: AGHT+IGGljZknszApzQBT1GfTU2JVuX9SWwy4h34SecsxeIAxyGImbGisgei9ywnt0ZvZObJ0lPX/gG2nWXz
X-Received: by 2002:a0c:ed4b:0:b0:6b2:bc45:a7db with SMTP id
 6a1803df08f44-6b2bc45a867mr97020006d6.2.1718705962035; 
 Tue, 18 Jun 2024 03:19:22 -0700 (PDT)
Received: from postal.iol.unh.edu (postal.iol.unh.edu. [132.177.123.84])
 by smtp-relay.gmail.com with ESMTPS id
 6a1803df08f44-6b2a5b69898sm5213066d6.77.2024.06.18.03.19.21
 (version=TLS1_2 cipher=ECDHE-ECDSA-AES128-GCM-SHA256 bits=128/128);
 Tue, 18 Jun 2024 03:19:22 -0700 (PDT)
X-Relaying-Domain: iol.unh.edu
Date: Tue, 18 Jun 2024 03:19:22 -0700 (PDT)
Message-ID: <66715f2a.050a0220.e923a.3b4cSMTPIN_ADDED_MISSING@mx.google.com>
Received: from [172.21.0.6] (unknown [172.18.0.240])
 by postal.iol.unh.edu (Postfix) with ESMTP id 7CE84605C373;
 Tue, 18 Jun 2024 06:19:21 -0400 (EDT)
Subject: |SUCCESS| pw141230 [PATCH] [v3] ethdev: Add link_speed lanes support
From: dpdklab@iol.unh.edu
To: Test Report <test-report@dpdk.org>
Cc: dpdk-test-reports@iol.unh.edu
In-Reply-To: <20240617203448.97972-1-damodharam.ammepalli@broadcom.com>
References: <20240617203448.97972-1-damodharam.ammepalli@broadcom.com>
Content-Type: text/plain
X-BeenThere: test-report@dpdk.org
X-Mailman-Version: 2.1.29
Precedence: list
List-Id: automatic DPDK test reports <test-report.dpdk.org>
List-Unsubscribe: <https://mails.dpdk.org/options/test-report>,
 <mailto:test-report-request@dpdk.org?subject=unsubscribe>
List-Archive: <http://mails.dpdk.org/archives/test-report/>
List-Post: <mailto:test-report@dpdk.org>
List-Help: <mailto:test-report-request@dpdk.org?subject=help>
List-Subscribe: <https://mails.dpdk.org/listinfo/test-report>,
 <mailto:test-report-request@dpdk.org?subject=subscribe>
Errors-To: test-report-bounces@dpdk.org

Test-Label: iol-abi-testing
Test-Status: SUCCESS
http://dpdk.org/patch/141230

_Testing PASS_

Submitter: Damodharam Ammepalli <damodharam.ammepalli@broadcom.com>
Date: Monday, June 17 2024 20:34:50 
DPDK git baseline: Repo:dpdk
  Branch: master
  CommitID:fbba6db3640f9f623c29c452e1a6b057073e81d2

141230 --> testing pass

Test environment and result as below:

+------------------+----------+
|   Environment    | abi_test |
+==================+==========+
| Debian Bullseye  | PASS     |
+------------------+----------+
| CentOS Stream 8  | PASS     |
+------------------+----------+
| Fedora 39        | PASS     |
+------------------+----------+
| openSUSE Leap 15 | PASS     |
+------------------+----------+
| Debian 12        | PASS     |
+------------------+----------+
| CentOS Stream 9  | PASS     |
+------------------+----------+
| Fedora 38        | PASS     |
+------------------+----------+
| Fedora 37        | PASS     |
+------------------+----------+
| Fedora 40        | PASS     |
+------------------+----------+
| RHEL8            | PASS     |
+------------------+----------+
| RHEL9            | PASS     |
+------------------+----------+
| Ubuntu 22.04     | PASS     |
+------------------+----------+
| Ubuntu 24.04     | PASS     |
+------------------+----------+


Debian Bullseye
	Kernel: 5.4.0-167-generic
	Compiler: gcc 10.2.1-6

CentOS Stream 8
	Kernel: 5.4.0-167-generic
	Compiler: gcc 8.5.0 20210514

Fedora 39
	Kernel: Depends on container host
	Compiler: clang 17.0.6

openSUSE Leap 15
	Kernel: 5.4.0-167-generic
	Compiler: gcc 7.5.0

Debian 12
	Kernel: Container Host Kernel
	Compiler: gcc 12.2.0

CentOS Stream 9
	Kernel: 5.4.0-167-generic
	Compiler: gcc 11.4.1 20230605

Fedora 38
	Kernel: Depends on container host
	Compiler: gcc 13.2.1

Fedora 37
	Kernel: Depends on container host system
	Compiler: gcc 12.3.1

Fedora 40
	Kernel: Depends on container host
	Compiler: clang 18.1.6

RHEL8
	Kernel: 5.4.0-167-generic
	Compiler: gcc 8.5.0 20210514 (Red Hat 8.5.0-20)

RHEL9
	Kernel: Depends on container host
	Compiler: gcc 11.4.1

Ubuntu 22.04
	Kernel: 5.4.0-167-generic
	Compiler: gcc 11.4.0

Ubuntu 24.04
	Kernel: 5.4.0-167-generic
	Compiler: gcc 13.2.0

To view detailed results, visit:
https://lab.dpdk.org/results/dashboard/patchsets/30217/

UNH-IOL DPDK Community Lab

To manage your email subscriptions, visit: 
https://lab.dpdk.org/results/dashboard/preferences/subscriptions/