From mboxrd@z Thu Jan  1 00:00:00 1970
Return-Path: <test-report-bounces@dpdk.org>
Received: from mails.dpdk.org (mails.dpdk.org [217.70.189.124])
	by inbox.dpdk.org (Postfix) with ESMTP id 7DB864548C
	for <public@inbox.dpdk.org>; Tue, 18 Jun 2024 13:02:02 +0200 (CEST)
Received: from mails.dpdk.org (localhost [127.0.0.1])
	by mails.dpdk.org (Postfix) with ESMTP id 7B10140DD5;
	Tue, 18 Jun 2024 13:02:02 +0200 (CEST)
Received: from mail-pl1-f227.google.com (mail-pl1-f227.google.com
 [209.85.214.227])
 by mails.dpdk.org (Postfix) with ESMTP id 381A240684
 for <test-report@dpdk.org>; Tue, 18 Jun 2024 13:02:01 +0200 (CEST)
Received: by mail-pl1-f227.google.com with SMTP id
 d9443c01a7336-1f6b0a40721so38841805ad.2
 for <test-report@dpdk.org>; Tue, 18 Jun 2024 04:02:01 -0700 (PDT)
DKIM-Signature: v=1; a=rsa-sha256; c=relaxed/relaxed;
 d=iol.unh.edu; s=unh-iol; t=1718708520; x=1719313320; darn=dpdk.org;
 h=references:in-reply-to:cc:to:from:subject:message-id:date:from:to
 :cc:subject:date:message-id:reply-to;
 bh=R3uw8nQgLdj3oruDliTBkcpq40IPAhNwYzKfg+mLVCY=;
 b=fRbNjwbSOWAh18qvF/7S+c9TExbj/P+9FLsmU7ABaOKWu2cyb/aCz9NlHdkDIZ4QRP
 3DJ/jNbUvgxtbIski3Wh1EijPHkpFU4NKNo7o/9nMC3YMqldl7X3vvH9u30tA5qoo9Oo
 24N9HsBFPiq+hU2/cF9siUehDQY1VCRDEtggU=
X-Google-DKIM-Signature: v=1; a=rsa-sha256; c=relaxed/relaxed;
 d=1e100.net; s=20230601; t=1718708520; x=1719313320;
 h=references:in-reply-to:cc:to:from:subject:message-id:date
 :x-gm-message-state:from:to:cc:subject:date:message-id:reply-to;
 bh=R3uw8nQgLdj3oruDliTBkcpq40IPAhNwYzKfg+mLVCY=;
 b=SWRbfsrIgnoOLGUiyozOqtD1x1l0RXZBFl+3o17js/VkW1SVMKSpznJtsttY6o3Qfu
 BfbrIa68O63WbDYQHCpNz/NnEjs5b88O19Dyp8qvRsxEw08KQuWHswhL4eaEp/WgZZIF
 R5KfCWfyF7TiAiswsKMFcGYmZ2BxRaL2oBdhokc7FJK9g2EI3J/Gv12lB+ARyv9u6LVj
 rPk4iyifY6uVr3GtFU+KhvVXSi4YrjLIkQAKngXg8HLcj82ael8Ei3UamQoMU9BImLdR
 CtA8I/hYAl6O/MAu+Wzuqwnktj8bpqik9WYa3JOy0IqUhMG62g4sePvwDJCLKG02NpA8
 JMYg==
X-Gm-Message-State: AOJu0Yzd6eiOq1a1xKASTCPKTEzqBhg3T9uBok5NcO9GcibL1sN+82Wi
 VkFoECbQeJxFiq7+BAcWnVwPsEwzyxrQutF6lq+vnWX+UKGCaQfo2gR9cXgzc/YR455ZB2G8Sxw
 OHGoqT/x2GWyikqJ84ykUHvEeGFkh6SQAIIkg/eUxmSMKNU53IwerPd42
X-Google-Smtp-Source: AGHT+IFSDqtbtzTSmE+Qt7kQ3ng9Rzu8lrNp532FEi/IA2nS98agDFSTceR/lS2r7PWz2iUs6mm2D/TFToUi
X-Received: by 2002:a17:902:64c1:b0:1e4:fd4:48d0 with SMTP id
 d9443c01a7336-1f862b26181mr112635745ad.62.1718708518800; 
 Tue, 18 Jun 2024 04:01:58 -0700 (PDT)
Received: from postal.iol.unh.edu (postal.iol.unh.edu.
 [2606:4100:3880:1234::84]) by smtp-relay.gmail.com with ESMTPS id
 d9443c01a7336-1f855e201f7sm4403125ad.5.2024.06.18.04.01.58
 (version=TLS1_2 cipher=ECDHE-ECDSA-AES128-GCM-SHA256 bits=128/128);
 Tue, 18 Jun 2024 04:01:58 -0700 (PDT)
X-Relaying-Domain: iol.unh.edu
Date: Tue, 18 Jun 2024 04:01:58 -0700 (PDT)
Message-ID: <66716926.170a0220.40869.e397SMTPIN_ADDED_MISSING@mx.google.com>
Received: from [172.21.0.7] (unknown [172.18.0.240])
 by postal.iol.unh.edu (Postfix) with ESMTP id A65BA605C373;
 Tue, 18 Jun 2024 07:01:57 -0400 (EDT)
Subject: |SUCCESS| pw141230 [PATCH] [v3] ethdev: Add link_speed lanes support
From: dpdklab@iol.unh.edu
To: Test Report <test-report@dpdk.org>
Cc: dpdk-test-reports@iol.unh.edu
In-Reply-To: <20240617203448.97972-1-damodharam.ammepalli@broadcom.com>
References: <20240617203448.97972-1-damodharam.ammepalli@broadcom.com>
Content-Type: text/plain
X-BeenThere: test-report@dpdk.org
X-Mailman-Version: 2.1.29
Precedence: list
List-Id: automatic DPDK test reports <test-report.dpdk.org>
List-Unsubscribe: <https://mails.dpdk.org/options/test-report>,
 <mailto:test-report-request@dpdk.org?subject=unsubscribe>
List-Archive: <http://mails.dpdk.org/archives/test-report/>
List-Post: <mailto:test-report@dpdk.org>
List-Help: <mailto:test-report-request@dpdk.org?subject=help>
List-Subscribe: <https://mails.dpdk.org/listinfo/test-report>,
 <mailto:test-report-request@dpdk.org?subject=subscribe>
Errors-To: test-report-bounces@dpdk.org

Test-Label: iol-compile-amd64-testing
Test-Status: SUCCESS
http://dpdk.org/patch/141230

_Testing PASS_

Submitter: Damodharam Ammepalli <damodharam.ammepalli@broadcom.com>
Date: Monday, June 17 2024 20:34:50 
DPDK git baseline: Repo:dpdk
  Branch: master
  CommitID:fbba6db3640f9f623c29c452e1a6b057073e81d2

141230 --> testing pass

Test environment and result as below:

+---------------------+--------------------+----------------------+------------------+-------------------+-------------------+
|     Environment     | dpdk_meson_compile | dpdk_mingw64_compile | dpdk_compile_ovs | dpdk_compile_spdk | dpdk_msvc_compile |
+=====================+====================+======================+==================+===================+===================+
| Windows Server 2019 | PASS               | PASS                 | SKIPPED          | SKIPPED           | SKIPPED           |
+---------------------+--------------------+----------------------+------------------+-------------------+-------------------+
| Windows Server 2022 | PASS               | PASS                 | SKIPPED          | SKIPPED           | PASS              |
+---------------------+--------------------+----------------------+------------------+-------------------+-------------------+
| CentOS Stream 9     | PASS               | SKIPPED              | PASS             | PASS              | SKIPPED           |
+---------------------+--------------------+----------------------+------------------+-------------------+-------------------+
| FreeBSD 13.3        | PASS               | SKIPPED              | SKIPPED          | SKIPPED           | SKIPPED           |
+---------------------+--------------------+----------------------+------------------+-------------------+-------------------+
| Debian 12           | PASS               | SKIPPED              | PASS             | PASS              | SKIPPED           |
+---------------------+--------------------+----------------------+------------------+-------------------+-------------------+
| CentOS Stream 8     | PASS               | SKIPPED              | PASS             | PASS              | SKIPPED           |
+---------------------+--------------------+----------------------+------------------+-------------------+-------------------+
| Fedora 37           | PASS               | SKIPPED              | PASS             | PASS              | SKIPPED           |
+---------------------+--------------------+----------------------+------------------+-------------------+-------------------+
| FreeBSD 14.1        | PASS               | SKIPPED              | SKIPPED          | SKIPPED           | SKIPPED           |
+---------------------+--------------------+----------------------+------------------+-------------------+-------------------+
| Fedora 38           | PASS               | SKIPPED              | PASS             | PASS              | SKIPPED           |
+---------------------+--------------------+----------------------+------------------+-------------------+-------------------+
| Debian Bullseye     | PASS               | SKIPPED              | PASS             | PASS              | SKIPPED           |
+---------------------+--------------------+----------------------+------------------+-------------------+-------------------+
| RHEL8               | PASS               | SKIPPED              | PASS             | SKIPPED           | SKIPPED           |
+---------------------+--------------------+----------------------+------------------+-------------------+-------------------+
| RHEL9               | PASS               | SKIPPED              | PASS             | SKIPPED           | SKIPPED           |
+---------------------+--------------------+----------------------+------------------+-------------------+-------------------+
| openSUSE Leap 15    | PASS               | SKIPPED              | PASS             | SKIPPED           | SKIPPED           |
+---------------------+--------------------+----------------------+------------------+-------------------+-------------------+
| Fedora 40           | PASS               | SKIPPED              | PASS             | SKIPPED           | SKIPPED           |
+---------------------+--------------------+----------------------+------------------+-------------------+-------------------+
| Fedora 39           | PASS               | SKIPPED              | PASS             | PASS              | SKIPPED           |
+---------------------+--------------------+----------------------+------------------+-------------------+-------------------+
| Ubuntu 22.04        | PASS               | SKIPPED              | PASS             | PASS              | SKIPPED           |
+---------------------+--------------------+----------------------+------------------+-------------------+-------------------+
| Ubuntu 20.04        | PASS               | SKIPPED              | PASS             | SKIPPED           | SKIPPED           |
+---------------------+--------------------+----------------------+------------------+-------------------+-------------------+


Windows Server 2019
	Kernel: 10.0.17763
	Compiler: clang 14.0 and gcc 8.1.0 (MinGW)

Windows Server 2022
	Kernel: 10.0.20348.2031
	Compiler: clang 15.0.7, gcc 8.1.0 (MinGW), and MSVC VS 17.9

CentOS Stream 9
	Kernel: 5.4.0-167-generic
	Compiler: gcc 11.4.1 20230605

FreeBSD 13.3
	Kernel: 13.3-RELEASE-p1
	Compiler: clang 17.0.6

Debian 12
	Kernel: Container Host Kernel
	Compiler: gcc 12.2.0

CentOS Stream 8
	Kernel: 5.4.0-167-generic
	Compiler: gcc 8.5.0 20210514

Fedora 37
	Kernel: Depends on container host system
	Compiler: gcc 12.3.1

FreeBSD 14.1
	Kernel: 14.1
	Compiler: clang 18.1.5

Fedora 38
	Kernel: Depends on container host
	Compiler: gcc 13.2.1

Debian Bullseye
	Kernel: 5.4.0-167-generic
	Compiler: gcc 10.2.1-6

RHEL8
	Kernel: 5.4.0-167-generic
	Compiler: gcc 8.5.0 20210514 (Red Hat 8.5.0-20)

RHEL9
	Kernel: Depends on container host
	Compiler: gcc 11.4.1

openSUSE Leap 15
	Kernel: 5.4.0-167-generic
	Compiler: gcc 7.5.0

Fedora 40
	Kernel: Depends on container host
	Compiler: clang 18.1.6

Fedora 39
	Kernel: Depends on container host
	Compiler: clang 17.0.6

Ubuntu 22.04
	Kernel: 5.4.0-167-generic
	Compiler: gcc 11.4.0

Ubuntu 20.04
	Kernel: 5.4.0-167-generic
	Compiler: gcc 9.4.0-1ubuntu1~20.04.1

To view detailed results, visit:
https://lab.dpdk.org/results/dashboard/patchsets/30217/

UNH-IOL DPDK Community Lab

To manage your email subscriptions, visit: 
https://lab.dpdk.org/results/dashboard/preferences/subscriptions/