From mboxrd@z Thu Jan  1 00:00:00 1970
Return-Path: <test-report-bounces@dpdk.org>
Received: from mails.dpdk.org (mails.dpdk.org [217.70.189.124])
	by inbox.dpdk.org (Postfix) with ESMTP id 43D6E4548D
	for <public@inbox.dpdk.org>; Tue, 18 Jun 2024 15:04:16 +0200 (CEST)
Received: from mails.dpdk.org (localhost [127.0.0.1])
	by mails.dpdk.org (Postfix) with ESMTP id 188674064A;
	Tue, 18 Jun 2024 15:04:16 +0200 (CEST)
Received: from mail-pl1-f228.google.com (mail-pl1-f228.google.com
 [209.85.214.228])
 by mails.dpdk.org (Postfix) with ESMTP id BFF79402B4
 for <test-report@dpdk.org>; Tue, 18 Jun 2024 15:04:14 +0200 (CEST)
Received: by mail-pl1-f228.google.com with SMTP id
 d9443c01a7336-1f6fada63a6so43765355ad.3
 for <test-report@dpdk.org>; Tue, 18 Jun 2024 06:04:14 -0700 (PDT)
DKIM-Signature: v=1; a=rsa-sha256; c=relaxed/relaxed;
 d=iol.unh.edu; s=unh-iol; t=1718715854; x=1719320654; darn=dpdk.org;
 h=references:in-reply-to:cc:to:from:subject:message-id:date:from:to
 :cc:subject:date:message-id:reply-to;
 bh=gHkYxZMDW6upIBYW1fLHC1hbqGp4xpPQBI/yqR3mig4=;
 b=LgSanco16tPTnbPfSZ3x+SS+0FlarvaY86UkPqxd91T81DysRpcRXoUmfeUKsGrWeb
 nrJ0OF6jCIHMcIGkJftolIf9ll5OiDhTmHeQxm5nrOi50kYumIHT9sPnRLoJ1KA8x2tt
 1iexu/pEieRu7KIlLp8k2cqo+WdvMYZpoGU38=
X-Google-DKIM-Signature: v=1; a=rsa-sha256; c=relaxed/relaxed;
 d=1e100.net; s=20230601; t=1718715854; x=1719320654;
 h=references:in-reply-to:cc:to:from:subject:message-id:date
 :x-gm-message-state:from:to:cc:subject:date:message-id:reply-to;
 bh=gHkYxZMDW6upIBYW1fLHC1hbqGp4xpPQBI/yqR3mig4=;
 b=JVtRr5g2VNeuvrTp/e5GkP6kJVlnXG539f0huV9VQ715lx843FOOFHuM9WskzB2PmY
 7YRdfvYmsbNE6dklENB+bSP3Soh/CILfub/r4Q6DhFoj3rZwol6jEslnNdFsyWBOSENG
 H35Lkfzn5zGrCbMU/uT16k7utZHkAIi6PNLtVQ+7UvYV0e0ffCSdfY8l8AGRhrb9iDuD
 k0seBsahOdBdyNzWU+N5b7LKty3NzVpGcmyjNaGQOD+J/Blq340NX+o4C1PBlUsEpmON
 IYFau+Wv9lWd9vS+1aSCPxqKL1MkCv3SFy5EBXwkQHQyA+UClvAixDgG8lHmBuMyWWt7
 WCfA==
X-Gm-Message-State: AOJu0YztIZZ1jjEA3rd0JgaYK6vHJJSNZLB+OhWhQgh1bkOJUOOdGX8x
 qTTuFxCMlSnsT8HiWJIxHW2OW7pKxA6RY9Meyt4yCJFgXy8f7H/wgR2RyKLuStqiPDS0KQ0U1q4
 ROCAjU/e+NRTwBruNmWqrLzEyw0kvcT8M7SZ8Nxei
X-Google-Smtp-Source: AGHT+IH4QzDuZWjMG3kpigMEEu92aLl+bzWaVznSqQIWsJYJCTjxbPVMtjiq4u8oLJEMKUFhsMc8Sb8Td8Pk
X-Received: by 2002:a17:902:b18e:b0:1f6:fe0d:ad47 with SMTP id
 d9443c01a7336-1f8629fed78mr106740015ad.62.1718715853880; 
 Tue, 18 Jun 2024 06:04:13 -0700 (PDT)
Received: from postal.iol.unh.edu (postal.iol.unh.edu. [132.177.123.84])
 by smtp-relay.gmail.com with ESMTPS id
 d9443c01a7336-1f99a5d7e81sm579525ad.124.2024.06.18.06.04.13
 (version=TLS1_2 cipher=ECDHE-ECDSA-AES128-GCM-SHA256 bits=128/128);
 Tue, 18 Jun 2024 06:04:13 -0700 (PDT)
X-Relaying-Domain: iol.unh.edu
Date: Tue, 18 Jun 2024 06:04:13 -0700 (PDT)
Message-ID: <667185cd.170a0220.9edf8.454fSMTPIN_ADDED_MISSING@mx.google.com>
Received: from [172.21.0.6] (unknown [172.18.0.240])
 by postal.iol.unh.edu (Postfix) with ESMTP id 0C213605C373;
 Tue, 18 Jun 2024 09:04:13 -0400 (EDT)
Subject: |SUCCESS| pw141232-141249 [PATCH] [19/19] net/ngbe: disable LLDP by 
From: dpdklab@iol.unh.edu
To: Test Report <test-report@dpdk.org>
Cc: dpdk-test-reports@iol.unh.edu
In-Reply-To: <20240618071150.21564-20-jiawenwu@trustnetic.com>
References: <20240618071150.21564-20-jiawenwu@trustnetic.com>
Content-Type: text/plain
X-BeenThere: test-report@dpdk.org
X-Mailman-Version: 2.1.29
Precedence: list
List-Id: automatic DPDK test reports <test-report.dpdk.org>
List-Unsubscribe: <https://mails.dpdk.org/options/test-report>,
 <mailto:test-report-request@dpdk.org?subject=unsubscribe>
List-Archive: <http://mails.dpdk.org/archives/test-report/>
List-Post: <mailto:test-report@dpdk.org>
List-Help: <mailto:test-report-request@dpdk.org?subject=help>
List-Subscribe: <https://mails.dpdk.org/listinfo/test-report>,
 <mailto:test-report-request@dpdk.org?subject=subscribe>
Errors-To: test-report-bounces@dpdk.org

Test-Label: iol-abi-testing
Test-Status: SUCCESS
http://dpdk.org/patch/141249

_Testing PASS_

Submitter: Jiawen Wu <jiawenwu@trustnetic.com>
Date: Tuesday, June 18 2024 07:11:50 
DPDK git baseline: Repo:dpdk
  Branch: master
  CommitID:fbba6db3640f9f623c29c452e1a6b057073e81d2

141232-141249 --> testing pass

Test environment and result as below:

+------------------+----------+
|   Environment    | abi_test |
+==================+==========+
| Debian Bullseye  | PASS     |
+------------------+----------+
| CentOS Stream 8  | PASS     |
+------------------+----------+
| CentOS Stream 9  | PASS     |
+------------------+----------+
| Fedora 37        | PASS     |
+------------------+----------+
| Fedora 38        | PASS     |
+------------------+----------+
| Fedora 40        | PASS     |
+------------------+----------+
| Debian 12        | PASS     |
+------------------+----------+
| RHEL8            | PASS     |
+------------------+----------+
| RHEL9            | PASS     |
+------------------+----------+
| Ubuntu 22.04     | PASS     |
+------------------+----------+
| Fedora 39        | PASS     |
+------------------+----------+
| Ubuntu 24.04     | PASS     |
+------------------+----------+
| openSUSE Leap 15 | PASS     |
+------------------+----------+


Debian Bullseye
	Kernel: 5.4.0-167-generic
	Compiler: gcc 10.2.1-6

CentOS Stream 8
	Kernel: 5.4.0-167-generic
	Compiler: gcc 8.5.0 20210514

CentOS Stream 9
	Kernel: 5.4.0-167-generic
	Compiler: gcc 11.4.1 20230605

Fedora 37
	Kernel: Depends on container host system
	Compiler: gcc 12.3.1

Fedora 38
	Kernel: Depends on container host
	Compiler: clang 16.0.6

Fedora 40
	Kernel: Depends on container host
	Compiler: clang 18.1.6

Debian 12
	Kernel: Container Host Kernel
	Compiler: gcc 12.2.0

RHEL8
	Kernel: 5.4.0-167-generic
	Compiler: gcc 8.5.0 20210514 (Red Hat 8.5.0-20)

RHEL9
	Kernel: Depends on container host
	Compiler: gcc 11.4.1

Ubuntu 22.04
	Kernel: 5.4.0-167-generic
	Compiler: gcc 11.4.0

Fedora 39
	Kernel: Depends on container host
	Compiler: clang 17.0.6

Ubuntu 24.04
	Kernel: 5.4.0-167-generic
	Compiler: gcc 13.2.0

openSUSE Leap 15
	Kernel: 5.4.0-167-generic
	Compiler: gcc 7.5.0

To view detailed results, visit:
https://lab.dpdk.org/results/dashboard/patchsets/30219/

UNH-IOL DPDK Community Lab

To manage your email subscriptions, visit: 
https://lab.dpdk.org/results/dashboard/preferences/subscriptions/