From mboxrd@z Thu Jan  1 00:00:00 1970
Return-Path: <test-report-bounces@dpdk.org>
Received: from mails.dpdk.org (mails.dpdk.org [217.70.189.124])
	by inbox.dpdk.org (Postfix) with ESMTP id 861794548E
	for <public@inbox.dpdk.org>; Tue, 18 Jun 2024 16:13:50 +0200 (CEST)
Received: from mails.dpdk.org (localhost [127.0.0.1])
	by mails.dpdk.org (Postfix) with ESMTP id 8505140DD8;
	Tue, 18 Jun 2024 16:13:50 +0200 (CEST)
Received: from mail-il1-f228.google.com (mail-il1-f228.google.com
 [209.85.166.228])
 by mails.dpdk.org (Postfix) with ESMTP id 850A5402B4
 for <test-report@dpdk.org>; Tue, 18 Jun 2024 16:13:49 +0200 (CEST)
Received: by mail-il1-f228.google.com with SMTP id
 e9e14a558f8ab-36dd6110186so20338615ab.0
 for <test-report@dpdk.org>; Tue, 18 Jun 2024 07:13:49 -0700 (PDT)
DKIM-Signature: v=1; a=rsa-sha256; c=relaxed/relaxed;
 d=iol.unh.edu; s=unh-iol; t=1718720029; x=1719324829; darn=dpdk.org;
 h=references:in-reply-to:cc:to:from:subject:message-id:date:from:to
 :cc:subject:date:message-id:reply-to;
 bh=OefMI6f0VSV/P9oD5IxOxP4JanWDcL8zB4twtOev25Y=;
 b=AOrTZ4NWiYyCUmYhK5BJo4sMcNT2ynkYH3ufkqDEHAxjRDxy2o4Yx23tcPX2iOeIwl
 v2gaaL4UsSVpFTb0y06lmgOeLtwo5TZKSkPI0jmXRcZZcP7Pnz20o2wXkRmbAcnfukGF
 xP6Xoh00k75nYPai7gPohVxfHtNClqnZjDmNQ=
X-Google-DKIM-Signature: v=1; a=rsa-sha256; c=relaxed/relaxed;
 d=1e100.net; s=20230601; t=1718720029; x=1719324829;
 h=references:in-reply-to:cc:to:from:subject:message-id:date
 :x-gm-message-state:from:to:cc:subject:date:message-id:reply-to;
 bh=OefMI6f0VSV/P9oD5IxOxP4JanWDcL8zB4twtOev25Y=;
 b=P4yToqZW/LCq8JAyIV7EnDrlHzdU2nd7W7dXNoUW17BFL9Oa+EkY4Whde1gCdXIMcw
 tjV3C0TVwpD8Qv934FA4OcUPLHzmlxr3iFnk2DpTwhD8Qqr1/BELFoZIdSPJbn7KgWMI
 mc7e+Yt7quBQuVrSWFJremtHdXlCS+A6jdPz1qYjuFoEwjt4u83uYJ2C0DenRC1AZC7W
 5m8pVO4QI0NYByolVPD0xcIfZEJSfGiWQr95SJFVpU5WhUdXLB5RKJCsXOwb97Xt6a3V
 xraGBMgPAzsdCZgn8DmWJ3wnAL3ajdLV9MraInB/c+QvM4EtMgNWyxWUEPcY/6CS4yQw
 FNMQ==
X-Gm-Message-State: AOJu0Yyc7ud/xqXXj9j3RuB1UDRHUrT1qn/vHKU339JmNm37g3FOO1g8
 aWH6HQuv+rROnGKDz47ERCRmxtvAKtdubyRX+TmqK7xCTIDf8xLt4ivBQW/853LjMRVH6HszP46
 nSkik47Zws7TYEUQ5GXYeEYcTOp5JAMJ9orON/+4j
X-Google-Smtp-Source: AGHT+IGzx4OaiMFFySTDzf3qXZBE0onBrHdrkyqSbJH14wgg/URR85gHjg+yLdP69WYOEl3PnmosHaGcFC6o
X-Received: by 2002:a05:6e02:17c7:b0:375:ca62:a410 with SMTP id
 e9e14a558f8ab-375e0e186f5mr142835605ab.8.1718720028833; 
 Tue, 18 Jun 2024 07:13:48 -0700 (PDT)
Received: from postal.iol.unh.edu (postal.iol.unh.edu. [132.177.123.84])
 by smtp-relay.gmail.com with ESMTPS id
 e9e14a558f8ab-375d86cf01dsm4782625ab.73.2024.06.18.07.13.48
 (version=TLS1_2 cipher=ECDHE-ECDSA-AES128-GCM-SHA256 bits=128/128);
 Tue, 18 Jun 2024 07:13:48 -0700 (PDT)
X-Relaying-Domain: iol.unh.edu
Date: Tue, 18 Jun 2024 07:13:48 -0700 (PDT)
Message-ID: <6671961c.050a0220.848bf.14d7SMTPIN_ADDED_MISSING@mx.google.com>
Received: from [172.21.0.7] (unknown [172.18.0.240])
 by postal.iol.unh.edu (Postfix) with ESMTP id 55240605C373;
 Tue, 18 Jun 2024 10:13:48 -0400 (EDT)
Subject: |SUCCESS| pw141232-141249 [PATCH] [19/19] net/ngbe: disable LLDP by 
From: dpdklab@iol.unh.edu
To: Test Report <test-report@dpdk.org>
Cc: dpdk-test-reports@iol.unh.edu
In-Reply-To: <20240618071150.21564-20-jiawenwu@trustnetic.com>
References: <20240618071150.21564-20-jiawenwu@trustnetic.com>
Content-Type: text/plain
X-BeenThere: test-report@dpdk.org
X-Mailman-Version: 2.1.29
Precedence: list
List-Id: automatic DPDK test reports <test-report.dpdk.org>
List-Unsubscribe: <https://mails.dpdk.org/options/test-report>,
 <mailto:test-report-request@dpdk.org?subject=unsubscribe>
List-Archive: <http://mails.dpdk.org/archives/test-report/>
List-Post: <mailto:test-report@dpdk.org>
List-Help: <mailto:test-report-request@dpdk.org?subject=help>
List-Subscribe: <https://mails.dpdk.org/listinfo/test-report>,
 <mailto:test-report-request@dpdk.org?subject=subscribe>
Errors-To: test-report-bounces@dpdk.org

Test-Label: iol-unit-amd64-testing
Test-Status: SUCCESS
http://dpdk.org/patch/141249

_Testing PASS_

Submitter: Jiawen Wu <jiawenwu@trustnetic.com>
Date: Tuesday, June 18 2024 07:11:50 
DPDK git baseline: Repo:dpdk
  Branch: master
  CommitID:fbba6db3640f9f623c29c452e1a6b057073e81d2

141232-141249 --> testing pass

Test environment and result as below:

+-----------------+----------------+
|   Environment   | dpdk_unit_test |
+=================+================+
| CentOS Stream 8 | PASS           |
+-----------------+----------------+
| CentOS Stream 9 | PASS           |
+-----------------+----------------+
| Debian Bullseye | PASS           |
+-----------------+----------------+
| Fedora 37       | PASS           |
+-----------------+----------------+
| Debian 12       | PASS           |
+-----------------+----------------+
| Fedora 38       | PASS           |
+-----------------+----------------+
| Fedora 39       | PASS           |
+-----------------+----------------+
| RHEL9           | PASS           |
+-----------------+----------------+
| Fedora 40       | PASS           |
+-----------------+----------------+
| RHEL8           | PASS           |
+-----------------+----------------+
| Ubuntu 20.04    | PASS           |
+-----------------+----------------+
| Ubuntu 24.04    | PASS           |
+-----------------+----------------+


CentOS Stream 8
	Kernel: 5.4.0-167-generic
	Compiler: gcc 8.5.0 20210514

CentOS Stream 9
	Kernel: 5.4.0-167-generic
	Compiler: gcc 11.4.1 20230605

Debian Bullseye
	Kernel: 5.4.0-167-generic
	Compiler: gcc 10.2.1-6

Fedora 37
	Kernel: Depends on container host system
	Compiler: gcc 12.3.1

Debian 12
	Kernel: Container Host Kernel
	Compiler: gcc 12.2.0

Fedora 38
	Kernel: Depends on container host
	Compiler: gcc 13.2.1

Fedora 39
	Kernel: Depends on container host
	Compiler: gcc 13.2.1

RHEL9
	Kernel: Depends on container host
	Compiler: gcc 11.4.1

Fedora 40
	Kernel: Depends on container host
	Compiler: clang 18.1.6

RHEL8
	Kernel: 5.4.0-167-generic
	Compiler: gcc 8.5.0 20210514 (Red Hat 8.5.0-20)

Ubuntu 20.04
	Kernel: 5.4.0-167-generic
	Compiler: gcc 9.4.0-1ubuntu1~20.04.1

Ubuntu 24.04
	Kernel: 5.4.0-167-generic
	Compiler: gcc 13.2.0

To view detailed results, visit:
https://lab.dpdk.org/results/dashboard/patchsets/30219/

UNH-IOL DPDK Community Lab

To manage your email subscriptions, visit: 
https://lab.dpdk.org/results/dashboard/preferences/subscriptions/