From mboxrd@z Thu Jan  1 00:00:00 1970
Return-Path: <test-report-bounces@dpdk.org>
Received: from mails.dpdk.org (mails.dpdk.org [217.70.189.124])
	by inbox.dpdk.org (Postfix) with ESMTP id AF0F945493
	for <public@inbox.dpdk.org>; Tue, 18 Jun 2024 19:30:21 +0200 (CEST)
Received: from mails.dpdk.org (localhost [127.0.0.1])
	by mails.dpdk.org (Postfix) with ESMTP id AC9DB402E3;
	Tue, 18 Jun 2024 19:30:21 +0200 (CEST)
Received: from mail-lj1-f226.google.com (mail-lj1-f226.google.com
 [209.85.208.226])
 by mails.dpdk.org (Postfix) with ESMTP id E08EB402CB
 for <test-report@dpdk.org>; Tue, 18 Jun 2024 19:30:20 +0200 (CEST)
Received: by mail-lj1-f226.google.com with SMTP id
 38308e7fff4ca-2eabd22d3f4so67897151fa.1
 for <test-report@dpdk.org>; Tue, 18 Jun 2024 10:30:20 -0700 (PDT)
DKIM-Signature: v=1; a=rsa-sha256; c=relaxed/relaxed;
 d=iol.unh.edu; s=unh-iol; t=1718731820; x=1719336620; darn=dpdk.org;
 h=references:in-reply-to:cc:to:from:subject:message-id:date:from:to
 :cc:subject:date:message-id:reply-to;
 bh=hoVFcH8FNFwYHHOfIJofWX1YXgTVW1mZFmWEYtIAp9c=;
 b=Jv3zyyd9x32xp53HSNyHN9XVeN7brT3G0BmYsL2q29CqqWJqchLfVv5XZvZ234Wchd
 1qqR//Wsdqr4+Qle4hNIr9M2ekpfWNujnqhxwOVYOLyKsPYbpIReyA+QpmQA/TxlVCmN
 7WrK8G2yv9xCYJM8YUhOWGVfFaF0t9652R4iY=
X-Google-DKIM-Signature: v=1; a=rsa-sha256; c=relaxed/relaxed;
 d=1e100.net; s=20230601; t=1718731820; x=1719336620;
 h=references:in-reply-to:cc:to:from:subject:message-id:date
 :x-gm-message-state:from:to:cc:subject:date:message-id:reply-to;
 bh=hoVFcH8FNFwYHHOfIJofWX1YXgTVW1mZFmWEYtIAp9c=;
 b=EghunphEqy1yJ7dXt4cP4exlm2KcaIpBBg2gzaBwWisYadqa0IzcVrGm+hjoaGdVsQ
 3ry4QgdghuLRbAzeRhEpPQCpWnaWpKfOfmXbLV9U8BMpe40Y+v9K89nRBJhfp6jaMo0f
 ODiXcjH2yQi77zQI795bEDCWbphbhjTcaZ+VUT9D+eQGtiUMBJg4pStFNWHFH3pFA15z
 4g1JIm3LGv0C3eJ7Gruk3vqEdib+Hh4G98Yj+4Vv/+Lv7vU5Z6CyJMeHHzQz7ogtDuXK
 znPDOCWD5pBtZxz423zwsnprpYOEKZG8W6+9zeAylAyCd5cooB/YJGyuoxFIipFwF7wc
 lOCg==
X-Gm-Message-State: AOJu0Yxl4kDqtOfSiGU9g98OA+0bhoRjeNr+ZGxuwLKJI/pfKOUn9ezr
 VtWrc2fFr04m0X6OCj5Pg4Qi7lSg/7Nt5bNpLr3dhWref4BpU6zDZtsOFYss5U6U8Hl4K3Miuqv
 XubBzXTLt8pJ533K0tPzsb8YzY6JQQTrTPI5iXumC
X-Google-Smtp-Source: AGHT+IFqDO4g7C6uUN21GwjRfN/ZgDgOAFgbYMmnXOUQJuj+//voy1YsQRjc7W5hdzd81IHavY9/1E+T/1n8
X-Received: by 2002:a2e:2c01:0:b0:2eb:e258:717f with SMTP id
 38308e7fff4ca-2ec3cff2f10mr2895581fa.42.1718731820401; 
 Tue, 18 Jun 2024 10:30:20 -0700 (PDT)
Received: from postal.iol.unh.edu (postal.iol.unh.edu. [132.177.123.84])
 by smtp-relay.gmail.com with ESMTPS id
 38308e7fff4ca-2ec05c2e46fsm2607621fa.7.2024.06.18.10.30.20
 (version=TLS1_2 cipher=ECDHE-ECDSA-AES128-GCM-SHA256 bits=128/128);
 Tue, 18 Jun 2024 10:30:20 -0700 (PDT)
X-Relaying-Domain: iol.unh.edu
Date: Tue, 18 Jun 2024 10:30:20 -0700 (PDT)
Message-ID: <6671c42c.2e0a0220.3d26b.d3fcSMTPIN_ADDED_MISSING@mx.google.com>
Received: from [172.21.0.6] (unknown [172.18.0.240])
 by postal.iol.unh.edu (Postfix) with ESMTP id 356A9605C373;
 Tue, 18 Jun 2024 13:30:19 -0400 (EDT)
Subject: |SUCCESS| pw141254-141274 [PATCH] [v4,21/21] doc: updated the docume
From: dpdklab@iol.unh.edu
To: Test Report <test-report@dpdk.org>
Cc: dpdk-test-reports@iol.unh.edu
In-Reply-To: <20240618105722.2326987-22-soumyadeep.hore@intel.com>
References: <20240618105722.2326987-22-soumyadeep.hore@intel.com>
Content-Type: text/plain
X-BeenThere: test-report@dpdk.org
X-Mailman-Version: 2.1.29
Precedence: list
List-Id: automatic DPDK test reports <test-report.dpdk.org>
List-Unsubscribe: <https://mails.dpdk.org/options/test-report>,
 <mailto:test-report-request@dpdk.org?subject=unsubscribe>
List-Archive: <http://mails.dpdk.org/archives/test-report/>
List-Post: <mailto:test-report@dpdk.org>
List-Help: <mailto:test-report-request@dpdk.org?subject=help>
List-Subscribe: <https://mails.dpdk.org/listinfo/test-report>,
 <mailto:test-report-request@dpdk.org?subject=subscribe>
Errors-To: test-report-bounces@dpdk.org

Test-Label: iol-unit-arm64-testing
Test-Status: SUCCESS
http://dpdk.org/patch/141274

_Testing PASS_

Submitter: Soumyadeep Hore <soumyadeep.hore@intel.com>
Date: Tuesday, June 18 2024 10:57:22 
DPDK git baseline: Repo:dpdk
  Branch: master
  CommitID:0d761dfc89b71fa46193a545cce3fbe2613856a6

141254-141274 --> testing pass

Test environment and result as below:

+-----------------------------+----------------+--------------+---------------------------+------------------------------+
|         Environment         | dpdk_unit_test | lpm_autotest | cryptodev_sw_zuc_autotest | cryptodev_sw_snow3g_autotest |
+=============================+================+==============+===========================+==============================+
| 32-bit Ubuntu 20.04.4 (ARM) | PASS           | SKIPPED      | SKIPPED                   | SKIPPED                      |
+-----------------------------+----------------+--------------+---------------------------+------------------------------+
| Debian 11 (Buster) (ARM)    | PASS           | SKIPPED      | SKIPPED                   | SKIPPED                      |
+-----------------------------+----------------+--------------+---------------------------+------------------------------+
| Debian 12 (arm)             | PASS           | SKIPPED      | PASS                      | PASS                         |
+-----------------------------+----------------+--------------+---------------------------+------------------------------+
| CentOS Stream 9 (ARM)       | PASS           | SKIPPED      | SKIPPED                   | SKIPPED                      |
+-----------------------------+----------------+--------------+---------------------------+------------------------------+
| Fedora 38 (ARM)             | PASS           | SKIPPED      | SKIPPED                   | SKIPPED                      |
+-----------------------------+----------------+--------------+---------------------------+------------------------------+
| Fedora 37 (ARM)             | PASS           | SKIPPED      | SKIPPED                   | SKIPPED                      |
+-----------------------------+----------------+--------------+---------------------------+------------------------------+
| Fedora 39 (ARM)             | PASS           | SKIPPED      | SKIPPED                   | SKIPPED                      |
+-----------------------------+----------------+--------------+---------------------------+------------------------------+
| Fedora 40 (ARM Clang)       | PASS           | SKIPPED      | SKIPPED                   | SKIPPED                      |
+-----------------------------+----------------+--------------+---------------------------+------------------------------+
| Fedora 39 (ARM Clang)       | PASS           | SKIPPED      | SKIPPED                   | SKIPPED                      |
+-----------------------------+----------------+--------------+---------------------------+------------------------------+
| Ubuntu 20.04 (ARM)          | PASS           | SKIPPED      | SKIPPED                   | SKIPPED                      |
+-----------------------------+----------------+--------------+---------------------------+------------------------------+
| Ubuntu 22.04 (ARM)          | PASS           | SKIPPED      | SKIPPED                   | SKIPPED                      |
+-----------------------------+----------------+--------------+---------------------------+------------------------------+
| RHEL9 (ARM)                 | PASS           | SKIPPED      | SKIPPED                   | SKIPPED                      |
+-----------------------------+----------------+--------------+---------------------------+------------------------------+
| Fedora 40 (ARM)             | PASS           | SKIPPED      | SKIPPED                   | SKIPPED                      |
+-----------------------------+----------------+--------------+---------------------------+------------------------------+
| Fedora 38 (ARM Clang)       | PASS           | SKIPPED      | SKIPPED                   | SKIPPED                      |
+-----------------------------+----------------+--------------+---------------------------+------------------------------+
| Ubuntu 24.04 (ARM)          | PASS           | SKIPPED      | SKIPPED                   | SKIPPED                      |
+-----------------------------+----------------+--------------+---------------------------+------------------------------+
| Ubuntu 20.04 ARM SVE        | SKIPPED        | PASS         | SKIPPED                   | SKIPPED                      |
+-----------------------------+----------------+--------------+---------------------------+------------------------------+


32-bit Ubuntu 20.04.4 (ARM)
	Kernel: 5.4.0-155-generic aarch64
	Compiler: gcc 9.4

Debian 11 (Buster) (ARM)
	Kernel: Container Host Kernel
	Compiler: gcc 10.2.1

Debian 12 (arm)
	Kernel: Container Host Kernel
	Compiler: gcc 12.2.0

CentOS Stream 9 (ARM)
	Kernel: Container Host Kernel
	Compiler: gcc 11.4.1

Fedora 38 (ARM)
	Kernel: Depends on container host
	Compiler: gcc 13.2.1

Fedora 37 (ARM)
	Kernel: Depends on container host
	Compiler: gcc 12.3.1

Fedora 39 (ARM)
	Kernel: Depends on container host
	Compiler: gcc 13.2.1

Fedora 40 (ARM Clang)
	Kernel: Depends on container host
	Compiler: clang 18.1.6

Fedora 39 (ARM Clang)
	Kernel: Depends on container host
	Compiler: clang 17.0.6

Ubuntu 20.04 (ARM)
	Kernel: Container Host Kernel
	Compiler: gcc 9.4.0

Ubuntu 22.04 (ARM)
	Kernel: Container Host Kernel
	Compiler: gcc 11.4.0

RHEL9 (ARM)
	Kernel: Depends on container host
	Compiler: gcc 11.4.1

Fedora 40 (ARM)
	Kernel: Depends on container host
	Compiler: gcc 14.1.1

Fedora 38 (ARM Clang)
	Kernel: Depends on container host
	Compiler: clang 16.0.6

Ubuntu 24.04 (ARM)
	Kernel: 5.4.0-167-generic
	Compiler: gcc 13.2.0

Ubuntu 20.04 ARM SVE
	Kernel: 5.4.0-167-generic
	Compiler: gcc (Ubuntu 10.5.0-1ubuntu1~20.04) 10.5.0

To view detailed results, visit:
https://lab.dpdk.org/results/dashboard/patchsets/30223/

UNH-IOL DPDK Community Lab

To manage your email subscriptions, visit: 
https://lab.dpdk.org/results/dashboard/preferences/subscriptions/