From mboxrd@z Thu Jan  1 00:00:00 1970
Return-Path: <test-report-bounces@dpdk.org>
Received: from mails.dpdk.org (mails.dpdk.org [217.70.189.124])
	by inbox.dpdk.org (Postfix) with ESMTP id ED95841F45
	for <public@inbox.dpdk.org>; Tue, 18 Jun 2024 20:25:50 +0200 (CEST)
Received: from mails.dpdk.org (localhost [127.0.0.1])
	by mails.dpdk.org (Postfix) with ESMTP id E7B22402E3;
	Tue, 18 Jun 2024 20:25:50 +0200 (CEST)
Received: from mail-lf1-f100.google.com (mail-lf1-f100.google.com
 [209.85.167.100])
 by mails.dpdk.org (Postfix) with ESMTP id 845BF402CB
 for <test-report@dpdk.org>; Tue, 18 Jun 2024 20:25:49 +0200 (CEST)
Received: by mail-lf1-f100.google.com with SMTP id
 2adb3069b0e04-52b7ffd9f6eso5711291e87.3
 for <test-report@dpdk.org>; Tue, 18 Jun 2024 11:25:49 -0700 (PDT)
DKIM-Signature: v=1; a=rsa-sha256; c=relaxed/relaxed;
 d=iol.unh.edu; s=unh-iol; t=1718735149; x=1719339949; darn=dpdk.org;
 h=references:in-reply-to:cc:to:from:subject:message-id:date:from:to
 :cc:subject:date:message-id:reply-to;
 bh=WEqmheMtUW4wP7+MgN5duehWH5uTYnx7jTBSlhU+/Yc=;
 b=eLPA0HTpP6ASbxtotDScmWbFzyc+Z/rMAspVdxVxfQbP7jsJsPTDKV4fQbmsXqeApb
 sc11ct8bvXE3nbJT/HKa4mHc3bmR331zOWdFAbUTGjdu8DYFIQ0XTqtaX0TSg2ykc2E7
 wSI2pNjml5cpEFDuguA6XCdNY9FT3Ug77/nP0=
X-Google-DKIM-Signature: v=1; a=rsa-sha256; c=relaxed/relaxed;
 d=1e100.net; s=20230601; t=1718735149; x=1719339949;
 h=references:in-reply-to:cc:to:from:subject:message-id:date
 :x-gm-message-state:from:to:cc:subject:date:message-id:reply-to;
 bh=WEqmheMtUW4wP7+MgN5duehWH5uTYnx7jTBSlhU+/Yc=;
 b=vX+P8N4T1XS3MFSbdPiKR0j9a/SCwkxSKUqdmgxPPY2hWooKbrwEbLiwDYqCAToL6k
 D65RQK+PvBUg51pkON2oUsHxZKdjrdceA3JnXJTzdTTERhlcswNPEsDVRLEEaCo7zFAL
 RmgmM8tAzDeu2pyNG+GmIoUL7Cx+PHsNy4EqifRqTfrX0j7dIbOH6hs7mGsoy7cZduNZ
 gdIhS9yCu6+AMyBXlB8Ldff5WQ/tBzJvPPj3T8UAr3ZD0joFAgvYqbmmPDgN90s5MbM6
 e7KHFTWdN+rJJWq/teFvMYAxN4LH0oCVQ08D4IVuxl1ZM1VCq5jAHC3zY84NjMighnQ9
 NH+A==
X-Gm-Message-State: AOJu0Yxwy4MKxN+JImDOCnCXHqVFyknJMSChQT3EtG53zevQMt05/SeX
 GX7PQ+Do/iT36a6/WvytrvMdp0bmCRUrPP8pQR+85h/5VNsPQ93Xr5R4/RlBciAqxOnTEaNpcFB
 8RGU+VhwwXDOTkWGJK36dFOYutRAZYwp3LMwJf98VYoezXFyDx73S6qMi
X-Google-Smtp-Source: AGHT+IFJMMqrZWS4W+gdf/qhLW44RFTLQM1VUb72mcKmaCVVUMJJG01pBGX8Pbw96RilkxgkaqNLM6OKDLVa
X-Received: by 2002:ac2:5dcb:0:b0:52c:1e37:92c7 with SMTP id
 2adb3069b0e04-52ccaaa4c81mr253083e87.59.1718735148761; 
 Tue, 18 Jun 2024 11:25:48 -0700 (PDT)
Received: from postal.iol.unh.edu (postal.iol.unh.edu.
 [2606:4100:3880:1234::84]) by smtp-relay.gmail.com with ESMTPS id
 2adb3069b0e04-52ca282f510sm144943e87.57.2024.06.18.11.25.48
 (version=TLS1_2 cipher=ECDHE-ECDSA-AES128-GCM-SHA256 bits=128/128);
 Tue, 18 Jun 2024 11:25:48 -0700 (PDT)
X-Relaying-Domain: iol.unh.edu
Date: Tue, 18 Jun 2024 11:25:48 -0700 (PDT)
Message-ID: <6671d12c.050a0220.45c26.67bbSMTPIN_ADDED_MISSING@mx.google.com>
Received: from [172.21.0.6] (unknown [172.18.0.240])
 by postal.iol.unh.edu (Postfix) with ESMTP id 92C3C605C373;
 Tue, 18 Jun 2024 14:25:47 -0400 (EDT)
Subject: |SUCCESS| pw141252 [PATCH] [v3] graph: avoid id collisions
From: dpdklab@iol.unh.edu
To: Test Report <test-report@dpdk.org>
Cc: dpdk-test-reports@iol.unh.edu
In-Reply-To: <20240618092324.54166-2-rjarry@redhat.com>
References: <20240618092324.54166-2-rjarry@redhat.com>
Content-Type: text/plain
X-BeenThere: test-report@dpdk.org
X-Mailman-Version: 2.1.29
Precedence: list
List-Id: automatic DPDK test reports <test-report.dpdk.org>
List-Unsubscribe: <https://mails.dpdk.org/options/test-report>,
 <mailto:test-report-request@dpdk.org?subject=unsubscribe>
List-Archive: <http://mails.dpdk.org/archives/test-report/>
List-Post: <mailto:test-report@dpdk.org>
List-Help: <mailto:test-report-request@dpdk.org?subject=help>
List-Subscribe: <https://mails.dpdk.org/listinfo/test-report>,
 <mailto:test-report-request@dpdk.org?subject=subscribe>
Errors-To: test-report-bounces@dpdk.org

Test-Label: iol-unit-amd64-testing
Test-Status: SUCCESS
http://dpdk.org/patch/141252

_Testing PASS_

Submitter: Robin Jarry <rjarry@redhat.com>
Date: Tuesday, June 18 2024 09:23:25 
DPDK git baseline: Repo:dpdk
  Branch: master
  CommitID:eabbac98af1345157e07c431e18543296c37c355

141252 --> testing pass

Test environment and result as below:

+------------------+----------------+
|   Environment    | dpdk_unit_test |
+==================+================+
| CentOS Stream 9  | PASS           |
+------------------+----------------+
| CentOS Stream 8  | PASS           |
+------------------+----------------+
| Debian Bullseye  | PASS           |
+------------------+----------------+
| Debian 12        | PASS           |
+------------------+----------------+
| Fedora 38        | PASS           |
+------------------+----------------+
| Fedora 39        | PASS           |
+------------------+----------------+
| Fedora 37        | PASS           |
+------------------+----------------+
| Fedora 40        | PASS           |
+------------------+----------------+
| RHEL9            | PASS           |
+------------------+----------------+
| RHEL8            | PASS           |
+------------------+----------------+
| openSUSE Leap 15 | PASS           |
+------------------+----------------+
| Ubuntu 22.04     | PASS           |
+------------------+----------------+
| Ubuntu 20.04     | PASS           |
+------------------+----------------+
| Ubuntu 24.04     | PASS           |
+------------------+----------------+


CentOS Stream 9
	Kernel: 5.4.0-167-generic
	Compiler: gcc 11.4.1 20230605

CentOS Stream 8
	Kernel: 5.4.0-167-generic
	Compiler: gcc 8.5.0 20210514

Debian Bullseye
	Kernel: 5.4.0-167-generic
	Compiler: gcc 10.2.1-6

Debian 12
	Kernel: Container Host Kernel
	Compiler: gcc 12.2.0

Fedora 38
	Kernel: Depends on container host
	Compiler: gcc 13.2.1

Fedora 39
	Kernel: Depends on container host
	Compiler: gcc 13.2.1

Fedora 37
	Kernel: Depends on container host system
	Compiler: gcc 12.3.1

Fedora 40
	Kernel: Depends on container host
	Compiler: gcc 14.1.1

RHEL9
	Kernel: Depends on container host
	Compiler: gcc 11.4.1

RHEL8
	Kernel: 5.4.0-167-generic
	Compiler: gcc 8.5.0 20210514 (Red Hat 8.5.0-20)

openSUSE Leap 15
	Kernel: 5.4.0-167-generic
	Compiler: gcc 7.5.0

Ubuntu 22.04
	Kernel: 5.4.0-167-generic
	Compiler: gcc 11.4.0

Ubuntu 20.04
	Kernel: 5.4.0-167-generic
	Compiler: gcc 9.4.0-1ubuntu1~20.04.1

Ubuntu 24.04
	Kernel: 5.4.0-167-generic
	Compiler: gcc 13.2.0

To view detailed results, visit:
https://lab.dpdk.org/results/dashboard/patchsets/30221/

UNH-IOL DPDK Community Lab

To manage your email subscriptions, visit: 
https://lab.dpdk.org/results/dashboard/preferences/subscriptions/