From mboxrd@z Thu Jan  1 00:00:00 1970
Return-Path: <test-report-bounces@dpdk.org>
Received: from mails.dpdk.org (mails.dpdk.org [217.70.189.124])
	by inbox.dpdk.org (Postfix) with ESMTP id 0812C45496
	for <public@inbox.dpdk.org>; Tue, 18 Jun 2024 21:18:24 +0200 (CEST)
Received: from mails.dpdk.org (localhost [127.0.0.1])
	by mails.dpdk.org (Postfix) with ESMTP id 03BE1402CB;
	Tue, 18 Jun 2024 21:18:24 +0200 (CEST)
Received: from mail-wm1-f98.google.com (mail-wm1-f98.google.com
 [209.85.128.98]) by mails.dpdk.org (Postfix) with ESMTP id 2DFAC4027C
 for <test-report@dpdk.org>; Tue, 18 Jun 2024 21:18:23 +0200 (CEST)
Received: by mail-wm1-f98.google.com with SMTP id
 5b1f17b1804b1-4218008c613so44286995e9.2
 for <test-report@dpdk.org>; Tue, 18 Jun 2024 12:18:23 -0700 (PDT)
DKIM-Signature: v=1; a=rsa-sha256; c=relaxed/relaxed;
 d=iol.unh.edu; s=unh-iol; t=1718738303; x=1719343103; darn=dpdk.org;
 h=references:in-reply-to:cc:to:from:subject:message-id:date:from:to
 :cc:subject:date:message-id:reply-to;
 bh=MpvmITU7UvmKgoKlb9HlaWobZjFcCfY9Dvwza6LeW0Q=;
 b=YP1FSrV1JAESgjUiA42YpH0pu+vguxKrKhehaYpVW8IohR64FOdKudtrK/ZyhumCDd
 AvN0kYcdqlvPf4vIFJqB5iGLsve7jngHzPRzxdL1mF6Ns+CX0KxKZ3ijBZ4d1N+XMMxv
 i77uPu+XVzLpbVxqfembz5dxnAY7Vfeoqktxg=
X-Google-DKIM-Signature: v=1; a=rsa-sha256; c=relaxed/relaxed;
 d=1e100.net; s=20230601; t=1718738303; x=1719343103;
 h=references:in-reply-to:cc:to:from:subject:message-id:date
 :x-gm-message-state:from:to:cc:subject:date:message-id:reply-to;
 bh=MpvmITU7UvmKgoKlb9HlaWobZjFcCfY9Dvwza6LeW0Q=;
 b=lSkM1KJ9B4c+CPoVSwJkANhm0HVTFRj/2Ztwfxjz5XXEU/Cb2bA2LaWZ48inGsPPyh
 LE91MAWBRcK+HpjvBHgpTZKwDCV5YUid8b/Ig+O1rkrIgiiyPGrzylFf4PtGuKxh1bwy
 cWfsM13FTdvqlEoLGNSQC1DWw8eyqj8psjP5hQadwvO/SSOfrTILOMh6FhEyB5Tw4e82
 mnAfqHUTi3vFdXFPJTeCnSy0S1kw92icOk2HWCu6LAo2aGrug2lhHwSFWAv/Tb0T/ehR
 Omziuf7b0NHTPxJlYOrQF+005fxJGoiqybU0+SUE13RCz0WqUbBGD9UpHpycFXM3iOtr
 WDtQ==
X-Gm-Message-State: AOJu0YwStVdG1MySektH0Uuk8XGcD4IKcQng8CLYXBWVMoKHGcZmgHAM
 cQbf7wHg89w1Au2g4/qHP852kxWQvpoZErzcnv1fscFgAWwhPS56GKPzG1eU4gb9dImCCdjqHUc
 kQfbhZVqfrivbBJE1Yq5JAnt74ncKy5KUOH+K++/VK0L/sRojBXeLaXAM
X-Google-Smtp-Source: AGHT+IGAhhdodjAaOVN083mZe/p/clUFWJp44RLz++1sk6Cmot0J8f2cVR0+lLLjJfU+lgb2VfC9n4svFRdW
X-Received: by 2002:a05:600c:2145:b0:421:920d:dfae with SMTP id
 5b1f17b1804b1-424751763f3mr3116285e9.13.1718738302632; 
 Tue, 18 Jun 2024 12:18:22 -0700 (PDT)
Received: from postal.iol.unh.edu (postal.iol.unh.edu.
 [2606:4100:3880:1234::84]) by smtp-relay.gmail.com with ESMTPS id
 ffacd0b85a97d-360750b7680sm559396f8f.13.2024.06.18.12.18.22
 (version=TLS1_2 cipher=ECDHE-ECDSA-AES128-GCM-SHA256 bits=128/128);
 Tue, 18 Jun 2024 12:18:22 -0700 (PDT)
X-Relaying-Domain: iol.unh.edu
Date: Tue, 18 Jun 2024 12:18:22 -0700 (PDT)
Message-ID: <6671dd7e.df0a0220.3af14.19ceSMTPIN_ADDED_MISSING@mx.google.com>
Received: from [172.21.0.7] (unknown [172.18.0.240])
 by postal.iol.unh.edu (Postfix) with ESMTP id D050F605C380;
 Tue, 18 Jun 2024 15:18:21 -0400 (EDT)
Subject: |SUCCESS| pw141252 [PATCH] [v3] graph: avoid id collisions
From: dpdklab@iol.unh.edu
To: Test Report <test-report@dpdk.org>
Cc: dpdk-test-reports@iol.unh.edu
In-Reply-To: <20240618092324.54166-2-rjarry@redhat.com>
References: <20240618092324.54166-2-rjarry@redhat.com>
Content-Type: text/plain
X-BeenThere: test-report@dpdk.org
X-Mailman-Version: 2.1.29
Precedence: list
List-Id: automatic DPDK test reports <test-report.dpdk.org>
List-Unsubscribe: <https://mails.dpdk.org/options/test-report>,
 <mailto:test-report-request@dpdk.org?subject=unsubscribe>
List-Archive: <http://mails.dpdk.org/archives/test-report/>
List-Post: <mailto:test-report@dpdk.org>
List-Help: <mailto:test-report-request@dpdk.org?subject=help>
List-Subscribe: <https://mails.dpdk.org/listinfo/test-report>,
 <mailto:test-report-request@dpdk.org?subject=subscribe>
Errors-To: test-report-bounces@dpdk.org

Test-Label: iol-compile-arm64-testing
Test-Status: SUCCESS
http://dpdk.org/patch/141252

_Testing PASS_

Submitter: Robin Jarry <rjarry@redhat.com>
Date: Tuesday, June 18 2024 09:23:25 
DPDK git baseline: Repo:dpdk
  Branch: master
  CommitID:eabbac98af1345157e07c431e18543296c37c355

141252 --> testing pass

Test environment and result as below:

+----------------------------------------+--------------------+
|              Environment               | dpdk_meson_compile |
+========================================+====================+
| Ubuntu 20.04 ARM SVE                   | PASS               |
+----------------------------------------+--------------------+
| Debian 12 with MUSDK                   | PASS               |
+----------------------------------------+--------------------+
| Ubuntu 20.04 aarch32 GCC Cross Compile | PASS               |
+----------------------------------------+--------------------+
| RHEL9 (ARM)                            | PASS               |
+----------------------------------------+--------------------+
| Fedora 39 (ARM)                        | PASS               |
+----------------------------------------+--------------------+
| Ubuntu 20.04 ARM Clang Cross Compile   | PASS               |
+----------------------------------------+--------------------+
| Ubuntu 20.04 ARM GCC Cross Compile     | PASS               |
+----------------------------------------+--------------------+
| CentOS Stream 9 (ARM)                  | PASS               |
+----------------------------------------+--------------------+
| Fedora 40 (ARM Clang)                  | PASS               |
+----------------------------------------+--------------------+
| Fedora 38 (ARM Clang)                  | PASS               |
+----------------------------------------+--------------------+
| Ubuntu 20.04 (ARM)                     | PASS               |
+----------------------------------------+--------------------+


Ubuntu 20.04 ARM SVE
	Kernel: 5.4.0-167-generic
	Compiler: gcc (Ubuntu 10.5.0-1ubuntu1~20.04) 10.5.0

Debian 12 with MUSDK
	Kernel: Container Host Kernel
	Compiler: gcc 12.2.0

Ubuntu 20.04 aarch32 GCC Cross Compile
	Kernel: 5.4.0-167-generic
	Compiler: gcc 9.4.0

RHEL9 (ARM)
	Kernel: Depends on container host
	Compiler: gcc 11.4.1

Fedora 39 (ARM)
	Kernel: Depends on container host
	Compiler: gcc 13.2.1

Ubuntu 20.04 ARM Clang Cross Compile
	Kernel: 5.4.0-72-generic
	Compiler: clang 10.0.0-4ubuntu1

Ubuntu 20.04 ARM GCC Cross Compile
	Kernel: 5.4.0-167-generic
	Compiler: aarch64-linux-gnu-gcc (Ubuntu 9.4.0-1ubuntu1~20.04.2) 9.4.0

CentOS Stream 9 (ARM)
	Kernel: Container Host Kernel
	Compiler: gcc 11.4.1

Fedora 40 (ARM Clang)
	Kernel: Depends on container host
	Compiler: clang 18.1.6

Fedora 38 (ARM Clang)
	Kernel: Depends on container host
	Compiler: clang 16.0.6

Ubuntu 20.04 (ARM)
	Kernel: Container Host Kernel
	Compiler: gcc 9.4.0

To view detailed results, visit:
https://lab.dpdk.org/results/dashboard/patchsets/30221/

UNH-IOL DPDK Community Lab

To manage your email subscriptions, visit: 
https://lab.dpdk.org/results/dashboard/preferences/subscriptions/