From mboxrd@z Thu Jan  1 00:00:00 1970
Return-Path: <test-report-bounces@dpdk.org>
Received: from mails.dpdk.org (mails.dpdk.org [217.70.189.124])
	by inbox.dpdk.org (Postfix) with ESMTP id 761D345496
	for <public@inbox.dpdk.org>; Tue, 18 Jun 2024 21:20:24 +0200 (CEST)
Received: from mails.dpdk.org (localhost [127.0.0.1])
	by mails.dpdk.org (Postfix) with ESMTP id 72C7E40E96;
	Tue, 18 Jun 2024 21:20:24 +0200 (CEST)
Received: from mail-lj1-f227.google.com (mail-lj1-f227.google.com
 [209.85.208.227])
 by mails.dpdk.org (Postfix) with ESMTP id 3B769402CB
 for <test-report@dpdk.org>; Tue, 18 Jun 2024 21:20:23 +0200 (CEST)
Received: by mail-lj1-f227.google.com with SMTP id
 38308e7fff4ca-2ebe6495aedso55012651fa.0
 for <test-report@dpdk.org>; Tue, 18 Jun 2024 12:20:23 -0700 (PDT)
DKIM-Signature: v=1; a=rsa-sha256; c=relaxed/relaxed;
 d=iol.unh.edu; s=unh-iol; t=1718738422; x=1719343222; darn=dpdk.org;
 h=references:in-reply-to:cc:to:from:subject:message-id:date:from:to
 :cc:subject:date:message-id:reply-to;
 bh=pkeWADuPUInlGxyFm8SohJbmNgD/Q3FOtQnD2kq8FDs=;
 b=DSh4vlQEy/70sGvMOkkgnsHj4mI9FL6KhPBOJQpE45/rfBzThG/0Gqu/95VBRv1g/t
 CzSIvhMgUm1wkcHZOy9+X5EsqeUYrRukVUaugQt9cV7fGGSQ6UXG6rEZmI2a5PvYgMbS
 mjMr8CkwbcJ4tQPAYwn1G9J3NbVm5DVuoY9vw=
X-Google-DKIM-Signature: v=1; a=rsa-sha256; c=relaxed/relaxed;
 d=1e100.net; s=20230601; t=1718738422; x=1719343222;
 h=references:in-reply-to:cc:to:from:subject:message-id:date
 :x-gm-message-state:from:to:cc:subject:date:message-id:reply-to;
 bh=pkeWADuPUInlGxyFm8SohJbmNgD/Q3FOtQnD2kq8FDs=;
 b=ZwXMaMXb7THrxhKHufzEXCSef+PNGJCPsQB/LbkXpMEUqHhwEW0RcEDFHmI6A/IdG+
 0EZRerVtGiy7ikYjyIgppK8LLrdMSAKCOgAV3ymdgCNof0so0JggPesxZG3L73GzSPXX
 kxDZn/uhLk6DmIZ04FN/9VEPjtLhZJFK6rtf+XsmUbeg8U3NwMCMFafFicsZPYfWRCQb
 adQOeX4oKl3e59GvI39YjiFtSzo7xHUkmbcCGBPYpxn9AQuNJuKB3GYlMVanj4xE6veC
 KS4r3DjriZXKn5kuw1QPw+0P3H2fKQgWo8bYVrNAr1Ot0ywPgjAyKyE0BVIx9MNkllXQ
 Ur6Q==
X-Gm-Message-State: AOJu0YzUYMwabkyJguM/s6rEvgwFzyhfz8aMTILrqVJQvWSThVm3jGJ6
 2cnrZbtjQSvcAlE1niguEocerFm5NB/qjOJL/TVMVu+qdgnYKZ2LZeSXSWn89jCd75nnEm7FMsP
 cSnZMQerv3Z244Cx5uVu0eN7sXxd3ypB2y4gr8nHZ
X-Google-Smtp-Source: AGHT+IGmgJwVTLuMfAV9yjCFD2fG36zU5SPT9ABIJlBTNDZW4uIb0TUKvZpnJSs/8L+ntFV8gEsE8Y7yTHFV
X-Received: by 2002:a2e:818c:0:b0:2eb:f472:e7d3 with SMTP id
 38308e7fff4ca-2ec3ceb6b65mr4614941fa.6.1718738422499; 
 Tue, 18 Jun 2024 12:20:22 -0700 (PDT)
Received: from postal.iol.unh.edu (postal.iol.unh.edu. [132.177.123.84])
 by smtp-relay.gmail.com with ESMTPS id
 5b1f17b1804b1-42286fed33csm7720335e9.19.2024.06.18.12.20.22
 (version=TLS1_2 cipher=ECDHE-ECDSA-AES128-GCM-SHA256 bits=128/128);
 Tue, 18 Jun 2024 12:20:22 -0700 (PDT)
X-Relaying-Domain: iol.unh.edu
Date: Tue, 18 Jun 2024 12:20:22 -0700 (PDT)
Message-ID: <6671ddf6.050a0220.84f2f.1eb2SMTPIN_ADDED_MISSING@mx.google.com>
Received: from [172.21.0.7] (unknown [172.18.0.240])
 by postal.iol.unh.edu (Postfix) with ESMTP id A67A8605C380;
 Tue, 18 Jun 2024 15:20:21 -0400 (EDT)
Subject: |SUCCESS| pw141252 [PATCH] [v3] graph: avoid id collisions
From: dpdklab@iol.unh.edu
To: Test Report <test-report@dpdk.org>
Cc: dpdk-test-reports@iol.unh.edu
In-Reply-To: <20240618092324.54166-2-rjarry@redhat.com>
References: <20240618092324.54166-2-rjarry@redhat.com>
Content-Type: text/plain
X-BeenThere: test-report@dpdk.org
X-Mailman-Version: 2.1.29
Precedence: list
List-Id: automatic DPDK test reports <test-report.dpdk.org>
List-Unsubscribe: <https://mails.dpdk.org/options/test-report>,
 <mailto:test-report-request@dpdk.org?subject=unsubscribe>
List-Archive: <http://mails.dpdk.org/archives/test-report/>
List-Post: <mailto:test-report@dpdk.org>
List-Help: <mailto:test-report-request@dpdk.org?subject=help>
List-Subscribe: <https://mails.dpdk.org/listinfo/test-report>,
 <mailto:test-report-request@dpdk.org?subject=subscribe>
Errors-To: test-report-bounces@dpdk.org

Test-Label: iol-compile-arm64-testing
Test-Status: SUCCESS
http://dpdk.org/patch/141252

_Testing PASS_

Submitter: Robin Jarry <rjarry@redhat.com>
Date: Tuesday, June 18 2024 09:23:25 
DPDK git baseline: Repo:dpdk
  Branch: master
  CommitID:eabbac98af1345157e07c431e18543296c37c355

141252 --> testing pass

Test environment and result as below:

+----------------------------------------+--------------------+
|              Environment               | dpdk_meson_compile |
+========================================+====================+
| Ubuntu 20.04 ARM SVE                   | PASS               |
+----------------------------------------+--------------------+
| Debian 12 with MUSDK                   | PASS               |
+----------------------------------------+--------------------+
| Ubuntu 20.04 aarch32 GCC Cross Compile | PASS               |
+----------------------------------------+--------------------+
| RHEL9 (ARM)                            | PASS               |
+----------------------------------------+--------------------+
| Fedora 39 (ARM)                        | PASS               |
+----------------------------------------+--------------------+
| Ubuntu 20.04 ARM Clang Cross Compile   | PASS               |
+----------------------------------------+--------------------+
| Ubuntu 20.04 ARM GCC Cross Compile     | PASS               |
+----------------------------------------+--------------------+
| CentOS Stream 9 (ARM)                  | PASS               |
+----------------------------------------+--------------------+
| Fedora 40 (ARM Clang)                  | PASS               |
+----------------------------------------+--------------------+
| Fedora 38 (ARM Clang)                  | PASS               |
+----------------------------------------+--------------------+
| Ubuntu 20.04 (ARM)                     | PASS               |
+----------------------------------------+--------------------+
| Ubuntu 24.04 (ARM)                     | PASS               |
+----------------------------------------+--------------------+


Ubuntu 20.04 ARM SVE
	Kernel: 5.4.0-167-generic
	Compiler: gcc (Ubuntu 10.5.0-1ubuntu1~20.04) 10.5.0

Debian 12 with MUSDK
	Kernel: Container Host Kernel
	Compiler: gcc 12.2.0

Ubuntu 20.04 aarch32 GCC Cross Compile
	Kernel: 5.4.0-167-generic
	Compiler: gcc 9.4.0

RHEL9 (ARM)
	Kernel: Depends on container host
	Compiler: gcc 11.4.1

Fedora 39 (ARM)
	Kernel: Depends on container host
	Compiler: gcc 13.2.1

Ubuntu 20.04 ARM Clang Cross Compile
	Kernel: 5.4.0-72-generic
	Compiler: clang 10.0.0-4ubuntu1

Ubuntu 20.04 ARM GCC Cross Compile
	Kernel: 5.4.0-167-generic
	Compiler: aarch64-linux-gnu-gcc (Ubuntu 9.4.0-1ubuntu1~20.04.2) 9.4.0

CentOS Stream 9 (ARM)
	Kernel: Container Host Kernel
	Compiler: gcc 11.4.1

Fedora 40 (ARM Clang)
	Kernel: Depends on container host
	Compiler: clang 18.1.6

Fedora 38 (ARM Clang)
	Kernel: Depends on container host
	Compiler: clang 16.0.6

Ubuntu 20.04 (ARM)
	Kernel: Container Host Kernel
	Compiler: gcc 9.4.0

Ubuntu 24.04 (ARM)
	Kernel: 5.4.0-167-generic
	Compiler: gcc 13.2.0

To view detailed results, visit:
https://lab.dpdk.org/results/dashboard/patchsets/30221/

UNH-IOL DPDK Community Lab

To manage your email subscriptions, visit: 
https://lab.dpdk.org/results/dashboard/preferences/subscriptions/