From mboxrd@z Thu Jan  1 00:00:00 1970
Return-Path: <test-report-bounces@dpdk.org>
Received: from mails.dpdk.org (mails.dpdk.org [217.70.189.124])
	by inbox.dpdk.org (Postfix) with ESMTP id 9447445496
	for <public@inbox.dpdk.org>; Tue, 18 Jun 2024 21:20:58 +0200 (CEST)
Received: from mails.dpdk.org (localhost [127.0.0.1])
	by mails.dpdk.org (Postfix) with ESMTP id 90CA040E96;
	Tue, 18 Jun 2024 21:20:58 +0200 (CEST)
Received: from mail-wr1-f98.google.com (mail-wr1-f98.google.com
 [209.85.221.98]) by mails.dpdk.org (Postfix) with ESMTP id AF1B0402CB
 for <test-report@dpdk.org>; Tue, 18 Jun 2024 21:20:56 +0200 (CEST)
Received: by mail-wr1-f98.google.com with SMTP id
 ffacd0b85a97d-35f1cb7a40fso4821933f8f.0
 for <test-report@dpdk.org>; Tue, 18 Jun 2024 12:20:56 -0700 (PDT)
DKIM-Signature: v=1; a=rsa-sha256; c=relaxed/relaxed;
 d=iol.unh.edu; s=unh-iol; t=1718738456; x=1719343256; darn=dpdk.org;
 h=references:in-reply-to:cc:to:from:subject:message-id:date:from:to
 :cc:subject:date:message-id:reply-to;
 bh=pkeWADuPUInlGxyFm8SohJbmNgD/Q3FOtQnD2kq8FDs=;
 b=SlM3M9TBio+YWV77e88TKsQr/RdpMk8+xIjX+vQWOoDWqsRbwJ2hSkgUvsjLyp/T22
 Qus/tguxPrIr29QEMnhHwP8oUSJfgxBMIHtSm7r2nG3fbigrvmFR5ZoIo3XqdI4iqT9l
 +fm+1mYt0qemLUzjM3qgPa4DVuS23D6JNAPxk=
X-Google-DKIM-Signature: v=1; a=rsa-sha256; c=relaxed/relaxed;
 d=1e100.net; s=20230601; t=1718738456; x=1719343256;
 h=references:in-reply-to:cc:to:from:subject:message-id:date
 :x-gm-message-state:from:to:cc:subject:date:message-id:reply-to;
 bh=pkeWADuPUInlGxyFm8SohJbmNgD/Q3FOtQnD2kq8FDs=;
 b=tDCJysWsikUDZy36e5XamcQYCTi7zMbdpzWfywSaI16X3xI2QU0Ui3gsarxquvylBC
 vfawUoAikdVFKp6iNmUrGoP9kKZZTdRWdUi51msoutkSoPqf3SeTsDHyRPQ573/qmryn
 0jS3KiQzsx/oOY4z3mdbRcgF16Txes41HgpN44nWIPhYNupsU9o4vodspos1+rbbbUkb
 DdNwMWSuBr01v2sI10b8mDSElklFIyqG/GIuaZl78B9M5JcnG9JyuH9m/GINdKCml2uE
 kzI7wJTokNqtk+pqfJv59wp6Bz2UoE46t5X4BQwQlofAAueILvNKXcd3QFR833yv+/IH
 wozg==
X-Gm-Message-State: AOJu0YyMBqvHUpPV2qBzOLgrFjtueUVInxQuRJxrzjDTmJw/G5/b6bmr
 M1EQ5mJl2Km8+3o0n/N7syQo80PE0dspOacuXmhFd/9utuNQ+52NtI/4gMXiOY2BoR19nibG+ep
 rgTm2SQeLN8U9woVegp5nB0Hz02pyvBWwwUjossfUygdmpN3VkKsOc5UZ
X-Google-Smtp-Source: AGHT+IEP10KxyfE9JTx+0/1Tp7hRcWH4l/GuT51sj4m63qH0xXlKjD0eoppK9AnUMo6RceAdNSiTZCIlCPYt
X-Received: by 2002:a5d:4082:0:b0:360:8a7e:e552 with SMTP id
 ffacd0b85a97d-363195b1921mr413719f8f.43.1718738456527; 
 Tue, 18 Jun 2024 12:20:56 -0700 (PDT)
Received: from postal.iol.unh.edu (postal.iol.unh.edu.
 [2606:4100:3880:1234::84]) by smtp-relay.gmail.com with ESMTPS id
 ffacd0b85a97d-360750b7650sm539844f8f.23.2024.06.18.12.20.56
 (version=TLS1_2 cipher=ECDHE-ECDSA-AES128-GCM-SHA256 bits=128/128);
 Tue, 18 Jun 2024 12:20:56 -0700 (PDT)
X-Relaying-Domain: iol.unh.edu
Date: Tue, 18 Jun 2024 12:20:56 -0700 (PDT)
Message-ID: <6671de18.050a0220.af844.fa57SMTPIN_ADDED_MISSING@mx.google.com>
Received: from [172.21.0.7] (unknown [172.18.0.240])
 by postal.iol.unh.edu (Postfix) with ESMTP id B8664605C380;
 Tue, 18 Jun 2024 15:20:55 -0400 (EDT)
Subject: |SUCCESS| pw141252 [PATCH] [v3] graph: avoid id collisions
From: dpdklab@iol.unh.edu
To: Test Report <test-report@dpdk.org>
Cc: dpdk-test-reports@iol.unh.edu
In-Reply-To: <20240618092324.54166-2-rjarry@redhat.com>
References: <20240618092324.54166-2-rjarry@redhat.com>
Content-Type: text/plain
X-BeenThere: test-report@dpdk.org
X-Mailman-Version: 2.1.29
Precedence: list
List-Id: automatic DPDK test reports <test-report.dpdk.org>
List-Unsubscribe: <https://mails.dpdk.org/options/test-report>,
 <mailto:test-report-request@dpdk.org?subject=unsubscribe>
List-Archive: <http://mails.dpdk.org/archives/test-report/>
List-Post: <mailto:test-report@dpdk.org>
List-Help: <mailto:test-report-request@dpdk.org?subject=help>
List-Subscribe: <https://mails.dpdk.org/listinfo/test-report>,
 <mailto:test-report-request@dpdk.org?subject=subscribe>
Errors-To: test-report-bounces@dpdk.org

Test-Label: iol-compile-arm64-testing
Test-Status: SUCCESS
http://dpdk.org/patch/141252

_Testing PASS_

Submitter: Robin Jarry <rjarry@redhat.com>
Date: Tuesday, June 18 2024 09:23:25 
DPDK git baseline: Repo:dpdk
  Branch: master
  CommitID:eabbac98af1345157e07c431e18543296c37c355

141252 --> testing pass

Test environment and result as below:

+----------------------------------------+--------------------+
|              Environment               | dpdk_meson_compile |
+========================================+====================+
| Ubuntu 20.04 ARM SVE                   | PASS               |
+----------------------------------------+--------------------+
| Debian 12 with MUSDK                   | PASS               |
+----------------------------------------+--------------------+
| Ubuntu 20.04 aarch32 GCC Cross Compile | PASS               |
+----------------------------------------+--------------------+
| RHEL9 (ARM)                            | PASS               |
+----------------------------------------+--------------------+
| Fedora 39 (ARM)                        | PASS               |
+----------------------------------------+--------------------+
| Ubuntu 20.04 ARM Clang Cross Compile   | PASS               |
+----------------------------------------+--------------------+
| Ubuntu 20.04 ARM GCC Cross Compile     | PASS               |
+----------------------------------------+--------------------+
| CentOS Stream 9 (ARM)                  | PASS               |
+----------------------------------------+--------------------+
| Fedora 40 (ARM Clang)                  | PASS               |
+----------------------------------------+--------------------+
| Fedora 38 (ARM Clang)                  | PASS               |
+----------------------------------------+--------------------+
| Ubuntu 20.04 (ARM)                     | PASS               |
+----------------------------------------+--------------------+
| Ubuntu 24.04 (ARM)                     | PASS               |
+----------------------------------------+--------------------+


Ubuntu 20.04 ARM SVE
	Kernel: 5.4.0-167-generic
	Compiler: gcc (Ubuntu 10.5.0-1ubuntu1~20.04) 10.5.0

Debian 12 with MUSDK
	Kernel: Container Host Kernel
	Compiler: gcc 12.2.0

Ubuntu 20.04 aarch32 GCC Cross Compile
	Kernel: 5.4.0-167-generic
	Compiler: gcc 9.4.0

RHEL9 (ARM)
	Kernel: Depends on container host
	Compiler: gcc 11.4.1

Fedora 39 (ARM)
	Kernel: Depends on container host
	Compiler: gcc 13.2.1

Ubuntu 20.04 ARM Clang Cross Compile
	Kernel: 5.4.0-72-generic
	Compiler: clang 10.0.0-4ubuntu1

Ubuntu 20.04 ARM GCC Cross Compile
	Kernel: 5.4.0-167-generic
	Compiler: aarch64-linux-gnu-gcc (Ubuntu 9.4.0-1ubuntu1~20.04.2) 9.4.0

CentOS Stream 9 (ARM)
	Kernel: Container Host Kernel
	Compiler: gcc 11.4.1

Fedora 40 (ARM Clang)
	Kernel: Depends on container host
	Compiler: clang 18.1.6

Fedora 38 (ARM Clang)
	Kernel: Depends on container host
	Compiler: clang 16.0.6

Ubuntu 20.04 (ARM)
	Kernel: Container Host Kernel
	Compiler: gcc 9.4.0

Ubuntu 24.04 (ARM)
	Kernel: 5.4.0-167-generic
	Compiler: gcc 13.2.0

To view detailed results, visit:
https://lab.dpdk.org/results/dashboard/patchsets/30221/

UNH-IOL DPDK Community Lab

To manage your email subscriptions, visit: 
https://lab.dpdk.org/results/dashboard/preferences/subscriptions/