From mboxrd@z Thu Jan  1 00:00:00 1970
Return-Path: <test-report-bounces@dpdk.org>
Received: from mails.dpdk.org (mails.dpdk.org [217.70.189.124])
	by inbox.dpdk.org (Postfix) with ESMTP id 58AFE45496
	for <public@inbox.dpdk.org>; Tue, 18 Jun 2024 21:38:57 +0200 (CEST)
Received: from mails.dpdk.org (localhost [127.0.0.1])
	by mails.dpdk.org (Postfix) with ESMTP id 55D2B402CB;
	Tue, 18 Jun 2024 21:38:57 +0200 (CEST)
Received: from mail-wm1-f100.google.com (mail-wm1-f100.google.com
 [209.85.128.100])
 by mails.dpdk.org (Postfix) with ESMTP id 867AF4027C
 for <test-report@dpdk.org>; Tue, 18 Jun 2024 21:38:56 +0200 (CEST)
Received: by mail-wm1-f100.google.com with SMTP id
 5b1f17b1804b1-42172ed3597so1095275e9.0
 for <test-report@dpdk.org>; Tue, 18 Jun 2024 12:38:56 -0700 (PDT)
DKIM-Signature: v=1; a=rsa-sha256; c=relaxed/relaxed;
 d=iol.unh.edu; s=unh-iol; t=1718739536; x=1719344336; darn=dpdk.org;
 h=references:in-reply-to:cc:to:from:subject:message-id:date:from:to
 :cc:subject:date:message-id:reply-to;
 bh=ApHwKt8URJFt8lZj+NRBTjYo+AFoG/fHDOkQPxq2gW8=;
 b=Ej4VOpTK3F61fPmLeM4yN1FvQC2uGL8Oe428nTXrhjHa24GEYopH0DAfE6Y/eUPUr2
 oTsNHTlTpq1hi68D9WP8P8C6TdOVPLpOOzakpgboUlGXEDbcgcaDcDr3KvgwIKGEf1QG
 mbvA9PDP5cyKDqIY9EbPct4YcdoUCifIAvPQs=
X-Google-DKIM-Signature: v=1; a=rsa-sha256; c=relaxed/relaxed;
 d=1e100.net; s=20230601; t=1718739536; x=1719344336;
 h=references:in-reply-to:cc:to:from:subject:message-id:date
 :x-gm-message-state:from:to:cc:subject:date:message-id:reply-to;
 bh=ApHwKt8URJFt8lZj+NRBTjYo+AFoG/fHDOkQPxq2gW8=;
 b=rVN7m3QOfeYyqHurG+J4kLnsQ8h370Z1psdvAelSpUhQYBLnh+lg8INnlUkriJiXg1
 IVzuECQoemgOlb8cxEv+I30wmPvl7SkIMbCLHmC5q9Zxj41TVgQLC6NHVNcmjNwHn6EK
 6dTJVGRE/XqbhJecG8zgQgVh/oVTyHu7v9dfSz4VOpU8eP7YdGywulN5KdNhaOboWtoZ
 SnOJ9qHfMOvyTwbYHNtJeUNKnRg1KEsDF2wzknQNDA9pb30iowji1GjLeRV56dqk51FG
 RHlwAsgdIWY+oSuyh5asJH0WX3Hlgj+6PnacLgolbB2RTkJPEYaZshAFI6eXoh57I1bD
 y8iQ==
X-Gm-Message-State: AOJu0Yx31zlLskkBLsx9EwjlTVfYFrauUaNlhRvM9OTP4UU7n+ZrS6ct
 fPtoY/+12/g75pcV3wrB9ZThSqn59Wuo66llly3AfRJCjiAKaR8tSCK0jHGa1bE25MbBxJLdH7V
 rQgzkbjjn2bD8xsk5oNhw6LbCIDGTI96FQpr3M4jrGj2hw9XtfNGxeRdF
X-Google-Smtp-Source: AGHT+IGEusq9v4vPyLtA400wbzcPFudz38WINxnIKVw6rP09CPcVxQE1DV+H/EWS/VmgBNwzb1QPCuAhIA4w
X-Received: by 2002:a05:600c:3b28:b0:424:74e1:bc8a with SMTP id
 5b1f17b1804b1-42474e1bd31mr7004035e9.4.1718739536308; 
 Tue, 18 Jun 2024 12:38:56 -0700 (PDT)
Received: from postal.iol.unh.edu (postal.iol.unh.edu.
 [2606:4100:3880:1234::84]) by smtp-relay.gmail.com with ESMTPS id
 5b1f17b1804b1-422876d1f25sm6822455e9.51.2024.06.18.12.38.56
 (version=TLS1_2 cipher=ECDHE-ECDSA-AES128-GCM-SHA256 bits=128/128);
 Tue, 18 Jun 2024 12:38:56 -0700 (PDT)
X-Relaying-Domain: iol.unh.edu
Date: Tue, 18 Jun 2024 12:38:56 -0700 (PDT)
Message-ID: <6671e250.050a0220.7b9bf.ae15SMTPIN_ADDED_MISSING@mx.google.com>
Received: from [172.21.0.7] (unknown [172.18.0.240])
 by postal.iol.unh.edu (Postfix) with ESMTP id 8178B605C380;
 Tue, 18 Jun 2024 15:38:55 -0400 (EDT)
Subject: |SUCCESS| pw141252 [PATCH] [v3] graph: avoid id collisions
From: dpdklab@iol.unh.edu
To: Test Report <test-report@dpdk.org>
Cc: dpdk-test-reports@iol.unh.edu
In-Reply-To: <20240618092324.54166-2-rjarry@redhat.com>
References: <20240618092324.54166-2-rjarry@redhat.com>
Content-Type: text/plain
X-BeenThere: test-report@dpdk.org
X-Mailman-Version: 2.1.29
Precedence: list
List-Id: automatic DPDK test reports <test-report.dpdk.org>
List-Unsubscribe: <https://mails.dpdk.org/options/test-report>,
 <mailto:test-report-request@dpdk.org?subject=unsubscribe>
List-Archive: <http://mails.dpdk.org/archives/test-report/>
List-Post: <mailto:test-report@dpdk.org>
List-Help: <mailto:test-report-request@dpdk.org?subject=help>
List-Subscribe: <https://mails.dpdk.org/listinfo/test-report>,
 <mailto:test-report-request@dpdk.org?subject=subscribe>
Errors-To: test-report-bounces@dpdk.org

Test-Label: iol-unit-arm64-testing
Test-Status: SUCCESS
http://dpdk.org/patch/141252

_Testing PASS_

Submitter: Robin Jarry <rjarry@redhat.com>
Date: Tuesday, June 18 2024 09:23:25 
DPDK git baseline: Repo:dpdk
  Branch: master
  CommitID:eabbac98af1345157e07c431e18543296c37c355

141252 --> testing pass

Test environment and result as below:

+-----------------------------+----------------+--------------+------------------------------+---------------------------+
|         Environment         | dpdk_unit_test | lpm_autotest | cryptodev_sw_snow3g_autotest | cryptodev_sw_zuc_autotest |
+=============================+================+==============+==============================+===========================+
| 32-bit Ubuntu 20.04.4 (ARM) | PASS           | SKIPPED      | SKIPPED                      | SKIPPED                   |
+-----------------------------+----------------+--------------+------------------------------+---------------------------+
| CentOS Stream 9 (ARM)       | PASS           | SKIPPED      | SKIPPED                      | SKIPPED                   |
+-----------------------------+----------------+--------------+------------------------------+---------------------------+
| Debian 12 (arm)             | PASS           | SKIPPED      | PASS                         | PASS                      |
+-----------------------------+----------------+--------------+------------------------------+---------------------------+
| Debian 11 (Buster) (ARM)    | PASS           | SKIPPED      | SKIPPED                      | SKIPPED                   |
+-----------------------------+----------------+--------------+------------------------------+---------------------------+
| Fedora 37 (ARM)             | PASS           | SKIPPED      | SKIPPED                      | SKIPPED                   |
+-----------------------------+----------------+--------------+------------------------------+---------------------------+
| Fedora 38 (ARM)             | PASS           | SKIPPED      | SKIPPED                      | SKIPPED                   |
+-----------------------------+----------------+--------------+------------------------------+---------------------------+
| Fedora 39 (ARM Clang)       | PASS           | SKIPPED      | SKIPPED                      | SKIPPED                   |
+-----------------------------+----------------+--------------+------------------------------+---------------------------+
| Fedora 39 (ARM)             | PASS           | SKIPPED      | SKIPPED                      | SKIPPED                   |
+-----------------------------+----------------+--------------+------------------------------+---------------------------+
| Fedora 40 (ARM)             | PASS           | SKIPPED      | SKIPPED                      | SKIPPED                   |
+-----------------------------+----------------+--------------+------------------------------+---------------------------+
| Fedora 38 (ARM Clang)       | PASS           | SKIPPED      | SKIPPED                      | SKIPPED                   |
+-----------------------------+----------------+--------------+------------------------------+---------------------------+
| RHEL9 (ARM)                 | PASS           | SKIPPED      | SKIPPED                      | SKIPPED                   |
+-----------------------------+----------------+--------------+------------------------------+---------------------------+
| Ubuntu 20.04 (ARM)          | PASS           | SKIPPED      | SKIPPED                      | SKIPPED                   |
+-----------------------------+----------------+--------------+------------------------------+---------------------------+
| Ubuntu 24.04 (ARM)          | PASS           | SKIPPED      | SKIPPED                      | SKIPPED                   |
+-----------------------------+----------------+--------------+------------------------------+---------------------------+
| Fedora 40 (ARM Clang)       | PASS           | SKIPPED      | SKIPPED                      | SKIPPED                   |
+-----------------------------+----------------+--------------+------------------------------+---------------------------+
| Ubuntu 22.04 (ARM)          | PASS           | SKIPPED      | SKIPPED                      | SKIPPED                   |
+-----------------------------+----------------+--------------+------------------------------+---------------------------+
| Ubuntu 20.04 ARM SVE        | SKIPPED        | PASS         | SKIPPED                      | SKIPPED                   |
+-----------------------------+----------------+--------------+------------------------------+---------------------------+


32-bit Ubuntu 20.04.4 (ARM)
	Kernel: 5.4.0-155-generic aarch64
	Compiler: gcc 9.4

CentOS Stream 9 (ARM)
	Kernel: Container Host Kernel
	Compiler: gcc 11.4.1

Debian 12 (arm)
	Kernel: Container Host Kernel
	Compiler: gcc 12.2.0

Debian 11 (Buster) (ARM)
	Kernel: Container Host Kernel
	Compiler: gcc 10.2.1

Fedora 37 (ARM)
	Kernel: Depends on container host
	Compiler: gcc 12.3.1

Fedora 38 (ARM)
	Kernel: Depends on container host
	Compiler: gcc 13.2.1

Fedora 39 (ARM Clang)
	Kernel: Depends on container host
	Compiler: clang 17.0.6

Fedora 39 (ARM)
	Kernel: Depends on container host
	Compiler: gcc 13.2.1

Fedora 40 (ARM)
	Kernel: Depends on container host
	Compiler: gcc 14.1.1

Fedora 38 (ARM Clang)
	Kernel: Depends on container host
	Compiler: clang 16.0.6

RHEL9 (ARM)
	Kernel: Depends on container host
	Compiler: gcc 11.4.1

Ubuntu 20.04 (ARM)
	Kernel: Container Host Kernel
	Compiler: gcc 9.4.0

Ubuntu 24.04 (ARM)
	Kernel: 5.4.0-167-generic
	Compiler: gcc 13.2.0

Fedora 40 (ARM Clang)
	Kernel: Depends on container host
	Compiler: clang 18.1.6

Ubuntu 22.04 (ARM)
	Kernel: Container Host Kernel
	Compiler: gcc 11.4.0

Ubuntu 20.04 ARM SVE
	Kernel: 5.4.0-167-generic
	Compiler: gcc (Ubuntu 10.5.0-1ubuntu1~20.04) 10.5.0

To view detailed results, visit:
https://lab.dpdk.org/results/dashboard/patchsets/30221/

UNH-IOL DPDK Community Lab

To manage your email subscriptions, visit: 
https://lab.dpdk.org/results/dashboard/preferences/subscriptions/