From mboxrd@z Thu Jan  1 00:00:00 1970
Return-Path: <test-report-bounces@dpdk.org>
Received: from mails.dpdk.org (mails.dpdk.org [217.70.189.124])
	by inbox.dpdk.org (Postfix) with ESMTP id E7C6445497
	for <public@inbox.dpdk.org>; Tue, 18 Jun 2024 22:24:01 +0200 (CEST)
Received: from mails.dpdk.org (localhost [127.0.0.1])
	by mails.dpdk.org (Postfix) with ESMTP id E04A7402CB;
	Tue, 18 Jun 2024 22:24:01 +0200 (CEST)
Received: from mail-wm1-f99.google.com (mail-wm1-f99.google.com
 [209.85.128.99]) by mails.dpdk.org (Postfix) with ESMTP id 9BDF34027C
 for <test-report@dpdk.org>; Tue, 18 Jun 2024 22:24:00 +0200 (CEST)
Received: by mail-wm1-f99.google.com with SMTP id
 5b1f17b1804b1-421a1b834acso49651725e9.3
 for <test-report@dpdk.org>; Tue, 18 Jun 2024 13:24:00 -0700 (PDT)
DKIM-Signature: v=1; a=rsa-sha256; c=relaxed/relaxed;
 d=iol.unh.edu; s=unh-iol; t=1718742240; x=1719347040; darn=dpdk.org;
 h=references:in-reply-to:cc:to:from:subject:message-id:date:from:to
 :cc:subject:date:message-id:reply-to;
 bh=6O1uNoMCSm4jc1Z2l2vhaI3yvft4Zbz9AkCHFji/x/w=;
 b=hEm20mHG034qy1GFBQ6ufvkxt6dgDVWz0paPMOqpht1SxKxRHUP6Gg+Wv7+1/M4uV5
 lgddGwxZrU7TxI5Oi05A0AWzwbqXW/mCicRIcje3Ufxddj0hjLJitc10yM5l3YsWM6VU
 EHFRUHCIMgieShjSbzNgdm2Ms2ChLJGOTqBtI=
X-Google-DKIM-Signature: v=1; a=rsa-sha256; c=relaxed/relaxed;
 d=1e100.net; s=20230601; t=1718742240; x=1719347040;
 h=references:in-reply-to:cc:to:from:subject:message-id:date
 :x-gm-message-state:from:to:cc:subject:date:message-id:reply-to;
 bh=6O1uNoMCSm4jc1Z2l2vhaI3yvft4Zbz9AkCHFji/x/w=;
 b=ev2Aj56RgGAVj5uy/Mi0kyRRRf0V4GneuqZvN/CHzIlfgct7FnzjH97Q2mRz5/GqxO
 JKMHrHe/RXmlr1ejbvdoKlydMfJ+7OmYGk4Z0Gk5nRf0ywerd6OQZmrB0ZjGijE3oNLW
 2tCpxoqrXkY7eGGwQGHaWIfqdD74cPNo+s5FONv7i/Me/di1WE6qU9p4F3lmGezSy5dQ
 XAmNq4v7Oi146CodaAUsGL+oRewrDMYZGHGpIB1myc7clfoARKF2Bl8HWPTau/IUSC8Y
 IL98uWNRHMtL9zC1F1TEFh3xCyfTUmLJSSzDtXKWbyS062mAQVzVdB1Z57uUBRgF6MXA
 Rwhg==
X-Gm-Message-State: AOJu0Yx1AA6lc4AhtWhE8F+cLNcoi4QqDBpCHmrW4MBRQCCXbbUv/uDY
 SVC56iPy4+WEKxfw4mV+f6tyQghVWfKqF9YsgEf27OA5ZlljWE8b4lxmKJySGbqgUql+3AIhoFH
 ssiWxPH3IddiiJm9gJwTqIfxJhSnbPJrbGP3Ky+8XAoqLDJeIa7jmzy8k
X-Google-Smtp-Source: AGHT+IH/1Q9hQ0Ym1cdNfFw/YXoY7HEcHftNXwq8sgJ/YKUbbOVgBFEj3kiyfiuHArONPsxbHmf6n3MSU3QG
X-Received: by 2002:a05:600c:2255:b0:421:aace:7aa9 with SMTP id
 5b1f17b1804b1-424751751b1mr3111495e9.9.1718742240245; 
 Tue, 18 Jun 2024 13:24:00 -0700 (PDT)
Received: from postal.iol.unh.edu (postal.iol.unh.edu.
 [2606:4100:3880:1234::84]) by smtp-relay.gmail.com with ESMTPS id
 ffacd0b85a97d-360750c5058sm498325f8f.31.2024.06.18.13.24.00
 (version=TLS1_2 cipher=ECDHE-ECDSA-AES128-GCM-SHA256 bits=128/128);
 Tue, 18 Jun 2024 13:24:00 -0700 (PDT)
X-Relaying-Domain: iol.unh.edu
Date: Tue, 18 Jun 2024 13:24:00 -0700 (PDT)
Message-ID: <6671ece0.5d0a0220.6915e.ca9eSMTPIN_ADDED_MISSING@mx.google.com>
Received: from [172.21.0.6] (unknown [172.18.0.240])
 by postal.iol.unh.edu (Postfix) with ESMTP id 6F833605C380;
 Tue, 18 Jun 2024 16:23:59 -0400 (EDT)
Subject: |SUCCESS| pw141277 [PATCH] vhost: Fix the crash caused by accessing 
From: dpdklab@iol.unh.edu
To: Test Report <test-report@dpdk.org>
Cc: dpdk-test-reports@iol.unh.edu
In-Reply-To: <20240618055929.40842-1-15957197901@163.com>
References: <20240618055929.40842-1-15957197901@163.com>
Content-Type: text/plain
X-BeenThere: test-report@dpdk.org
X-Mailman-Version: 2.1.29
Precedence: list
List-Id: automatic DPDK test reports <test-report.dpdk.org>
List-Unsubscribe: <https://mails.dpdk.org/options/test-report>,
 <mailto:test-report-request@dpdk.org?subject=unsubscribe>
List-Archive: <http://mails.dpdk.org/archives/test-report/>
List-Post: <mailto:test-report@dpdk.org>
List-Help: <mailto:test-report-request@dpdk.org?subject=help>
List-Subscribe: <https://mails.dpdk.org/listinfo/test-report>,
 <mailto:test-report-request@dpdk.org?subject=subscribe>
Errors-To: test-report-bounces@dpdk.org

Test-Label: iol-compile-amd64-testing
Test-Status: SUCCESS
http://dpdk.org/patch/141277

_Testing PASS_

Submitter: zhaoxinxin <15957197901@163.com>
Date: Tuesday, June 18 2024 05:59:29 
DPDK git baseline: Repo:dpdk
  Branch: master
  CommitID:b303beb6a9b12df49124ee0701027ca72be7aee1

141277 --> testing pass

Test environment and result as below:

+---------------------+--------------------+-------------------+----------------------+
|     Environment     | dpdk_meson_compile | dpdk_msvc_compile | dpdk_mingw64_compile |
+=====================+====================+===================+======================+
| FreeBSD 13.3        | PASS               | SKIPPED           | SKIPPED              |
+---------------------+--------------------+-------------------+----------------------+
| Windows Server 2022 | PASS               | PASS              | PASS                 |
+---------------------+--------------------+-------------------+----------------------+
| Windows Server 2019 | PASS               | SKIPPED           | PASS                 |
+---------------------+--------------------+-------------------+----------------------+
| FreeBSD 14.1        | PASS               | SKIPPED           | SKIPPED              |
+---------------------+--------------------+-------------------+----------------------+


FreeBSD 13.3
	Kernel: 13.3-RELEASE-p1
	Compiler: clang 17.0.6

Windows Server 2022
	Kernel: 10.0.20348.2031
	Compiler: clang 15.0.7, gcc 8.1.0 (MinGW), and MSVC VS 17.9

Windows Server 2019
	Kernel: 10.0.17763
	Compiler: clang 14.0 and gcc 8.1.0 (MinGW)

FreeBSD 14.1
	Kernel: 14.1
	Compiler: clang 18.1.5

To view detailed results, visit:
https://lab.dpdk.org/results/dashboard/patchsets/30226/

UNH-IOL DPDK Community Lab

To manage your email subscriptions, visit: 
https://lab.dpdk.org/results/dashboard/preferences/subscriptions/