From mboxrd@z Thu Jan  1 00:00:00 1970
Return-Path: <test-report-bounces@dpdk.org>
Received: from mails.dpdk.org (mails.dpdk.org [217.70.189.124])
	by inbox.dpdk.org (Postfix) with ESMTP id 0C4C94549B
	for <public@inbox.dpdk.org>; Tue, 18 Jun 2024 23:29:06 +0200 (CEST)
Received: from mails.dpdk.org (localhost [127.0.0.1])
	by mails.dpdk.org (Postfix) with ESMTP id 08071402CB;
	Tue, 18 Jun 2024 23:29:06 +0200 (CEST)
Received: from mail-ed1-f99.google.com (mail-ed1-f99.google.com
 [209.85.208.99]) by mails.dpdk.org (Postfix) with ESMTP id A67364027C
 for <test-report@dpdk.org>; Tue, 18 Jun 2024 23:29:04 +0200 (CEST)
Received: by mail-ed1-f99.google.com with SMTP id
 4fb4d7f45d1cf-57cc1c00b97so4894962a12.0
 for <test-report@dpdk.org>; Tue, 18 Jun 2024 14:29:04 -0700 (PDT)
DKIM-Signature: v=1; a=rsa-sha256; c=relaxed/relaxed;
 d=iol.unh.edu; s=unh-iol; t=1718746144; x=1719350944; darn=dpdk.org;
 h=references:in-reply-to:cc:to:from:subject:message-id:date:from:to
 :cc:subject:date:message-id:reply-to;
 bh=0eqczRepeCANE1ECAfvKD0yySs4Mdqq+vO5tqjRG4yQ=;
 b=gEC0KhQb88Aeu78Co4mLzFB6d3L3DlZKErrT0ebKka2OWkrFGnTPj9V9r6rKiVc69k
 cerIqwXWsDzMhALh4wq7ICf4tV5oofOqHKUYdbF0zN+2USLfoIaWgq2mGMiM6cm1KE/K
 avrLlqhSybZep5913jfCsJ9Gjr2hS0n9PB12M=
X-Google-DKIM-Signature: v=1; a=rsa-sha256; c=relaxed/relaxed;
 d=1e100.net; s=20230601; t=1718746144; x=1719350944;
 h=references:in-reply-to:cc:to:from:subject:message-id:date
 :x-gm-message-state:from:to:cc:subject:date:message-id:reply-to;
 bh=0eqczRepeCANE1ECAfvKD0yySs4Mdqq+vO5tqjRG4yQ=;
 b=XhAAu0M54TmRyeockxso1sMp5fINWaSSCc1jCWlydE/tv9dfNDCk1B+My4zpukmYFa
 RoJIa65yhobaui8spFtTyY66qaGBHPHqvJ6Ws+KJ+XtMX/R+U1NqV7wf3s0VQm832Ae3
 kD1eTCJiGMcyrDWki/uNkdRPi7guHaop85VrzGUgQJzHtcTm41r2h7WG/igASkjFrH56
 hqeNrO90pESjM92tqOivwx95i+QPn3ODwbU6Hsu3rQoEgCMhrQzsSLwKWZ6+UqI4YDAd
 MEyo3bdzjpUGc4LIT+DlGOFHALEUi1yPMGwJCPGdMqPztEAHNgknqMTyGvELVnctV5RO
 eEQw==
X-Gm-Message-State: AOJu0Yx2qLpuquj0/MbHTscgZbviiuvI6QIyj7n5ECsol3em8Qj4LQ8p
 d9Rv2LAa9yjGsZ/gICOCDp8LoO/Zj+uofO42J6EWBEtbeoTA+ZUKckeG3f3rGgJFNYwz+jxLuqo
 O/XkSCMNwd5BNMug/n94iTUg03GbahM10DVmLTcDU
X-Google-Smtp-Source: AGHT+IH5IxPiSABDfZLeqeLSa2kxkuKu7V8OhUrDg89ImNLBOAWLuy25U9ko7d2+laszA48s3aeBZMuGHy/l
X-Received: by 2002:a50:d74f:0:b0:57c:677a:a941 with SMTP id
 4fb4d7f45d1cf-57d07ebf13bmr325341a12.40.1718746144114; 
 Tue, 18 Jun 2024 14:29:04 -0700 (PDT)
Received: from postal.iol.unh.edu (postal.iol.unh.edu. [132.177.123.84])
 by smtp-relay.gmail.com with ESMTPS id
 4fb4d7f45d1cf-57d0efcfcd1sm467a12.22.2024.06.18.14.29.03
 (version=TLS1_2 cipher=ECDHE-ECDSA-AES128-GCM-SHA256 bits=128/128);
 Tue, 18 Jun 2024 14:29:04 -0700 (PDT)
X-Relaying-Domain: iol.unh.edu
Date: Tue, 18 Jun 2024 14:29:04 -0700 (PDT)
Message-ID: <6671fc20.050a0220.271da.00c2SMTPIN_ADDED_MISSING@mx.google.com>
Received: from [172.21.0.6] (unknown [172.18.0.240])
 by postal.iol.unh.edu (Postfix) with ESMTP id 429DE605C380;
 Tue, 18 Jun 2024 17:29:03 -0400 (EDT)
Subject: |SUCCESS| pw141277 [PATCH] vhost: Fix the crash caused by accessing 
From: dpdklab@iol.unh.edu
To: Test Report <test-report@dpdk.org>
Cc: dpdk-test-reports@iol.unh.edu
In-Reply-To: <20240618055929.40842-1-15957197901@163.com>
References: <20240618055929.40842-1-15957197901@163.com>
Content-Type: text/plain
X-BeenThere: test-report@dpdk.org
X-Mailman-Version: 2.1.29
Precedence: list
List-Id: automatic DPDK test reports <test-report.dpdk.org>
List-Unsubscribe: <https://mails.dpdk.org/options/test-report>,
 <mailto:test-report-request@dpdk.org?subject=unsubscribe>
List-Archive: <http://mails.dpdk.org/archives/test-report/>
List-Post: <mailto:test-report@dpdk.org>
List-Help: <mailto:test-report-request@dpdk.org?subject=help>
List-Subscribe: <https://mails.dpdk.org/listinfo/test-report>,
 <mailto:test-report-request@dpdk.org?subject=subscribe>
Errors-To: test-report-bounces@dpdk.org

Test-Label: iol-abi-testing
Test-Status: SUCCESS
http://dpdk.org/patch/141277

_Testing PASS_

Submitter: zhaoxinxin <15957197901@163.com>
Date: Tuesday, June 18 2024 05:59:29 
DPDK git baseline: Repo:dpdk
  Branch: master
  CommitID:b303beb6a9b12df49124ee0701027ca72be7aee1

141277 --> testing pass

Test environment and result as below:

+------------------+----------+
|   Environment    | abi_test |
+==================+==========+
| CentOS Stream 9  | PASS     |
+------------------+----------+
| Debian Bullseye  | PASS     |
+------------------+----------+
| Fedora 38        | PASS     |
+------------------+----------+
| CentOS Stream 8  | PASS     |
+------------------+----------+
| Fedora 40        | PASS     |
+------------------+----------+
| openSUSE Leap 15 | PASS     |
+------------------+----------+
| Debian 12        | PASS     |
+------------------+----------+
| Fedora 37        | PASS     |
+------------------+----------+
| Fedora 39        | PASS     |
+------------------+----------+
| Ubuntu 22.04     | PASS     |
+------------------+----------+
| RHEL8            | PASS     |
+------------------+----------+
| RHEL9            | PASS     |
+------------------+----------+
| Ubuntu 24.04     | PASS     |
+------------------+----------+


CentOS Stream 9
	Kernel: 5.4.0-167-generic
	Compiler: gcc 11.4.1 20230605

Debian Bullseye
	Kernel: 5.4.0-167-generic
	Compiler: gcc 10.2.1-6

Fedora 38
	Kernel: Depends on container host
	Compiler: clang 16.0.6

CentOS Stream 8
	Kernel: 5.4.0-167-generic
	Compiler: gcc 8.5.0 20210514

Fedora 40
	Kernel: Depends on container host
	Compiler: clang 18.1.6

openSUSE Leap 15
	Kernel: 5.4.0-167-generic
	Compiler: gcc 7.5.0

Debian 12
	Kernel: Container Host Kernel
	Compiler: gcc 12.2.0

Fedora 37
	Kernel: Depends on container host system
	Compiler: gcc 12.3.1

Fedora 39
	Kernel: Depends on container host
	Compiler: clang 17.0.6

Ubuntu 22.04
	Kernel: 5.4.0-167-generic
	Compiler: gcc 11.4.0

RHEL8
	Kernel: 5.4.0-167-generic
	Compiler: gcc 8.5.0 20210514 (Red Hat 8.5.0-20)

RHEL9
	Kernel: Depends on container host
	Compiler: gcc 11.4.1

Ubuntu 24.04
	Kernel: 5.4.0-167-generic
	Compiler: gcc 13.2.0

To view detailed results, visit:
https://lab.dpdk.org/results/dashboard/patchsets/30226/

UNH-IOL DPDK Community Lab

To manage your email subscriptions, visit: 
https://lab.dpdk.org/results/dashboard/preferences/subscriptions/