From mboxrd@z Thu Jan  1 00:00:00 1970
Return-Path: <test-report-bounces@dpdk.org>
Received: from mails.dpdk.org (mails.dpdk.org [217.70.189.124])
	by inbox.dpdk.org (Postfix) with ESMTP id C280A4549C
	for <public@inbox.dpdk.org>; Wed, 19 Jun 2024 00:38:41 +0200 (CEST)
Received: from mails.dpdk.org (localhost [127.0.0.1])
	by mails.dpdk.org (Postfix) with ESMTP id B722640291;
	Wed, 19 Jun 2024 00:38:41 +0200 (CEST)
Received: from mail-lf1-f98.google.com (mail-lf1-f98.google.com
 [209.85.167.98]) by mails.dpdk.org (Postfix) with ESMTP id C42E94021D
 for <test-report@dpdk.org>; Wed, 19 Jun 2024 00:38:39 +0200 (CEST)
Received: by mail-lf1-f98.google.com with SMTP id
 2adb3069b0e04-52cc14815c3so1747739e87.0
 for <test-report@dpdk.org>; Tue, 18 Jun 2024 15:38:39 -0700 (PDT)
DKIM-Signature: v=1; a=rsa-sha256; c=relaxed/relaxed;
 d=iol.unh.edu; s=unh-iol; t=1718750319; x=1719355119; darn=dpdk.org;
 h=references:in-reply-to:cc:to:from:subject:message-id:date:from:to
 :cc:subject:date:message-id:reply-to;
 bh=MTeQbldhIy0SVCBIVtJDFcu7Xo22faDWFLWXEMRGA5g=;
 b=d79aanBigkQet3wiCmM7QvkRQUs6C5BEAtRk2I848cw23yvNblF/i8Rc71HQmWsg0w
 NqntXY6+vHZwqzivJkBr8iavMaxbXnY21XdZB5qB9jmi+S91HWlv+zzJ32WVEUMaGNR9
 gRZMizgy/kZcl1ELflJ2yW/sxJTkVezpiWnvA=
X-Google-DKIM-Signature: v=1; a=rsa-sha256; c=relaxed/relaxed;
 d=1e100.net; s=20230601; t=1718750319; x=1719355119;
 h=references:in-reply-to:cc:to:from:subject:message-id:date
 :x-gm-message-state:from:to:cc:subject:date:message-id:reply-to;
 bh=MTeQbldhIy0SVCBIVtJDFcu7Xo22faDWFLWXEMRGA5g=;
 b=B3HYugMcpJ9BHNja9TB4owAeaJ7BAhOd0fhtQM85F7vtKRALahSopKDu/XY3B7sUcu
 xp2X8W0eQ2RSaujdmuidlr+tNmb64mY1C9ZOolJ0s5OeNEvsF+KHkQQrEX04JjOc+/N6
 nmVrdHltgWqou6VH36p8/4OasvZlSOZwzAEAMdlItQWGsz1jPsBDDhn9tDS6puaVqUd7
 HVLM8k4pzg9Di2dw5ZoEFoOstelbZg4TzPmc+xGFq/FMFRg5anHNdCkQGO1fmZqR5Kj0
 zfQKWkCUAabj6pvVtWo6bGc6bhoyphPRMbQPfwoJvnqkXTOAFSImjTDOuYKOn6OVkWnk
 k1bg==
X-Gm-Message-State: AOJu0Yx5sI/QC2wccSWjCcZk8yzq0WNb67hRQ+4lVfw7BtkTNET12zkr
 7tydhJ/SRF13txUj56NGIp27mpa7frooLhqCTMWdECb4KNqSD+3+xSBYHRhq5qTXq1Zlvvm9EbO
 whmjehinDGk4URX5AjIoZh5fFcyJyNPEkb/5fp2G6AwVrJ3mtExcUn3Ec
X-Google-Smtp-Source: AGHT+IFeHcI6SGNl2US6oVqi6J89IXWufpwhnOZWErz6AYnVgWP1O20PAT20NpFnVK/pCDU3cCpMhREyTOed
X-Received: by 2002:a05:6512:ac4:b0:52c:cb56:8e8d with SMTP id
 2adb3069b0e04-52ccb568fc9mr372191e87.37.1718750319204; 
 Tue, 18 Jun 2024 15:38:39 -0700 (PDT)
Received: from postal.iol.unh.edu (postal.iol.unh.edu.
 [2606:4100:3880:1234::84]) by smtp-relay.gmail.com with ESMTPS id
 2adb3069b0e04-52ca282642dsm164926e87.27.2024.06.18.15.38.39
 (version=TLS1_2 cipher=ECDHE-ECDSA-AES128-GCM-SHA256 bits=128/128);
 Tue, 18 Jun 2024 15:38:39 -0700 (PDT)
X-Relaying-Domain: iol.unh.edu
Date: Tue, 18 Jun 2024 15:38:39 -0700 (PDT)
Message-ID: <66720c6f.c20a0220.5e2d6.8727SMTPIN_ADDED_MISSING@mx.google.com>
Received: from [172.21.0.7] (unknown [172.18.0.240])
 by postal.iol.unh.edu (Postfix) with ESMTP id 063CD605C380;
 Tue, 18 Jun 2024 18:38:38 -0400 (EDT)
Subject: |SUCCESS| pw141277 [PATCH] vhost: Fix the crash caused by accessing 
From: dpdklab@iol.unh.edu
To: Test Report <test-report@dpdk.org>
Cc: dpdk-test-reports@iol.unh.edu
In-Reply-To: <20240618055929.40842-1-15957197901@163.com>
References: <20240618055929.40842-1-15957197901@163.com>
Content-Type: text/plain
X-BeenThere: test-report@dpdk.org
X-Mailman-Version: 2.1.29
Precedence: list
List-Id: automatic DPDK test reports <test-report.dpdk.org>
List-Unsubscribe: <https://mails.dpdk.org/options/test-report>,
 <mailto:test-report-request@dpdk.org?subject=unsubscribe>
List-Archive: <http://mails.dpdk.org/archives/test-report/>
List-Post: <mailto:test-report@dpdk.org>
List-Help: <mailto:test-report-request@dpdk.org?subject=help>
List-Subscribe: <https://mails.dpdk.org/listinfo/test-report>,
 <mailto:test-report-request@dpdk.org?subject=subscribe>
Errors-To: test-report-bounces@dpdk.org

Test-Label: iol-unit-amd64-testing
Test-Status: SUCCESS
http://dpdk.org/patch/141277

_Testing PASS_

Submitter: zhaoxinxin <15957197901@163.com>
Date: Tuesday, June 18 2024 05:59:29 
DPDK git baseline: Repo:dpdk
  Branch: master
  CommitID:b303beb6a9b12df49124ee0701027ca72be7aee1

141277 --> testing pass

Test environment and result as below:

+------------------+----------------+
|   Environment    | dpdk_unit_test |
+==================+================+
| CentOS Stream 8  | PASS           |
+------------------+----------------+
| CentOS Stream 9  | PASS           |
+------------------+----------------+
| Debian Bullseye  | PASS           |
+------------------+----------------+
| Fedora 37        | PASS           |
+------------------+----------------+
| Debian 12        | PASS           |
+------------------+----------------+
| Fedora 39        | PASS           |
+------------------+----------------+
| Fedora 38        | PASS           |
+------------------+----------------+
| Fedora 40        | PASS           |
+------------------+----------------+
| openSUSE Leap 15 | PASS           |
+------------------+----------------+
| Ubuntu 24.04     | PASS           |
+------------------+----------------+
| RHEL8            | PASS           |
+------------------+----------------+
| Ubuntu 20.04     | PASS           |
+------------------+----------------+
| RHEL9            | PASS           |
+------------------+----------------+
| Ubuntu 22.04     | PASS           |
+------------------+----------------+


CentOS Stream 8
	Kernel: 5.4.0-167-generic
	Compiler: gcc 8.5.0 20210514

CentOS Stream 9
	Kernel: 5.4.0-167-generic
	Compiler: gcc 11.4.1 20230605

Debian Bullseye
	Kernel: 5.4.0-167-generic
	Compiler: gcc 10.2.1-6

Fedora 37
	Kernel: Depends on container host system
	Compiler: gcc 12.3.1

Debian 12
	Kernel: Container Host Kernel
	Compiler: gcc 12.2.0

Fedora 39
	Kernel: Depends on container host
	Compiler: gcc 13.2.1

Fedora 38
	Kernel: Depends on container host
	Compiler: clang 16.0.6

Fedora 40
	Kernel: Depends on container host
	Compiler: clang 18.1.6

openSUSE Leap 15
	Kernel: 5.4.0-167-generic
	Compiler: gcc 7.5.0

Ubuntu 24.04
	Kernel: 5.4.0-167-generic
	Compiler: gcc 13.2.0

RHEL8
	Kernel: 5.4.0-167-generic
	Compiler: gcc 8.5.0 20210514 (Red Hat 8.5.0-20)

Ubuntu 20.04
	Kernel: 5.4.0-167-generic
	Compiler: gcc 9.4.0-1ubuntu1~20.04.1

RHEL9
	Kernel: Depends on container host
	Compiler: gcc 11.4.1

Ubuntu 22.04
	Kernel: 5.4.0-167-generic
	Compiler: gcc 11.4.0

To view detailed results, visit:
https://lab.dpdk.org/results/dashboard/patchsets/30226/

UNH-IOL DPDK Community Lab

To manage your email subscriptions, visit: 
https://lab.dpdk.org/results/dashboard/preferences/subscriptions/