From mboxrd@z Thu Jan  1 00:00:00 1970
Return-Path: <test-report-bounces@dpdk.org>
Received: from mails.dpdk.org (mails.dpdk.org [217.70.189.124])
	by inbox.dpdk.org (Postfix) with ESMTP id 7F6F745498
	for <public@inbox.dpdk.org>; Wed, 19 Jun 2024 01:42:10 +0200 (CEST)
Received: from mails.dpdk.org (localhost [127.0.0.1])
	by mails.dpdk.org (Postfix) with ESMTP id 7A3624026C;
	Wed, 19 Jun 2024 01:42:10 +0200 (CEST)
Received: from mail-wm1-f100.google.com (mail-wm1-f100.google.com
 [209.85.128.100])
 by mails.dpdk.org (Postfix) with ESMTP id 7D1914021D
 for <test-report@dpdk.org>; Wed, 19 Jun 2024 01:42:09 +0200 (CEST)
Received: by mail-wm1-f100.google.com with SMTP id
 5b1f17b1804b1-42189d3c7efso62365765e9.2
 for <test-report@dpdk.org>; Tue, 18 Jun 2024 16:42:09 -0700 (PDT)
DKIM-Signature: v=1; a=rsa-sha256; c=relaxed/relaxed;
 d=iol.unh.edu; s=unh-iol; t=1718754129; x=1719358929; darn=dpdk.org;
 h=references:in-reply-to:cc:to:from:subject:message-id:date:from:to
 :cc:subject:date:message-id:reply-to;
 bh=cMopZPzsw/IKLJoh63l7jn9Y21PBMYPCJNELQX0eYVA=;
 b=Q4hYYkiJeCIVcRnA+AvzHhFBzlT8RCIVu+H4RhDLVse1gelAI0S8mAjvumE4xHSuEc
 qY0TdHptc6kjj2Dg7xv9vIXzA2ikrDkSXDpfPQgCzU9Ba92LJjJ9yXadTmm7akyRohoQ
 XNjNgmtEN6v78RtL4hRJfmlOqZjJI9oJ+gsAU=
X-Google-DKIM-Signature: v=1; a=rsa-sha256; c=relaxed/relaxed;
 d=1e100.net; s=20230601; t=1718754129; x=1719358929;
 h=references:in-reply-to:cc:to:from:subject:message-id:date
 :x-gm-message-state:from:to:cc:subject:date:message-id:reply-to;
 bh=cMopZPzsw/IKLJoh63l7jn9Y21PBMYPCJNELQX0eYVA=;
 b=ncCaPym3KQuhHKMMg9FdRYA9zKGOM2m0+38Nnz8TufQPxVdZfViiWe6UaNAbZcbERf
 x+PFEgdO+vH89CgaOoHSJxXodB5kKZ0YxkKEy25/cLzjo7bW346wThECcHSkLk61AivW
 4YUlPvonXEKElGdQUAxMuWefVKe3ycRqUVW2yEXh9vmu/tu7WMMBCgDULq9kUVeujRBK
 TziMKwId5YlYh7m7K2hAG8PgMMOkeyykcfxobMQlgKDfQhy4QYPYKo0aKcEjcxcMAIYU
 AnbL3VnSh9YmHOrUF2W3OurIJJBNpRJlEewQ4eu9sYkjTy55aAy1QQhQjyvrAwpdpvr7
 VKQA==
X-Gm-Message-State: AOJu0YwESqe64EOYyL6Ci5gp8g0Yq+jEIKjJ8Qgno+15OAfcEeP5R4hi
 w7RIQXsTQJY7/U7MlCWhkdaaz4C6Sr6DA4y82qehR2Vy0MrSbHjCi3fbpju3POk3B2SJBXf8oW5
 6xhnJ2+cplZmftaOvwfUj9PTXGnFD0l1UPSePSVrSlDkVGucsKRTDcvUI
X-Google-Smtp-Source: AGHT+IEZRTdIzLV0MlIMZ6hhOAY/3hqs9TaybhFbTnt+emE9w9iKPibMeyqdMQwTWyN3ligsHBr5u/DHJXVu
X-Received: by 2002:a05:600c:4982:b0:422:469a:f0ec with SMTP id
 5b1f17b1804b1-42475175287mr6152645e9.12.1718754129075; 
 Tue, 18 Jun 2024 16:42:09 -0700 (PDT)
Received: from postal.iol.unh.edu (postal.iol.unh.edu.
 [2606:4100:3880:1234::84]) by smtp-relay.gmail.com with ESMTPS id
 5b1f17b1804b1-422f631f6fbsm5948845e9.41.2024.06.18.16.42.08
 (version=TLS1_2 cipher=ECDHE-ECDSA-AES128-GCM-SHA256 bits=128/128);
 Tue, 18 Jun 2024 16:42:09 -0700 (PDT)
X-Relaying-Domain: iol.unh.edu
Date: Tue, 18 Jun 2024 16:42:09 -0700 (PDT)
Message-ID: <66721b51.050a0220.9a8e1.298cSMTPIN_ADDED_MISSING@mx.google.com>
Received: from [172.21.0.6] (unknown [172.18.0.240])
 by postal.iol.unh.edu (Postfix) with ESMTP id 3C036605C380;
 Tue, 18 Jun 2024 19:42:08 -0400 (EDT)
Subject: |SUCCESS| pw141277 [PATCH] vhost: Fix the crash caused by accessing 
From: dpdklab@iol.unh.edu
To: Test Report <test-report@dpdk.org>
Cc: dpdk-test-reports@iol.unh.edu
In-Reply-To: <20240618055929.40842-1-15957197901@163.com>
References: <20240618055929.40842-1-15957197901@163.com>
Content-Type: text/plain
X-BeenThere: test-report@dpdk.org
X-Mailman-Version: 2.1.29
Precedence: list
List-Id: automatic DPDK test reports <test-report.dpdk.org>
List-Unsubscribe: <https://mails.dpdk.org/options/test-report>,
 <mailto:test-report-request@dpdk.org?subject=unsubscribe>
List-Archive: <http://mails.dpdk.org/archives/test-report/>
List-Post: <mailto:test-report@dpdk.org>
List-Help: <mailto:test-report-request@dpdk.org?subject=help>
List-Subscribe: <https://mails.dpdk.org/listinfo/test-report>,
 <mailto:test-report-request@dpdk.org?subject=subscribe>
Errors-To: test-report-bounces@dpdk.org

Test-Label: iol-compile-arm64-testing
Test-Status: SUCCESS
http://dpdk.org/patch/141277

_Testing PASS_

Submitter: zhaoxinxin <15957197901@163.com>
Date: Tuesday, June 18 2024 05:59:29 
DPDK git baseline: Repo:dpdk
  Branch: master
  CommitID:b303beb6a9b12df49124ee0701027ca72be7aee1

141277 --> testing pass

Test environment and result as below:

+----------------------------------------+--------------------+
|              Environment               | dpdk_meson_compile |
+========================================+====================+
| Ubuntu 20.04 ARM SVE                   | PASS               |
+----------------------------------------+--------------------+
| Debian 12 with MUSDK                   | PASS               |
+----------------------------------------+--------------------+
| Fedora 38 (ARM)                        | PASS               |
+----------------------------------------+--------------------+
| Fedora 37 (ARM)                        | PASS               |
+----------------------------------------+--------------------+
| Fedora 39 (ARM)                        | PASS               |
+----------------------------------------+--------------------+
| Fedora 40 (ARM)                        | PASS               |
+----------------------------------------+--------------------+
| Ubuntu 20.04 (ARM)                     | PASS               |
+----------------------------------------+--------------------+
| Ubuntu 22.04 (ARM)                     | PASS               |
+----------------------------------------+--------------------+
| Ubuntu 24.04 (ARM)                     | PASS               |
+----------------------------------------+--------------------+
| Ubuntu 20.04 ARM GCC Cross Compile     | PASS               |
+----------------------------------------+--------------------+
| Debian 12 (arm)                        | PASS               |
+----------------------------------------+--------------------+
| Ubuntu 20.04 aarch32 GCC Cross Compile | PASS               |
+----------------------------------------+--------------------+
| Debian 11 (Buster) (ARM)               | PASS               |
+----------------------------------------+--------------------+
| CentOS Stream 9 (ARM)                  | PASS               |
+----------------------------------------+--------------------+
| Ubuntu 20.04 ARM Clang Cross Compile   | PASS               |
+----------------------------------------+--------------------+


Ubuntu 20.04 ARM SVE
	Kernel: 5.4.0-167-generic
	Compiler: gcc (Ubuntu 10.5.0-1ubuntu1~20.04) 10.5.0

Debian 12 with MUSDK
	Kernel: Container Host Kernel
	Compiler: gcc 12.2.0

Fedora 38 (ARM)
	Kernel: Depends on container host
	Compiler: gcc 13.2.1

Fedora 37 (ARM)
	Kernel: Depends on container host
	Compiler: gcc 12.3.1

Fedora 39 (ARM)
	Kernel: Depends on container host
	Compiler: gcc 13.2.1

Fedora 40 (ARM)
	Kernel: Depends on container host
	Compiler: gcc 14.1.1

Ubuntu 20.04 (ARM)
	Kernel: Container Host Kernel
	Compiler: gcc 9.4.0

Ubuntu 22.04 (ARM)
	Kernel: Container Host Kernel
	Compiler: gcc 11.4.0

Ubuntu 24.04 (ARM)
	Kernel: 5.4.0-167-generic
	Compiler: gcc 13.2.0

Ubuntu 20.04 ARM GCC Cross Compile
	Kernel: 5.4.0-167-generic
	Compiler: aarch64-linux-gnu-gcc (Ubuntu 9.4.0-1ubuntu1~20.04.2) 9.4.0

Debian 12 (arm)
	Kernel: Container Host Kernel
	Compiler: gcc 12.2.0

Ubuntu 20.04 aarch32 GCC Cross Compile
	Kernel: 5.4.0-167-generic
	Compiler: gcc 9.4.0

Debian 11 (Buster) (ARM)
	Kernel: Container Host Kernel
	Compiler: gcc 10.2.1

CentOS Stream 9 (ARM)
	Kernel: Container Host Kernel
	Compiler: gcc 11.4.1

Ubuntu 20.04 ARM Clang Cross Compile
	Kernel: 5.4.0-72-generic
	Compiler: clang 10.0.0-4ubuntu1

To view detailed results, visit:
https://lab.dpdk.org/results/dashboard/patchsets/30226/

UNH-IOL DPDK Community Lab

To manage your email subscriptions, visit: 
https://lab.dpdk.org/results/dashboard/preferences/subscriptions/