From mboxrd@z Thu Jan  1 00:00:00 1970
Return-Path: <test-report-bounces@dpdk.org>
Received: from mails.dpdk.org (mails.dpdk.org [217.70.189.124])
	by inbox.dpdk.org (Postfix) with ESMTP id 72FD24549D
	for <public@inbox.dpdk.org>; Wed, 19 Jun 2024 03:03:53 +0200 (CEST)
Received: from mails.dpdk.org (localhost [127.0.0.1])
	by mails.dpdk.org (Postfix) with ESMTP id 6F8884021D;
	Wed, 19 Jun 2024 03:03:53 +0200 (CEST)
Received: from mail-wm1-f100.google.com (mail-wm1-f100.google.com
 [209.85.128.100])
 by mails.dpdk.org (Postfix) with ESMTP id DEA284014F
 for <test-report@dpdk.org>; Wed, 19 Jun 2024 03:03:52 +0200 (CEST)
Received: by mail-wm1-f100.google.com with SMTP id
 5b1f17b1804b1-4217d808034so53621575e9.3
 for <test-report@dpdk.org>; Tue, 18 Jun 2024 18:03:52 -0700 (PDT)
DKIM-Signature: v=1; a=rsa-sha256; c=relaxed/relaxed;
 d=iol.unh.edu; s=unh-iol; t=1718759032; x=1719363832; darn=dpdk.org;
 h=references:in-reply-to:cc:to:from:subject:message-id:date:from:to
 :cc:subject:date:message-id:reply-to;
 bh=iEQzSpXDQzhWqO9gA+r3w/1y4kVL+JKTRnVn5ET81D4=;
 b=gKDQ+/vaaEToL5U7E2UXmnZNYFJWFQZBWiyR5VMPVLii+J5BENcBFfQG7tMu7wfbGx
 am6MvRQz1NCH19rqXhBg/waS6m7uuHJmfKD05EIgbM6O0010XVQXdK36lofCWFJF2gSa
 lQqgvPeBnfMY+srJZKfndJmhhr928aphxMZxQ=
X-Google-DKIM-Signature: v=1; a=rsa-sha256; c=relaxed/relaxed;
 d=1e100.net; s=20230601; t=1718759032; x=1719363832;
 h=references:in-reply-to:cc:to:from:subject:message-id:date
 :x-gm-message-state:from:to:cc:subject:date:message-id:reply-to;
 bh=iEQzSpXDQzhWqO9gA+r3w/1y4kVL+JKTRnVn5ET81D4=;
 b=lmg70tSsjAG++mV1epMwnFxLvz0HC0RnpWeBw9P5ONLsX6pZRSfL09AyeRmifD/2to
 hW4qwYz2osWzfqFR6ilrW9Tih0mL7SrX3tLlm+ly+Cq5Ul2XjUKLC0HLi0jxCsqPqN34
 LcqvQTiMsYAY3VUsGFXx9GrblQxvk/SgxUSF8rMmigAztfzAeiKO9H3zFfDT1EqkY9W4
 aU/pXMT+pU6ilTrv7mvd8zgnfHS2/yx/K9Bm4A6XJqKaDNQEKv80firY6sxXmv+IPeFb
 ka/YbQXK2h+XBKnRW0sR3akZCWfaSyQCJvKDvui4Gn3yai1Nn0ntVRGtdgbPnuUao9RO
 wadA==
X-Gm-Message-State: AOJu0Yz0pvWwNs7jZmWvqO+hOapwgdYjn3Qs57FxuZyMOh2DQxm7S3CO
 8WtvGuK/oTRLzzHzjjuLHae7KPLhKxysCtnV4cxIrhFhHKaUQHS092FLC83OZGVt10A2jJJqVE6
 dp9xyL7cuVswuTMOaHa0Z4xfKE/xh4uHk96A6GO8gMjCm061WJ7UH4OAK
X-Google-Smtp-Source: AGHT+IGS+sb/F6fVpMaDg+E0K1qn+oNZtJkGWT4a+VMNBmmJI6GydtnwFe+CeLfv4hW279FQwnnl4vPSVppP
X-Received: by 2002:a05:600c:2d4c:b0:423:34d:b050 with SMTP id
 5b1f17b1804b1-42475175515mr5443315e9.9.1718759032564; 
 Tue, 18 Jun 2024 18:03:52 -0700 (PDT)
Received: from postal.iol.unh.edu (postal.iol.unh.edu.
 [2606:4100:3880:1234::84]) by smtp-relay.gmail.com with ESMTPS id
 5b1f17b1804b1-42286fed33csm7891585e9.19.2024.06.18.18.03.52
 (version=TLS1_2 cipher=ECDHE-ECDSA-AES128-GCM-SHA256 bits=128/128);
 Tue, 18 Jun 2024 18:03:52 -0700 (PDT)
X-Relaying-Domain: iol.unh.edu
Date: Tue, 18 Jun 2024 18:03:52 -0700 (PDT)
Message-ID: <66722e78.050a0220.84f2f.2ee2SMTPIN_ADDED_MISSING@mx.google.com>
Received: from [172.21.0.6] (unknown [172.18.0.240])
 by postal.iol.unh.edu (Postfix) with ESMTP id C0862605C380;
 Tue, 18 Jun 2024 21:03:51 -0400 (EDT)
Subject: |SUCCESS| pw141288-141292 [PATCH] [5/5] ipfrag: use accelerated crc 
From: dpdklab@iol.unh.edu
To: Test Report <test-report@dpdk.org>
Cc: dpdk-test-reports@iol.unh.edu
In-Reply-To: <20240618174133.33457-6-daniel.gregory@bytedance.com>
References: <20240618174133.33457-6-daniel.gregory@bytedance.com>
Content-Type: text/plain
X-BeenThere: test-report@dpdk.org
X-Mailman-Version: 2.1.29
Precedence: list
List-Id: automatic DPDK test reports <test-report.dpdk.org>
List-Unsubscribe: <https://mails.dpdk.org/options/test-report>,
 <mailto:test-report-request@dpdk.org?subject=unsubscribe>
List-Archive: <http://mails.dpdk.org/archives/test-report/>
List-Post: <mailto:test-report@dpdk.org>
List-Help: <mailto:test-report-request@dpdk.org?subject=help>
List-Subscribe: <https://mails.dpdk.org/listinfo/test-report>,
 <mailto:test-report-request@dpdk.org?subject=subscribe>
Errors-To: test-report-bounces@dpdk.org

Test-Label: iol-abi-testing
Test-Status: SUCCESS
http://dpdk.org/patch/141292

_Testing PASS_

Submitter: Daniel Gregory <daniel.gregory@bytedance.com>
Date: Tuesday, June 18 2024 17:41:33 
DPDK git baseline: Repo:dpdk
  Branch: master
  CommitID:567bb951716f1ae9e418eacda3dd9dac5edf6fde

141288-141292 --> testing pass

Test environment and result as below:

+------------------+----------+
|   Environment    | abi_test |
+==================+==========+
| Fedora 38        | PASS     |
+------------------+----------+
| CentOS Stream 9  | PASS     |
+------------------+----------+
| CentOS Stream 8  | PASS     |
+------------------+----------+
| Debian 12        | PASS     |
+------------------+----------+
| Fedora 37        | PASS     |
+------------------+----------+
| Fedora 39        | PASS     |
+------------------+----------+
| Fedora 40        | PASS     |
+------------------+----------+
| Debian Bullseye  | PASS     |
+------------------+----------+
| RHEL9            | PASS     |
+------------------+----------+
| Ubuntu 22.04     | PASS     |
+------------------+----------+
| Ubuntu 24.04     | PASS     |
+------------------+----------+
| RHEL8            | PASS     |
+------------------+----------+
| openSUSE Leap 15 | PASS     |
+------------------+----------+


Fedora 38
	Kernel: Depends on container host
	Compiler: gcc 13.2.1

CentOS Stream 9
	Kernel: 5.4.0-167-generic
	Compiler: gcc 11.4.1 20230605

CentOS Stream 8
	Kernel: 5.4.0-167-generic
	Compiler: gcc 8.5.0 20210514

Debian 12
	Kernel: Container Host Kernel
	Compiler: gcc 12.2.0

Fedora 37
	Kernel: Depends on container host system
	Compiler: gcc 12.3.1

Fedora 39
	Kernel: Depends on container host
	Compiler: clang 17.0.6

Fedora 40
	Kernel: Depends on container host
	Compiler: clang 18.1.6

Debian Bullseye
	Kernel: 5.4.0-167-generic
	Compiler: gcc 10.2.1-6

RHEL9
	Kernel: Depends on container host
	Compiler: gcc 11.4.1

Ubuntu 22.04
	Kernel: 5.4.0-167-generic
	Compiler: gcc 11.4.0

Ubuntu 24.04
	Kernel: 5.4.0-167-generic
	Compiler: gcc 13.2.0

RHEL8
	Kernel: 5.4.0-167-generic
	Compiler: gcc 8.5.0 20210514 (Red Hat 8.5.0-20)

openSUSE Leap 15
	Kernel: 5.4.0-167-generic
	Compiler: gcc 7.5.0

To view detailed results, visit:
https://lab.dpdk.org/results/dashboard/patchsets/30232/

UNH-IOL DPDK Community Lab

To manage your email subscriptions, visit: 
https://lab.dpdk.org/results/dashboard/preferences/subscriptions/