From mboxrd@z Thu Jan  1 00:00:00 1970
Return-Path: <test-report-bounces@dpdk.org>
Received: from mails.dpdk.org (mails.dpdk.org [217.70.189.124])
	by inbox.dpdk.org (Postfix) with ESMTP id 537B2454A2
	for <public@inbox.dpdk.org>; Wed, 19 Jun 2024 05:25:45 +0200 (CEST)
Received: from mails.dpdk.org (localhost [127.0.0.1])
	by mails.dpdk.org (Postfix) with ESMTP id 49CE44021D;
	Wed, 19 Jun 2024 05:25:45 +0200 (CEST)
Received: from mail-ej1-f100.google.com (mail-ej1-f100.google.com
 [209.85.218.100])
 by mails.dpdk.org (Postfix) with ESMTP id BF0134014F
 for <test-report@dpdk.org>; Wed, 19 Jun 2024 05:25:43 +0200 (CEST)
Received: by mail-ej1-f100.google.com with SMTP id
 a640c23a62f3a-a6f85f82ffeso353696866b.0
 for <test-report@dpdk.org>; Tue, 18 Jun 2024 20:25:43 -0700 (PDT)
DKIM-Signature: v=1; a=rsa-sha256; c=relaxed/relaxed;
 d=iol.unh.edu; s=unh-iol; t=1718767543; x=1719372343; darn=dpdk.org;
 h=references:in-reply-to:cc:to:from:subject:message-id:date:from:to
 :cc:subject:date:message-id:reply-to;
 bh=TE9EzT+2eGkJfbyTY9IBYnTd/uq6ISSjgQ+I29Z/IDY=;
 b=asW3hh2miINsEvDGvcy4F0P9Bm0ay39ZCwYz6gheiKj+MleJJ66WQinlTDTLd4vuV7
 YvoLbPLY70qZ4vsehaq+Z3lSkWWz03avmkmTPChJ3n6M92h4qZc1eLmejOsdXUO3ozoU
 5cqASGRgAK2BXYdCPngmMBjGcQ27ePOsLofxQ=
X-Google-DKIM-Signature: v=1; a=rsa-sha256; c=relaxed/relaxed;
 d=1e100.net; s=20230601; t=1718767543; x=1719372343;
 h=references:in-reply-to:cc:to:from:subject:message-id:date
 :x-gm-message-state:from:to:cc:subject:date:message-id:reply-to;
 bh=TE9EzT+2eGkJfbyTY9IBYnTd/uq6ISSjgQ+I29Z/IDY=;
 b=sJbN9G7ct/zRdmcPMfRFlxPDf7u7MuMaHYegfc91z1ax5DxfzhdEeH8IudOMAqnwo3
 J3FT3mInQLYZ55hVJYAvgZETS9XNhnKXSSoy1JGc3pNh8KD1JLWPQCgxuiIPUY9oxTCr
 VaEXmfMoIInGtxT4lwtgykF93KJHLx2HP0Nrhf8zkK9Tl7LKbWYldH8SG6vMjF59cs2f
 FNWMtXwCU70H7tNxOmccF2rxIws9/Qq7MdsRZ7Sk5k9nIaScikM2vK2ENmriVOBNd1Ln
 yj/G4vKLte02G28MEJNgZvC+QFZK9Xy+gZv3rCC+BtClww8NlEZhmr6k26b3ogvN08K3
 e+aw==
X-Gm-Message-State: AOJu0YwNtDPQtcEBbB+g8d4rogmluFzPneHhGpsWuMp0GX9jaMyBnIxn
 KryUtbmA7htvy2LWQjfKMF35bPA/O9U8Ms8zOPcG01JX9W65whSADhzhJM9SdquENvQtAIz4vR3
 GLRikNL931wc05ud0dV0Zax083FLOTaw/2kKffeGehi1Y7ITbyWU7JsZI
X-Google-Smtp-Source: AGHT+IHVg+RJ8wo48Xr4Nd6gFEjb86XEoDMc2RRD2kVGy2ZGvy8oM5PRI0hYxrEBD58HxTnNMMI3wjzMBq9W
X-Received: by 2002:a17:906:41a:b0:a6e:ffa2:3cce with SMTP id
 a640c23a62f3a-a6fab648679mr53817266b.41.1718767543182; 
 Tue, 18 Jun 2024 20:25:43 -0700 (PDT)
Received: from postal.iol.unh.edu (postal.iol.unh.edu.
 [2606:4100:3880:1234::84]) by smtp-relay.gmail.com with ESMTPS id
 a640c23a62f3a-a6f56e4d52csm16879066b.136.2024.06.18.20.25.43
 (version=TLS1_2 cipher=ECDHE-ECDSA-AES128-GCM-SHA256 bits=128/128);
 Tue, 18 Jun 2024 20:25:43 -0700 (PDT)
X-Relaying-Domain: iol.unh.edu
Date: Tue, 18 Jun 2024 20:25:43 -0700 (PDT)
Message-ID: <66724fb7.170a0220.ee7a6.940cSMTPIN_ADDED_MISSING@mx.google.com>
Received: from [172.21.0.6] (unknown [172.18.0.240])
 by postal.iol.unh.edu (Postfix) with ESMTP id 5228E605C373;
 Tue, 18 Jun 2024 23:25:42 -0400 (EDT)
Subject: |SUCCESS| pw141279-141280 [PATCH] [v3,2/2] eal: remove type argument
From: dpdklab@iol.unh.edu
To: Test Report <test-report@dpdk.org>
Cc: dpdk-test-reports@iol.unh.edu
In-Reply-To: <20240618144507.73770-3-stephen@networkplumber.org>
References: <20240618144507.73770-3-stephen@networkplumber.org>
Content-Type: text/plain
X-BeenThere: test-report@dpdk.org
X-Mailman-Version: 2.1.29
Precedence: list
List-Id: automatic DPDK test reports <test-report.dpdk.org>
List-Unsubscribe: <https://mails.dpdk.org/options/test-report>,
 <mailto:test-report-request@dpdk.org?subject=unsubscribe>
List-Archive: <http://mails.dpdk.org/archives/test-report/>
List-Post: <mailto:test-report@dpdk.org>
List-Help: <mailto:test-report-request@dpdk.org?subject=help>
List-Subscribe: <https://mails.dpdk.org/listinfo/test-report>,
 <mailto:test-report-request@dpdk.org?subject=subscribe>
Errors-To: test-report-bounces@dpdk.org

Test-Label: iol-compile-arm64-testing
Test-Status: SUCCESS
http://dpdk.org/patch/141280

_Testing PASS_

Submitter: Stephen Hemminger <stephen@networkplumber.org>
Date: Tuesday, June 18 2024 14:44:16 
DPDK git baseline: Repo:dpdk
  Branch: master
  CommitID:567bb951716f1ae9e418eacda3dd9dac5edf6fde

141279-141280 --> testing pass

Test environment and result as below:

+----------------------------------------+--------------------+
|              Environment               | dpdk_meson_compile |
+========================================+====================+
| Ubuntu 20.04 ARM SVE                   | PASS               |
+----------------------------------------+--------------------+
| Debian 12 with MUSDK                   | PASS               |
+----------------------------------------+--------------------+
| Ubuntu 20.04 aarch32 GCC Cross Compile | PASS               |
+----------------------------------------+--------------------+
| Ubuntu 20.04 ARM GCC Cross Compile     | PASS               |
+----------------------------------------+--------------------+
| Ubuntu 20.04 ARM Clang Cross Compile   | PASS               |
+----------------------------------------+--------------------+
| Fedora 40 (ARM Clang)                  | PASS               |
+----------------------------------------+--------------------+
| Fedora 38 (ARM Clang)                  | PASS               |
+----------------------------------------+--------------------+
| Fedora 39 (ARM Clang)                  | PASS               |
+----------------------------------------+--------------------+
| Fedora 39 (ARM)                        | PASS               |
+----------------------------------------+--------------------+
| Ubuntu 22.04 (ARM)                     | PASS               |
+----------------------------------------+--------------------+
| CentOS Stream 9 (ARM)                  | PASS               |
+----------------------------------------+--------------------+
| Ubuntu 24.04 (ARM)                     | PASS               |
+----------------------------------------+--------------------+
| Debian 11 (Buster) (ARM)               | PASS               |
+----------------------------------------+--------------------+
| RHEL9 (ARM)                            | PASS               |
+----------------------------------------+--------------------+
| Fedora 37 (ARM)                        | PASS               |
+----------------------------------------+--------------------+
| Fedora 38 (ARM)                        | PASS               |
+----------------------------------------+--------------------+
| Debian 12 (arm)                        | PASS               |
+----------------------------------------+--------------------+
| Fedora 40 (ARM)                        | PASS               |
+----------------------------------------+--------------------+
| Ubuntu 20.04 (ARM)                     | PASS               |
+----------------------------------------+--------------------+


Ubuntu 20.04 ARM SVE
	Kernel: 5.4.0-167-generic
	Compiler: gcc (Ubuntu 10.5.0-1ubuntu1~20.04) 10.5.0

Debian 12 with MUSDK
	Kernel: Container Host Kernel
	Compiler: gcc 12.2.0

Ubuntu 20.04 aarch32 GCC Cross Compile
	Kernel: 5.4.0-167-generic
	Compiler: gcc 9.4.0

Ubuntu 20.04 ARM GCC Cross Compile
	Kernel: 5.4.0-167-generic
	Compiler: aarch64-linux-gnu-gcc (Ubuntu 9.4.0-1ubuntu1~20.04.2) 9.4.0

Ubuntu 20.04 ARM Clang Cross Compile
	Kernel: 5.4.0-72-generic
	Compiler: clang 10.0.0-4ubuntu1

Fedora 40 (ARM Clang)
	Kernel: Depends on container host
	Compiler: clang 18.1.6

Fedora 38 (ARM Clang)
	Kernel: Depends on container host
	Compiler: clang 16.0.6

Fedora 39 (ARM Clang)
	Kernel: Depends on container host
	Compiler: clang 17.0.6

Fedora 39 (ARM)
	Kernel: Depends on container host
	Compiler: gcc 13.2.1

Ubuntu 22.04 (ARM)
	Kernel: Container Host Kernel
	Compiler: gcc 11.4.0

CentOS Stream 9 (ARM)
	Kernel: Container Host Kernel
	Compiler: gcc 11.4.1

Ubuntu 24.04 (ARM)
	Kernel: 5.4.0-167-generic
	Compiler: gcc 13.2.0

Debian 11 (Buster) (ARM)
	Kernel: Container Host Kernel
	Compiler: gcc 10.2.1

RHEL9 (ARM)
	Kernel: Depends on container host
	Compiler: gcc 11.4.1

Fedora 37 (ARM)
	Kernel: Depends on container host
	Compiler: gcc 12.3.1

Fedora 38 (ARM)
	Kernel: Depends on container host
	Compiler: gcc 13.2.1

Debian 12 (arm)
	Kernel: Container Host Kernel
	Compiler: gcc 12.2.0

Fedora 40 (ARM)
	Kernel: Depends on container host
	Compiler: gcc 14.1.1

Ubuntu 20.04 (ARM)
	Kernel: Container Host Kernel
	Compiler: gcc 9.4.0

To view detailed results, visit:
https://lab.dpdk.org/results/dashboard/patchsets/30228/

UNH-IOL DPDK Community Lab

To manage your email subscriptions, visit: 
https://lab.dpdk.org/results/dashboard/preferences/subscriptions/