From mboxrd@z Thu Jan  1 00:00:00 1970
Return-Path: <test-report-bounces@dpdk.org>
Received: from mails.dpdk.org (mails.dpdk.org [217.70.189.124])
	by inbox.dpdk.org (Postfix) with ESMTP id 1E3E9454A2
	for <public@inbox.dpdk.org>; Wed, 19 Jun 2024 05:29:52 +0200 (CEST)
Received: from mails.dpdk.org (localhost [127.0.0.1])
	by mails.dpdk.org (Postfix) with ESMTP id 190A04021D;
	Wed, 19 Jun 2024 05:29:52 +0200 (CEST)
Received: from mail-ej1-f99.google.com (mail-ej1-f99.google.com
 [209.85.218.99]) by mails.dpdk.org (Postfix) with ESMTP id 445A14014F
 for <test-report@dpdk.org>; Wed, 19 Jun 2024 05:29:50 +0200 (CEST)
Received: by mail-ej1-f99.google.com with SMTP id
 a640c23a62f3a-a6f09b457fdso583014566b.2
 for <test-report@dpdk.org>; Tue, 18 Jun 2024 20:29:50 -0700 (PDT)
DKIM-Signature: v=1; a=rsa-sha256; c=relaxed/relaxed;
 d=iol.unh.edu; s=unh-iol; t=1718767790; x=1719372590; darn=dpdk.org;
 h=references:in-reply-to:cc:to:from:subject:message-id:date:from:to
 :cc:subject:date:message-id:reply-to;
 bh=BsNnYreeE90Ltof2S/P9wnXzaD1g3qfxXyoLGuzjJ+4=;
 b=el81e1QRQ2vmkUkOkbs6jPHGJJCAuHuD2hsWEUD0BA0TgKCjrSbU3i6adLAXzy2wkW
 1wfa8hJJ+M0oEokPWNdfyDOmqez9bf1BNj2LcLGa8ZrW3BOEBiYezjv57SlsfCi/2izZ
 ru4THuMnYGF+IbihA2/pIH9h3SIIvlnrEb88Q=
X-Google-DKIM-Signature: v=1; a=rsa-sha256; c=relaxed/relaxed;
 d=1e100.net; s=20230601; t=1718767790; x=1719372590;
 h=references:in-reply-to:cc:to:from:subject:message-id:date
 :x-gm-message-state:from:to:cc:subject:date:message-id:reply-to;
 bh=BsNnYreeE90Ltof2S/P9wnXzaD1g3qfxXyoLGuzjJ+4=;
 b=i7uNHScEn3VlK5GdGE5aYcJNWzBQwnv3w8tKJ20kn2/GrNMxMfBg8Yx4O0WGUAd+zJ
 OX4Tm0RB0H1h67xbZKYeEVv1zEePPQ43TXEroh3kt23lin0/gXLIBYQDhNmbhJuwHrPS
 /Lg3MxkJ+b5laFn17K+8j06+ZiobXz+dvtptEgBCJzKQ3GryyBGFhJBU+KAEgSxXHeTN
 x7k5llNgxt83DI+fbSThl4zu+LsOshinDvfCslH3/CnDawA5v6HPXx8qj4RNcma1nXu4
 JpLBDoLtphG9uhfy1u4uATJSxpKRiMTCwEjNQUE41Sxn+I8oe3LEhFdXU6dmb133JxyN
 Rniw==
X-Gm-Message-State: AOJu0Yx2PmFhk79L9u7h1JAoIKUqImbF25v3neje4fmPjZOpGkps0LcF
 dj8afmE5vzX8e18rwmCcD6m4wsq1p9xiqUC7UHOpaZQrdcG6lDJpdQIpaX7rVsM1XsRlioJo0Ts
 rzDun+pf3ckdsqY66/wKOeVzkdD1Xd4Lkg9KaAE9hZ64UyG4npce4lzxN
X-Google-Smtp-Source: AGHT+IG9du/7G+Kq5SLImrJ1FxSZZXM4U6ic9hd/N6VbZN2oRN7VclIiDboh8QEyqZuvl7jzc7ZJZ3PWjUlQ
X-Received: by 2002:a17:907:2da0:b0:a6f:4fc8:2665 with SMTP id
 a640c23a62f3a-a6fab778cf2mr82957166b.50.1718767789678; 
 Tue, 18 Jun 2024 20:29:49 -0700 (PDT)
Received: from postal.iol.unh.edu (postal.iol.unh.edu.
 [2606:4100:3880:1234::84]) by smtp-relay.gmail.com with ESMTPS id
 a640c23a62f3a-a6f56e8ff92sm17633966b.210.2024.06.18.20.29.49
 (version=TLS1_2 cipher=ECDHE-ECDSA-AES128-GCM-SHA256 bits=128/128);
 Tue, 18 Jun 2024 20:29:49 -0700 (PDT)
X-Relaying-Domain: iol.unh.edu
Date: Tue, 18 Jun 2024 20:29:49 -0700 (PDT)
Message-ID: <667250ad.170a0220.24b79.97a6SMTPIN_ADDED_MISSING@mx.google.com>
Received: from [172.21.0.7] (unknown [172.18.0.240])
 by postal.iol.unh.edu (Postfix) with ESMTP id C7785605C373;
 Tue, 18 Jun 2024 23:29:48 -0400 (EDT)
Subject: |SUCCESS| pw141278 [PATCH] net/ring: Set mbuf->port for received pac
From: dpdklab@iol.unh.edu
To: Test Report <test-report@dpdk.org>
Cc: dpdk-test-reports@iol.unh.edu
In-Reply-To: <20240618134700.3709388-1-sriram.yagnaraman@ericsson.com>
References: <20240618134700.3709388-1-sriram.yagnaraman@ericsson.com>
Content-Type: text/plain
X-BeenThere: test-report@dpdk.org
X-Mailman-Version: 2.1.29
Precedence: list
List-Id: automatic DPDK test reports <test-report.dpdk.org>
List-Unsubscribe: <https://mails.dpdk.org/options/test-report>,
 <mailto:test-report-request@dpdk.org?subject=unsubscribe>
List-Archive: <http://mails.dpdk.org/archives/test-report/>
List-Post: <mailto:test-report@dpdk.org>
List-Help: <mailto:test-report-request@dpdk.org?subject=help>
List-Subscribe: <https://mails.dpdk.org/listinfo/test-report>,
 <mailto:test-report-request@dpdk.org?subject=subscribe>
Errors-To: test-report-bounces@dpdk.org

Test-Label: iol-unit-amd64-testing
Test-Status: SUCCESS
http://dpdk.org/patch/141278

_Testing PASS_

Submitter: Sriram Yagnaraman <sriram.yagnaraman@ericsson.com>
Date: Tuesday, June 18 2024 13:47:00 
DPDK git baseline: Repo:dpdk
  Branch: master
  CommitID:fbba6db3640f9f623c29c452e1a6b057073e81d2

141278 --> testing pass

Test environment and result as below:

+------------------+----------------+
|   Environment    | dpdk_unit_test |
+==================+================+
| Debian Bullseye  | PASS           |
+------------------+----------------+
| CentOS Stream 8  | PASS           |
+------------------+----------------+
| Fedora 37        | PASS           |
+------------------+----------------+
| CentOS Stream 9  | PASS           |
+------------------+----------------+
| Debian 12        | PASS           |
+------------------+----------------+
| Fedora 38        | PASS           |
+------------------+----------------+
| Fedora 39        | PASS           |
+------------------+----------------+
| Fedora 40        | PASS           |
+------------------+----------------+
| openSUSE Leap 15 | PASS           |
+------------------+----------------+
| RHEL9            | PASS           |
+------------------+----------------+
| RHEL8            | PASS           |
+------------------+----------------+
| Ubuntu 22.04     | PASS           |
+------------------+----------------+
| Ubuntu 24.04     | PASS           |
+------------------+----------------+
| Ubuntu 20.04     | PASS           |
+------------------+----------------+


Debian Bullseye
	Kernel: 5.4.0-167-generic
	Compiler: gcc 10.2.1-6

CentOS Stream 8
	Kernel: 5.4.0-167-generic
	Compiler: gcc 8.5.0 20210514

Fedora 37
	Kernel: Depends on container host system
	Compiler: gcc 12.3.1

CentOS Stream 9
	Kernel: 5.4.0-167-generic
	Compiler: gcc 11.4.1 20230605

Debian 12
	Kernel: Container Host Kernel
	Compiler: gcc 12.2.0

Fedora 38
	Kernel: Depends on container host
	Compiler: clang 16.0.6

Fedora 39
	Kernel: Depends on container host
	Compiler: gcc 13.2.1

Fedora 40
	Kernel: Depends on container host
	Compiler: clang 18.1.6

openSUSE Leap 15
	Kernel: 5.4.0-167-generic
	Compiler: gcc 7.5.0

RHEL9
	Kernel: Depends on container host
	Compiler: gcc 11.4.1

RHEL8
	Kernel: 5.4.0-167-generic
	Compiler: gcc 8.5.0 20210514 (Red Hat 8.5.0-20)

Ubuntu 22.04
	Kernel: 5.4.0-167-generic
	Compiler: gcc 11.4.0

Ubuntu 24.04
	Kernel: 5.4.0-167-generic
	Compiler: gcc 13.2.0

Ubuntu 20.04
	Kernel: 5.4.0-167-generic
	Compiler: gcc 9.4.0-1ubuntu1~20.04.1

To view detailed results, visit:
https://lab.dpdk.org/results/dashboard/patchsets/30227/

UNH-IOL DPDK Community Lab

To manage your email subscriptions, visit: 
https://lab.dpdk.org/results/dashboard/preferences/subscriptions/