From mboxrd@z Thu Jan  1 00:00:00 1970
Return-Path: <test-report-bounces@dpdk.org>
Received: from mails.dpdk.org (mails.dpdk.org [217.70.189.124])
	by inbox.dpdk.org (Postfix) with ESMTP id 7FA6C4549A
	for <public@inbox.dpdk.org>; Wed, 19 Jun 2024 06:27:53 +0200 (CEST)
Received: from mails.dpdk.org (localhost [127.0.0.1])
	by mails.dpdk.org (Postfix) with ESMTP id 7B5724021D;
	Wed, 19 Jun 2024 06:27:53 +0200 (CEST)
Received: from mail-wr1-f97.google.com (mail-wr1-f97.google.com
 [209.85.221.97]) by mails.dpdk.org (Postfix) with ESMTP id 3689D4014F
 for <test-report@dpdk.org>; Wed, 19 Jun 2024 06:27:49 +0200 (CEST)
Received: by mail-wr1-f97.google.com with SMTP id
 ffacd0b85a97d-356c4e926a3so5827560f8f.1
 for <test-report@dpdk.org>; Tue, 18 Jun 2024 21:27:49 -0700 (PDT)
DKIM-Signature: v=1; a=rsa-sha256; c=relaxed/relaxed;
 d=iol.unh.edu; s=unh-iol; t=1718771269; x=1719376069; darn=dpdk.org;
 h=references:in-reply-to:cc:to:from:subject:message-id:date:from:to
 :cc:subject:date:message-id:reply-to;
 bh=NdaFe3kpcaozUvGVfHMwr+nSp51EWSFV0+a2nDDkhy4=;
 b=U6npaorS4TPJo9/DImSdc5JAhaLlPJHRoCUemrZ+23MJW16yehXUWKDKh3716hGV1b
 1Ol35c0bLNDC81vo8l9p95xzXrv8Ypk6znMjixQSUUdofM7RjFKzGoTS5VUQ56idwL0J
 9LO1rGqZH4pcdBNQdU66UdGPvZNThY+HO54Us=
X-Google-DKIM-Signature: v=1; a=rsa-sha256; c=relaxed/relaxed;
 d=1e100.net; s=20230601; t=1718771269; x=1719376069;
 h=references:in-reply-to:cc:to:from:subject:message-id:date
 :x-gm-message-state:from:to:cc:subject:date:message-id:reply-to;
 bh=NdaFe3kpcaozUvGVfHMwr+nSp51EWSFV0+a2nDDkhy4=;
 b=emE6h4uotYebNNqswrNAG1RmpzAfjPaqHpTB65+2G1zO1VOWZXaSIbYyMevVzCt2qn
 1JgJmu2HFK7t64hRzrmG9BlbPMZSLtdmOLAQv33JwzAaFZ72xpiijcBRk257JZkHYAVm
 GXBECxDvNIeThuSBc0fhpJTqUONr+T5sJT3e8YSdVPDT0LzdRFo0A/xiTWjn/7EzR3bz
 tYenrIXlXPMnxCWi1vLc1NuIOpRosbu2HlHZ3PGwMCeJuIGQ6FtBYxsCRcXjGuTaRtcP
 SqihxBkOJK2qZ7x2o95FrJK3I9tB2+/Jm6mBRkPN0BElLgeTjZqCo1WAIJ7M0jZiEVxy
 Qv7Q==
X-Gm-Message-State: AOJu0YwX1zwHrejSgvBQYlarTEvJcd4EKq/dKNmgGfNlZlxb8JwwnxaG
 dA0shxEM1p0edEyKcUvINeo1te43/xyLHsLXIXXOk/dxv/lCBDcWLn68VS7qEuL0xefXyg27qG/
 8pYdBfG7QdfrQFQKoUDKzKNl9Pd+1EjjUGycNBYcp
X-Google-Smtp-Source: AGHT+IE9rRVPPNpN/8NnrRQGGp9LIZKA092DS20xhCgnMDdsYxvPyYZ4/oW4P8KTOfQspzJlTTYZNEKOL5GD
X-Received: by 2002:a5d:4ecb:0:b0:35f:24dc:ad97 with SMTP id
 ffacd0b85a97d-36317b79c7fmr911010f8f.34.1718771268784; 
 Tue, 18 Jun 2024 21:27:48 -0700 (PDT)
Received: from postal.iol.unh.edu (postal.iol.unh.edu. [132.177.123.84])
 by smtp-relay.gmail.com with ESMTPS id
 ffacd0b85a97d-360750b7645sm580495f8f.15.2024.06.18.21.27.48
 (version=TLS1_2 cipher=ECDHE-ECDSA-AES128-GCM-SHA256 bits=128/128);
 Tue, 18 Jun 2024 21:27:48 -0700 (PDT)
X-Relaying-Domain: iol.unh.edu
Date: Tue, 18 Jun 2024 21:27:48 -0700 (PDT)
Message-ID: <66725e44.5d0a0220.5d71d.ff8eSMTPIN_ADDED_MISSING@mx.google.com>
Received: from [172.21.0.7] (unknown [172.18.0.240])
 by postal.iol.unh.edu (Postfix) with ESMTP id 009D1605C373;
 Wed, 19 Jun 2024 00:27:48 -0400 (EDT)
Subject: |SUCCESS| pw141288-141292 [PATCH] [5/5] ipfrag: use accelerated crc 
From: dpdklab@iol.unh.edu
To: Test Report <test-report@dpdk.org>
Cc: dpdk-test-reports@iol.unh.edu
In-Reply-To: <20240618174133.33457-6-daniel.gregory@bytedance.com>
References: <20240618174133.33457-6-daniel.gregory@bytedance.com>
Content-Type: text/plain
X-BeenThere: test-report@dpdk.org
X-Mailman-Version: 2.1.29
Precedence: list
List-Id: automatic DPDK test reports <test-report.dpdk.org>
List-Unsubscribe: <https://mails.dpdk.org/options/test-report>,
 <mailto:test-report-request@dpdk.org?subject=unsubscribe>
List-Archive: <http://mails.dpdk.org/archives/test-report/>
List-Post: <mailto:test-report@dpdk.org>
List-Help: <mailto:test-report-request@dpdk.org?subject=help>
List-Subscribe: <https://mails.dpdk.org/listinfo/test-report>,
 <mailto:test-report-request@dpdk.org?subject=subscribe>
Errors-To: test-report-bounces@dpdk.org

Test-Label: iol-unit-amd64-testing
Test-Status: SUCCESS
http://dpdk.org/patch/141292

_Testing PASS_

Submitter: Daniel Gregory <daniel.gregory@bytedance.com>
Date: Tuesday, June 18 2024 17:41:33 
DPDK git baseline: Repo:dpdk
  Branch: master
  CommitID:567bb951716f1ae9e418eacda3dd9dac5edf6fde

141288-141292 --> testing pass

Test environment and result as below:

+------------------+----------------+
|   Environment    | dpdk_unit_test |
+==================+================+
| CentOS Stream 9  | PASS           |
+------------------+----------------+
| Debian 12        | PASS           |
+------------------+----------------+
| Debian Bullseye  | PASS           |
+------------------+----------------+
| CentOS Stream 8  | PASS           |
+------------------+----------------+
| Fedora 37        | PASS           |
+------------------+----------------+
| Fedora 38        | PASS           |
+------------------+----------------+
| Fedora 39        | PASS           |
+------------------+----------------+
| Fedora 40        | PASS           |
+------------------+----------------+
| openSUSE Leap 15 | PASS           |
+------------------+----------------+
| RHEL8            | PASS           |
+------------------+----------------+
| RHEL9            | PASS           |
+------------------+----------------+
| Ubuntu 20.04     | PASS           |
+------------------+----------------+
| Ubuntu 22.04     | PASS           |
+------------------+----------------+
| Ubuntu 24.04     | PASS           |
+------------------+----------------+


CentOS Stream 9
	Kernel: 5.4.0-167-generic
	Compiler: gcc 11.4.1 20230605

Debian 12
	Kernel: Container Host Kernel
	Compiler: gcc 12.2.0

Debian Bullseye
	Kernel: 5.4.0-167-generic
	Compiler: gcc 10.2.1-6

CentOS Stream 8
	Kernel: 5.4.0-167-generic
	Compiler: gcc 8.5.0 20210514

Fedora 37
	Kernel: Depends on container host system
	Compiler: gcc 12.3.1

Fedora 38
	Kernel: Depends on container host
	Compiler: clang 16.0.6

Fedora 39
	Kernel: Depends on container host
	Compiler: gcc 13.2.1

Fedora 40
	Kernel: Depends on container host
	Compiler: gcc 14.1.1

openSUSE Leap 15
	Kernel: 5.4.0-167-generic
	Compiler: gcc 7.5.0

RHEL8
	Kernel: 5.4.0-167-generic
	Compiler: gcc 8.5.0 20210514 (Red Hat 8.5.0-20)

RHEL9
	Kernel: Depends on container host
	Compiler: gcc 11.4.1

Ubuntu 20.04
	Kernel: 5.4.0-167-generic
	Compiler: gcc 9.4.0-1ubuntu1~20.04.1

Ubuntu 22.04
	Kernel: 5.4.0-167-generic
	Compiler: gcc 11.4.0

Ubuntu 24.04
	Kernel: 5.4.0-167-generic
	Compiler: gcc 13.2.0

To view detailed results, visit:
https://lab.dpdk.org/results/dashboard/patchsets/30232/

UNH-IOL DPDK Community Lab

To manage your email subscriptions, visit: 
https://lab.dpdk.org/results/dashboard/preferences/subscriptions/