From mboxrd@z Thu Jan  1 00:00:00 1970
Return-Path: <test-report-bounces@dpdk.org>
Received: from mails.dpdk.org (mails.dpdk.org [217.70.189.124])
	by inbox.dpdk.org (Postfix) with ESMTP id 6FB894548E
	for <public@inbox.dpdk.org>; Wed, 19 Jun 2024 12:41:36 +0200 (CEST)
Received: from mails.dpdk.org (localhost [127.0.0.1])
	by mails.dpdk.org (Postfix) with ESMTP id 6C2744275C;
	Wed, 19 Jun 2024 12:41:36 +0200 (CEST)
Received: from mail-lj1-f227.google.com (mail-lj1-f227.google.com
 [209.85.208.227])
 by mails.dpdk.org (Postfix) with ESMTP id AADFA4021D
 for <test-report@dpdk.org>; Wed, 19 Jun 2024 12:41:30 +0200 (CEST)
Received: by mail-lj1-f227.google.com with SMTP id
 38308e7fff4ca-2eaa89464a3so72859111fa.3
 for <test-report@dpdk.org>; Wed, 19 Jun 2024 03:41:30 -0700 (PDT)
DKIM-Signature: v=1; a=rsa-sha256; c=relaxed/relaxed;
 d=iol.unh.edu; s=unh-iol; t=1718793690; x=1719398490; darn=dpdk.org;
 h=references:in-reply-to:cc:to:from:subject:message-id:date:from:to
 :cc:subject:date:message-id:reply-to;
 bh=n1oHqgMg1tjJUVH9JhVLQ5dlOKA10UAyC0/tAf1Hgfc=;
 b=SaaCfJmftjGpY8k32KPrn8Z11OICW7eukbWo9F6N36P9iiSuAjirZ+aSZiwjlGV13L
 IFCxg8i1PpbXp8U+DMQIEl28hkLYKXf1HRWcciO+e3AO4bEO7jxUSpZnDl7mA0F1ZV4g
 bYBmSaCltGMI2dQdUJW2cLWNOKoj3b9iIeNnE=
X-Google-DKIM-Signature: v=1; a=rsa-sha256; c=relaxed/relaxed;
 d=1e100.net; s=20230601; t=1718793690; x=1719398490;
 h=references:in-reply-to:cc:to:from:subject:message-id:date
 :x-gm-message-state:from:to:cc:subject:date:message-id:reply-to;
 bh=n1oHqgMg1tjJUVH9JhVLQ5dlOKA10UAyC0/tAf1Hgfc=;
 b=c+8zMmoBwGHEJj8U/lEtjwEDVo1hLUSbfXvgcqWWfrA7U+wob2ZvQjOPQbo6ihpgtx
 XpBog983lRacE+Z6/Z1FXlzDVhrDkt5TLgSlk0p7LPKxBZWekLJj0F0WE6X+81cYbl7E
 VdEGY9wEzdqGNEZAgrRfpmjMc1udIjih0ImfYkM3ZrhNFpJ88/1DRK6WX94ervG22825
 sehxkWdav87vYxqrIJNNq/SL+57J3zAC/Pv2T+rxSYladE080efcpxqtq06oeJP4btci
 BFLPOOa5IGMIBGMMoEO1lALR8UWISk8QK+42UXxfKCoHnSLiAifLsZFgGwW24HONX6PU
 8z7g==
X-Gm-Message-State: AOJu0YwH3DrNAE/BwYxbLR1RjVmkNyL/Bwfci2ClKw65UWaiJzun17f8
 aAfFzwscQbnQWHJGZVWvdyEi3FI7P8PGY5bvZfFK6m7XaC/yEghstD08nG1k3MbLN0GivnCXePG
 TLNTObpXTlhBeDOdzUt/lDueiVpH05bPA4fAzXkvCbw2otC5HrvySe67W
X-Google-Smtp-Source: AGHT+IF9auH98+5DZ2Vc19Xm/h46q9NtSyBchdrUOAusX5U36KKR+cloIcN2dKYYO20XeTdYZs8q+QSpzKxG
X-Received: by 2002:a2e:86c8:0:b0:2ec:881:424b with SMTP id
 38308e7fff4ca-2ec3cfd664dmr14636491fa.41.1718793690016; 
 Wed, 19 Jun 2024 03:41:30 -0700 (PDT)
Received: from postal.iol.unh.edu (postal.iol.unh.edu.
 [2606:4100:3880:1234::84]) by smtp-relay.gmail.com with ESMTPS id
 38308e7fff4ca-2ec2dcd6868sm1999761fa.27.2024.06.19.03.41.29
 (version=TLS1_2 cipher=ECDHE-ECDSA-AES128-GCM-SHA256 bits=128/128);
 Wed, 19 Jun 2024 03:41:30 -0700 (PDT)
X-Relaying-Domain: iol.unh.edu
Date: Wed, 19 Jun 2024 03:41:30 -0700 (PDT)
Message-ID: <6672b5da.2e0a0220.17093.6db8SMTPIN_ADDED_MISSING@mx.google.com>
Received: from [172.21.0.8] (unknown [172.18.0.240])
 by postal.iol.unh.edu (Postfix) with ESMTP id D03B8605C373;
 Wed, 19 Jun 2024 06:41:28 -0400 (EDT)
Subject: |SUCCESS| pw141296-141300 [PATCH] [5/5] net/nfp: support getting Tx 
From: dpdklab@iol.unh.edu
To: Test Report <test-report@dpdk.org>
Cc: dpdk-test-reports@iol.unh.edu
In-Reply-To: <20240619024923.3215843-6-chaoyong.he@corigine.com>
References: <20240619024923.3215843-6-chaoyong.he@corigine.com>
Content-Type: text/plain
X-BeenThere: test-report@dpdk.org
X-Mailman-Version: 2.1.29
Precedence: list
List-Id: automatic DPDK test reports <test-report.dpdk.org>
List-Unsubscribe: <https://mails.dpdk.org/options/test-report>,
 <mailto:test-report-request@dpdk.org?subject=unsubscribe>
List-Archive: <http://mails.dpdk.org/archives/test-report/>
List-Post: <mailto:test-report@dpdk.org>
List-Help: <mailto:test-report-request@dpdk.org?subject=help>
List-Subscribe: <https://mails.dpdk.org/listinfo/test-report>,
 <mailto:test-report-request@dpdk.org?subject=subscribe>
Errors-To: test-report-bounces@dpdk.org

Test-Label: iol-abi-testing
Test-Status: SUCCESS
http://dpdk.org/patch/141300

_Testing PASS_

Submitter: Chaoyong He <chaoyong.he@corigine.com>
Date: Wednesday, June 19 2024 02:49:23 
DPDK git baseline: Repo:dpdk
  Branch: master
  CommitID:fbba6db3640f9f623c29c452e1a6b057073e81d2

141296-141300 --> testing pass

Test environment and result as below:

+------------------+----------+
|   Environment    | abi_test |
+==================+==========+
| Debian Bullseye  | PASS     |
+------------------+----------+
| Fedora 38        | PASS     |
+------------------+----------+
| Fedora 39        | PASS     |
+------------------+----------+
| Fedora 40        | PASS     |
+------------------+----------+
| Fedora 37        | PASS     |
+------------------+----------+
| CentOS Stream 9  | PASS     |
+------------------+----------+
| openSUSE Leap 15 | PASS     |
+------------------+----------+
| CentOS Stream 8  | PASS     |
+------------------+----------+
| Ubuntu 24.04     | PASS     |
+------------------+----------+
| Debian 12        | PASS     |
+------------------+----------+
| Ubuntu 22.04     | PASS     |
+------------------+----------+
| RHEL8            | PASS     |
+------------------+----------+
| RHEL9            | PASS     |
+------------------+----------+


Debian Bullseye
	Kernel: 5.4.0-167-generic
	Compiler: gcc 10.2.1-6

Fedora 38
	Kernel: Depends on container host
	Compiler: gcc 13.2.1

Fedora 39
	Kernel: Depends on container host
	Compiler: clang 17.0.6

Fedora 40
	Kernel: Depends on container host
	Compiler: clang 18.1.6

Fedora 37
	Kernel: Depends on container host system
	Compiler: gcc 12.3.1

CentOS Stream 9
	Kernel: 5.4.0-167-generic
	Compiler: gcc 11.4.1 20230605

openSUSE Leap 15
	Kernel: 5.4.0-167-generic
	Compiler: gcc 7.5.0

CentOS Stream 8
	Kernel: 5.4.0-167-generic
	Compiler: gcc 8.5.0 20210514

Ubuntu 24.04
	Kernel: 5.4.0-167-generic
	Compiler: gcc 13.2.0

Debian 12
	Kernel: Container Host Kernel
	Compiler: gcc 12.2.0

Ubuntu 22.04
	Kernel: 5.4.0-167-generic
	Compiler: gcc 11.4.0

RHEL8
	Kernel: 5.4.0-167-generic
	Compiler: gcc 8.5.0 20210514 (Red Hat 8.5.0-20)

RHEL9
	Kernel: Depends on container host
	Compiler: gcc 11.4.1

To view detailed results, visit:
https://lab.dpdk.org/results/dashboard/patchsets/30236/

UNH-IOL DPDK Community Lab

To manage your email subscriptions, visit: 
https://lab.dpdk.org/results/dashboard/preferences/subscriptions/