From mboxrd@z Thu Jan  1 00:00:00 1970
Return-Path: <test-report-bounces@dpdk.org>
Received: from mails.dpdk.org (mails.dpdk.org [217.70.189.124])
	by inbox.dpdk.org (Postfix) with ESMTP id 613BC4548E
	for <public@inbox.dpdk.org>; Wed, 19 Jun 2024 13:02:13 +0200 (CEST)
Received: from mails.dpdk.org (localhost [127.0.0.1])
	by mails.dpdk.org (Postfix) with ESMTP id 5B8794060C;
	Wed, 19 Jun 2024 13:02:13 +0200 (CEST)
Received: from mail-ej1-f98.google.com (mail-ej1-f98.google.com
 [209.85.218.98]) by mails.dpdk.org (Postfix) with ESMTP id 3CAB14021D
 for <test-report@dpdk.org>; Wed, 19 Jun 2024 13:02:00 +0200 (CEST)
Received: by mail-ej1-f98.google.com with SMTP id
 a640c23a62f3a-a6f0c3d0792so766905066b.3
 for <test-report@dpdk.org>; Wed, 19 Jun 2024 04:02:00 -0700 (PDT)
DKIM-Signature: v=1; a=rsa-sha256; c=relaxed/relaxed;
 d=iol.unh.edu; s=unh-iol; t=1718794920; x=1719399720; darn=dpdk.org;
 h=references:in-reply-to:cc:to:from:subject:message-id:date:from:to
 :cc:subject:date:message-id:reply-to;
 bh=M05W9Oc6XhZO+iteb+dBfZ6wr3pZ0lf0kBMOHSvHymc=;
 b=fTAMJX7bOVSeO4izq5xQ+kfkyNU9tiNTyAQTNoil7/gGbEmgIKDfCMNR2ri/6k/skF
 G1EW20WMn07P24EQ9EHMx8D2wO8d7IGruom503iJdbHzDkWnCfjZQl4CpZbpJRR4wD88
 7amIi2BFMjWUGtLH9Zvw+vaQPImAnfla7F8FM=
X-Google-DKIM-Signature: v=1; a=rsa-sha256; c=relaxed/relaxed;
 d=1e100.net; s=20230601; t=1718794920; x=1719399720;
 h=references:in-reply-to:cc:to:from:subject:message-id:date
 :x-gm-message-state:from:to:cc:subject:date:message-id:reply-to;
 bh=M05W9Oc6XhZO+iteb+dBfZ6wr3pZ0lf0kBMOHSvHymc=;
 b=sQa7qGLh/av+LTfIwW0gSwyymfEzLMe1SY4eTTwpDQ4D/H+pp2JwdQVs6xMjP7fV7x
 4OcwSziqEvC+zGMoFElQ2zfbQWk9ZZmuRw1S1RaoIU1zym13YJjls6PRAL9DW1QiD24w
 9ZaFCnbulSWLNYvaAB+qvOql2L9fUK8z40xRWDEV3gQmcpn1/zoD9uLN5LyoHhuaLp/K
 sZwtfa6sIUHW1tpf9MT7xQvkhqNQHFXz3EG6cmOk2kdKvQm2l5SkmIiCfyH4G3El8wr6
 6klTdcOkGlxULauOsjrxeWCXSTItGeYjuqd7LgtRAHrKCsVVlhn3UVQolTPEAVI5RzBj
 3yWw==
X-Gm-Message-State: AOJu0Yy0rtLrdWHJjeTChBfXP3ZA0eLTS7CMzH6O9wdgQQgpnbXxDfv3
 5aU58rerDtc8pXtkrgsmA7Ixb82nVp5pHpwWYVNIbY6meVToP3cGEgrx2RBAtlgBfv4JRckEiZZ
 f+8RnaooNauEDcXV74AEEHeMqVZCyM8aBy/FUBRJH
X-Google-Smtp-Source: AGHT+IGqizQNl1kLFnQ1gfTGliPAWrxo0nUXsWHbHUpgVget0FAPHXZvKXZMX7ErjBBNXt0kRiVOp/hHjf4f
X-Received: by 2002:a17:907:94c2:b0:a6f:5a47:a59e with SMTP id
 a640c23a62f3a-a6fab7756e0mr159579866b.59.1718794919819; 
 Wed, 19 Jun 2024 04:01:59 -0700 (PDT)
Received: from postal.iol.unh.edu (postal.iol.unh.edu. [132.177.123.84])
 by smtp-relay.gmail.com with ESMTPS id
 a640c23a62f3a-a6f56d77e56sm19273666b.32.2024.06.19.04.01.59
 (version=TLS1_2 cipher=ECDHE-ECDSA-AES128-GCM-SHA256 bits=128/128);
 Wed, 19 Jun 2024 04:01:59 -0700 (PDT)
X-Relaying-Domain: iol.unh.edu
Date: Wed, 19 Jun 2024 04:01:59 -0700 (PDT)
Message-ID: <6672baa7.170a0220.9483d.adf5SMTPIN_ADDED_MISSING@mx.google.com>
Received: from [172.21.0.6] (unknown [172.18.0.240])
 by postal.iol.unh.edu (Postfix) with ESMTP id 013E7605C373;
 Wed, 19 Jun 2024 07:01:59 -0400 (EDT)
Subject: |SUCCESS| pw141277 [PATCH] vhost: Fix the crash caused by accessing 
From: dpdklab@iol.unh.edu
To: Test Report <test-report@dpdk.org>
Cc: dpdk-test-reports@iol.unh.edu
In-Reply-To: <20240618055929.40842-1-15957197901@163.com>
References: <20240618055929.40842-1-15957197901@163.com>
Content-Type: text/plain
X-BeenThere: test-report@dpdk.org
X-Mailman-Version: 2.1.29
Precedence: list
List-Id: automatic DPDK test reports <test-report.dpdk.org>
List-Unsubscribe: <https://mails.dpdk.org/options/test-report>,
 <mailto:test-report-request@dpdk.org?subject=unsubscribe>
List-Archive: <http://mails.dpdk.org/archives/test-report/>
List-Post: <mailto:test-report@dpdk.org>
List-Help: <mailto:test-report-request@dpdk.org?subject=help>
List-Subscribe: <https://mails.dpdk.org/listinfo/test-report>,
 <mailto:test-report-request@dpdk.org?subject=subscribe>
Errors-To: test-report-bounces@dpdk.org

Test-Label: iol-unit-amd64-testing
Test-Status: SUCCESS
http://dpdk.org/patch/141277

_Testing PASS_

Submitter: zhaoxinxin <15957197901@163.com>
Date: Tuesday, June 18 2024 05:59:29 
DPDK git baseline: Repo:dpdk
  Branch: master
  CommitID:b303beb6a9b12df49124ee0701027ca72be7aee1

141277 --> testing pass

Test environment and result as below:

+---------------------+----------------+
|     Environment     | dpdk_unit_test |
+=====================+================+
| CentOS Stream 8     | PASS           |
+---------------------+----------------+
| CentOS Stream 9     | PASS           |
+---------------------+----------------+
| Debian Bullseye     | PASS           |
+---------------------+----------------+
| Fedora 37           | PASS           |
+---------------------+----------------+
| Debian 12           | PASS           |
+---------------------+----------------+
| Fedora 39           | PASS           |
+---------------------+----------------+
| Fedora 38           | PASS           |
+---------------------+----------------+
| Fedora 40           | PASS           |
+---------------------+----------------+
| openSUSE Leap 15    | PASS           |
+---------------------+----------------+
| Ubuntu 24.04        | PASS           |
+---------------------+----------------+
| RHEL8               | PASS           |
+---------------------+----------------+
| Ubuntu 20.04        | PASS           |
+---------------------+----------------+
| RHEL9               | PASS           |
+---------------------+----------------+
| Ubuntu 22.04        | PASS           |
+---------------------+----------------+
| Windows Server 2019 | PASS           |
+---------------------+----------------+
| Windows Server 2022 | PASS           |
+---------------------+----------------+


CentOS Stream 8
	Kernel: 5.4.0-167-generic
	Compiler: gcc 8.5.0 20210514

CentOS Stream 9
	Kernel: 5.4.0-167-generic
	Compiler: gcc 11.4.1 20230605

Debian Bullseye
	Kernel: 5.4.0-167-generic
	Compiler: gcc 10.2.1-6

Fedora 37
	Kernel: Depends on container host system
	Compiler: gcc 12.3.1

Debian 12
	Kernel: Container Host Kernel
	Compiler: gcc 12.2.0

Fedora 39
	Kernel: Depends on container host
	Compiler: gcc 13.2.1

Fedora 38
	Kernel: Depends on container host
	Compiler: clang 16.0.6

Fedora 40
	Kernel: Depends on container host
	Compiler: clang 18.1.6

openSUSE Leap 15
	Kernel: 5.4.0-167-generic
	Compiler: gcc 7.5.0

Ubuntu 24.04
	Kernel: 5.4.0-167-generic
	Compiler: gcc 13.2.0

RHEL8
	Kernel: 5.4.0-167-generic
	Compiler: gcc 8.5.0 20210514 (Red Hat 8.5.0-20)

Ubuntu 20.04
	Kernel: 5.4.0-167-generic
	Compiler: gcc 9.4.0-1ubuntu1~20.04.1

RHEL9
	Kernel: Depends on container host
	Compiler: gcc 11.4.1

Ubuntu 22.04
	Kernel: 5.4.0-167-generic
	Compiler: gcc 11.4.0

Windows Server 2019
	Kernel: 10.0.17763
	Compiler: clang 14.0 and gcc 8.1.0 (MinGW)

Windows Server 2022
	Kernel: 10.0.20348.2031
	Compiler: clang 15.0.7, gcc 8.1.0 (MinGW), and MSVC VS 17.9

To view detailed results, visit:
https://lab.dpdk.org/results/dashboard/patchsets/30226/

UNH-IOL DPDK Community Lab

To manage your email subscriptions, visit: 
https://lab.dpdk.org/results/dashboard/preferences/subscriptions/