From mboxrd@z Thu Jan  1 00:00:00 1970
Return-Path: <test-report-bounces@dpdk.org>
Received: from mails.dpdk.org (mails.dpdk.org [217.70.189.124])
	by inbox.dpdk.org (Postfix) with ESMTP id F3DB3454A9
	for <public@inbox.dpdk.org>; Wed, 19 Jun 2024 15:01:32 +0200 (CEST)
Received: from mails.dpdk.org (localhost [127.0.0.1])
	by mails.dpdk.org (Postfix) with ESMTP id 0AD3E42E0C;
	Wed, 19 Jun 2024 15:01:32 +0200 (CEST)
Received: from mail-il1-f228.google.com (mail-il1-f228.google.com
 [209.85.166.228])
 by mails.dpdk.org (Postfix) with ESMTP id B788740289
 for <test-report@dpdk.org>; Wed, 19 Jun 2024 15:01:02 +0200 (CEST)
Received: by mail-il1-f228.google.com with SMTP id
 e9e14a558f8ab-37594abcee7so24112025ab.0
 for <test-report@dpdk.org>; Wed, 19 Jun 2024 06:01:02 -0700 (PDT)
DKIM-Signature: v=1; a=rsa-sha256; c=relaxed/relaxed;
 d=iol.unh.edu; s=unh-iol; t=1718802062; x=1719406862; darn=dpdk.org;
 h=references:in-reply-to:cc:to:from:subject:message-id:date:from:to
 :cc:subject:date:message-id:reply-to;
 bh=uWwT0XXdnJr2TQAL6q7DTASwWgRYdAwFyweFcdp2ZW0=;
 b=f9nfShTSVCE+pTTvU0YFSTojJmWmQ9VRzRwCHeBhwyczu/ymPOCg+hmZBQ58UnxWyd
 k2+iDt3ifXXwESP1Op0zdUOa5f7DKOyQv0CMnf4MANQZDCTLHgi14FnNBwlQKzl4y7br
 I5bpwjE6Wcd7tUgwcvl16BMgKMDky+M429hN4=
X-Google-DKIM-Signature: v=1; a=rsa-sha256; c=relaxed/relaxed;
 d=1e100.net; s=20230601; t=1718802062; x=1719406862;
 h=references:in-reply-to:cc:to:from:subject:message-id:date
 :x-gm-message-state:from:to:cc:subject:date:message-id:reply-to;
 bh=uWwT0XXdnJr2TQAL6q7DTASwWgRYdAwFyweFcdp2ZW0=;
 b=WXaoPAsYto//Vc08uoDgHlnY5q0hixDdKshsXcePe0v9Xz/oC9pej1t0HKi1+RPfqv
 57cMs7YCOMrZdUnu6S1bge5p+7kS8Bi0ZYJnINn/KX5t6k/zUIC5SIwc+QrDNxLaZuat
 m1maqi7P0R+5m1oiB4yYug9tIcTlAP3f3Xe9QGREpx5TOgvTngS301PAaC10w4LrMwfB
 DdNATtbp77JCNkFbXKH6yTSVCc1/WVxlvEOb0Tu6UYzO1hCgT2NfI0SLV+xvn+mZ8wSL
 sD+Ixz3U2pYXQ9KfCv2XY6sZKsjEiFTQz90frMxhD4LhWdxJKoRxlqX/mWCcz7ECBLbr
 EE3Q==
X-Gm-Message-State: AOJu0YzOgP1NlP68QBs+5zXVq2lYu68hmTTeltAcMQHXDyIg9qvDu4NS
 eoleqoolrgeRwtPBX+RY144Bag8einqa7GMG8Jl6mNHk+7DVocHVQdJzJZ5qlhc4o0CBvZGrrvf
 i925QqBMmMVTiCzmBCfdW65lyiSEi/17bCD0GmJ4NCK1NfjaGYYtScrGt
X-Google-Smtp-Source: AGHT+IFhSD62gv4vioT7XC85sl0+CPLvAN9zjGBZ2DaYREUUo++qfPknyOLzTLbKjN0fii/+amTPDw5mKLPe
X-Received: by 2002:a05:6e02:1caf:b0:375:b381:9acb with SMTP id
 e9e14a558f8ab-3761d76df91mr27137265ab.30.1718802051842; 
 Wed, 19 Jun 2024 06:00:51 -0700 (PDT)
Received: from postal.iol.unh.edu (postal.iol.unh.edu.
 [2606:4100:3880:1234::84]) by smtp-relay.gmail.com with ESMTPS id
 e9e14a558f8ab-375d86369aesm5770115ab.44.2024.06.19.06.00.51
 (version=TLS1_2 cipher=ECDHE-ECDSA-AES128-GCM-SHA256 bits=128/128);
 Wed, 19 Jun 2024 06:00:51 -0700 (PDT)
X-Relaying-Domain: iol.unh.edu
Date: Wed, 19 Jun 2024 06:00:51 -0700 (PDT)
Message-ID: <6672d683.050a0220.71356.8349SMTPIN_ADDED_MISSING@mx.google.com>
Received: from [172.21.0.6] (unknown [172.18.0.240])
 by postal.iol.unh.edu (Postfix) with ESMTP id 5B35E605C374;
 Wed, 19 Jun 2024 09:00:51 -0400 (EDT)
Subject: |SUCCESS| pw141311 [PATCH] doc: update match with E-Switch manager d
From: dpdklab@iol.unh.edu
To: Test Report <test-report@dpdk.org>
Cc: dpdk-test-reports@iol.unh.edu
In-Reply-To: <20240619041907.2144649-1-suanmingm@nvidia.com>
References: <20240619041907.2144649-1-suanmingm@nvidia.com>
Content-Type: text/plain
X-BeenThere: test-report@dpdk.org
X-Mailman-Version: 2.1.29
Precedence: list
List-Id: automatic DPDK test reports <test-report.dpdk.org>
List-Unsubscribe: <https://mails.dpdk.org/options/test-report>,
 <mailto:test-report-request@dpdk.org?subject=unsubscribe>
List-Archive: <http://mails.dpdk.org/archives/test-report/>
List-Post: <mailto:test-report@dpdk.org>
List-Help: <mailto:test-report-request@dpdk.org?subject=help>
List-Subscribe: <https://mails.dpdk.org/listinfo/test-report>,
 <mailto:test-report-request@dpdk.org?subject=subscribe>
Errors-To: test-report-bounces@dpdk.org

Test-Label: iol-compile-amd64-testing
Test-Status: SUCCESS
http://dpdk.org/patch/141311

_Testing PASS_

Submitter: Suanming Mou <suanmingm@nvidia.com>
Date: Wednesday, June 19 2024 04:19:06 
DPDK git baseline: Repo:dpdk
  Branch: master
  CommitID:c1cdfbcc339c2c951bff95854983a8773d9e5b8e

141311 --> testing pass

Test environment and result as below:

+---------------------+--------------------+----------------------+-------------------+
|     Environment     | dpdk_meson_compile | dpdk_mingw64_compile | dpdk_msvc_compile |
+=====================+====================+======================+===================+
| FreeBSD 13.3        | PASS               | SKIPPED              | SKIPPED           |
+---------------------+--------------------+----------------------+-------------------+
| Windows Server 2019 | PASS               | PASS                 | SKIPPED           |
+---------------------+--------------------+----------------------+-------------------+
| Windows Server 2022 | PASS               | PASS                 | PASS              |
+---------------------+--------------------+----------------------+-------------------+
| FreeBSD 14.1        | PASS               | SKIPPED              | SKIPPED           |
+---------------------+--------------------+----------------------+-------------------+


FreeBSD 13.3
	Kernel: 13.3-RELEASE-p1
	Compiler: clang 17.0.6

Windows Server 2019
	Kernel: 10.0.17763
	Compiler: clang 14.0 and gcc 8.1.0 (MinGW)

Windows Server 2022
	Kernel: 10.0.20348.2031
	Compiler: clang 15.0.7, gcc 8.1.0 (MinGW), and MSVC VS 17.9

FreeBSD 14.1
	Kernel: 14.1
	Compiler: clang 18.1.5

To view detailed results, visit:
https://lab.dpdk.org/results/dashboard/patchsets/30239/

UNH-IOL DPDK Community Lab

To manage your email subscriptions, visit: 
https://lab.dpdk.org/results/dashboard/preferences/subscriptions/