From mboxrd@z Thu Jan  1 00:00:00 1970
Return-Path: <test-report-bounces@dpdk.org>
Received: from mails.dpdk.org (mails.dpdk.org [217.70.189.124])
	by inbox.dpdk.org (Postfix) with ESMTP id 3932A454AA
	for <public@inbox.dpdk.org>; Wed, 19 Jun 2024 16:22:05 +0200 (CEST)
Received: from mails.dpdk.org (localhost [127.0.0.1])
	by mails.dpdk.org (Postfix) with ESMTP id 37D57427C3;
	Wed, 19 Jun 2024 16:22:05 +0200 (CEST)
Received: from mail-pg1-f227.google.com (mail-pg1-f227.google.com
 [209.85.215.227])
 by mails.dpdk.org (Postfix) with ESMTP id 521474021D
 for <test-report@dpdk.org>; Wed, 19 Jun 2024 16:22:02 +0200 (CEST)
Received: by mail-pg1-f227.google.com with SMTP id
 41be03b00d2f7-70346ae2c43so669524a12.1
 for <test-report@dpdk.org>; Wed, 19 Jun 2024 07:22:02 -0700 (PDT)
DKIM-Signature: v=1; a=rsa-sha256; c=relaxed/relaxed;
 d=iol.unh.edu; s=unh-iol; t=1718806921; x=1719411721; darn=dpdk.org;
 h=references:in-reply-to:cc:to:from:subject:message-id:date:from:to
 :cc:subject:date:message-id:reply-to;
 bh=0w2kf7hdVg2av4ELIPLywBHoUF2bbBFoNHbNWv2ghL4=;
 b=CzSkT2gTcmvouZqTJTSpTfIP9OEUj2WBaaxrRKzAvt/Vi0Kc/89GK8VOiGJsiVUh0c
 /kxMP3D+618HLjRXDouAm7mRrF0hpYbH4MX7C3uucRcu2Eaj3edh0COOECoIX5BTQmUF
 oYw1cYTGjEtVu6iAupmWfPWtESz5Tm8r2iTeg=
X-Google-DKIM-Signature: v=1; a=rsa-sha256; c=relaxed/relaxed;
 d=1e100.net; s=20230601; t=1718806921; x=1719411721;
 h=references:in-reply-to:cc:to:from:subject:message-id:date
 :x-gm-message-state:from:to:cc:subject:date:message-id:reply-to;
 bh=0w2kf7hdVg2av4ELIPLywBHoUF2bbBFoNHbNWv2ghL4=;
 b=Ba8DJ4UjxZG2cTgfurBVGwVCfFg4r6xiVr+6HZBD9DoA75Lj8i9jocEN+kPRKtOY53
 BYiUX00D1Hgl1RDmF4gTRobNMZzL0dyZgB5q8rV1BZUqMk8+dVXiIIwACusQO/JENRp1
 t/J1RJHh34Ty35NRzWVzFWUKEU3zmpMg1cZE+GNp15lyonrvuIKmM1mcuhPFNH0zCt4g
 RDBhD/pSOiJ26GPOg0yqmtk8TjByzOTWhyUTTF4W8K4HJqqsCPgQtDSskfMTS80yr71Y
 kijiMHC9bSD7MT9oU+FrpJqoE6XRu8N1UCbU8GaGzQkI4hleSz1JJj6k9cHdASRY3zSl
 OeEA==
X-Gm-Message-State: AOJu0Yy1H6JDztBWXgDufD7S/Tjql9iKlObObAk9vgY6VzSMAeD7Iwj7
 Nt736xTNrzf6cuEBhSlFNEWWsRFciH4dKMxMZzCmUlyQNvBnJE6WayHB4/IeICQ1OhCq8oy0Q4i
 pWDI0IAcPNf30BB5ZPba+/V2P2hEMTfHB/XE4gar8H7YL8JCG
X-Google-Smtp-Source: AGHT+IF1sM4KSDVDd6lu8VoJOY9KZI2s6JqJZ1B1yq33MtKoXdgkzL2fao+W7ZNFzYtpYCNZRnBNInelyHfP
X-Received: by 2002:a17:902:f68b:b0:1f9:b698:3221 with SMTP id
 d9443c01a7336-1f9b6983961mr19041365ad.21.1718806921496; 
 Wed, 19 Jun 2024 07:22:01 -0700 (PDT)
Received: from postal.iol.unh.edu (postal.iol.unh.edu.
 [2606:4100:3880:1234::84]) by smtp-relay.gmail.com with ESMTPS id
 d9443c01a7336-1f9ab9a61d3sm990965ad.16.2024.06.19.07.22.01
 (version=TLS1_2 cipher=ECDHE-ECDSA-AES128-GCM-SHA256 bits=128/128);
 Wed, 19 Jun 2024 07:22:01 -0700 (PDT)
X-Relaying-Domain: iol.unh.edu
Date: Wed, 19 Jun 2024 07:22:01 -0700 (PDT)
Message-ID: <6672e989.170a0220.f961d.7294SMTPIN_ADDED_MISSING@mx.google.com>
Received: from [172.21.0.6] (unknown [172.18.0.240])
 by postal.iol.unh.edu (Postfix) with ESMTP id 447006050A9C;
 Wed, 19 Jun 2024 10:22:00 -0400 (EDT)
Subject: |SUCCESS| pw141296-141300 [PATCH] [5/5] net/nfp: support getting Tx 
From: dpdklab@iol.unh.edu
To: Test Report <test-report@dpdk.org>
Cc: Chaoyong He <chaoyong.he@corigine.com>
In-Reply-To: <20240619024923.3215843-6-chaoyong.he@corigine.com>
References: <20240619024923.3215843-6-chaoyong.he@corigine.com>
Content-Type: text/plain
X-BeenThere: test-report@dpdk.org
X-Mailman-Version: 2.1.29
Precedence: list
List-Id: automatic DPDK test reports <test-report.dpdk.org>
List-Unsubscribe: <https://mails.dpdk.org/options/test-report>,
 <mailto:test-report-request@dpdk.org?subject=unsubscribe>
List-Archive: <http://mails.dpdk.org/archives/test-report/>
List-Post: <mailto:test-report@dpdk.org>
List-Help: <mailto:test-report-request@dpdk.org?subject=help>
List-Subscribe: <https://mails.dpdk.org/listinfo/test-report>,
 <mailto:test-report-request@dpdk.org?subject=subscribe>
Errors-To: test-report-bounces@dpdk.org

Test-Label: iol-unit-amd64-testing
Test-Status: SUCCESS
http://dpdk.org/patch/141300

_Testing PASS_

Submitter: Chaoyong He <chaoyong.he@corigine.com>
Date: Wednesday, June 19 2024 02:49:23 
DPDK git baseline: Repo:dpdk
  Branch: master
  CommitID:fbba6db3640f9f623c29c452e1a6b057073e81d2

141296-141300 --> testing pass

Test environment and result as below:

+-----------------+----------------+
|   Environment   | dpdk_unit_test |
+=================+================+
| CentOS Stream 8 | PASS           |
+-----------------+----------------+
| CentOS Stream 9 | PASS           |
+-----------------+----------------+
| Debian Bullseye | PASS           |
+-----------------+----------------+


CentOS Stream 8
	Kernel: 5.4.0-167-generic
	Compiler: gcc 8.5.0 20210514

CentOS Stream 9
	Kernel: 5.4.0-167-generic
	Compiler: gcc 11.4.1 20230605

Debian Bullseye
	Kernel: 5.4.0-167-generic
	Compiler: gcc 10.2.1-6

To view detailed results, visit:
https://lab.dpdk.org/results/dashboard/patchsets/30236/

UNH-IOL DPDK Community Lab

To manage your email subscriptions, visit: 
https://lab.dpdk.org/results/dashboard/preferences/subscriptions/