From mboxrd@z Thu Jan  1 00:00:00 1970
Return-Path: <test-report-bounces@dpdk.org>
Received: from mails.dpdk.org (mails.dpdk.org [217.70.189.124])
	by inbox.dpdk.org (Postfix) with ESMTP id DC437454AA
	for <public@inbox.dpdk.org>; Wed, 19 Jun 2024 18:44:36 +0200 (CEST)
Received: from mails.dpdk.org (localhost [127.0.0.1])
	by mails.dpdk.org (Postfix) with ESMTP id E0815402C6;
	Wed, 19 Jun 2024 18:44:36 +0200 (CEST)
Received: from mail-yb1-f228.google.com (mail-yb1-f228.google.com
 [209.85.219.228])
 by mails.dpdk.org (Postfix) with ESMTP id F207240289
 for <test-report@dpdk.org>; Wed, 19 Jun 2024 18:44:34 +0200 (CEST)
Received: by mail-yb1-f228.google.com with SMTP id
 3f1490d57ef6-dfde5ae0aaeso6853816276.1
 for <test-report@dpdk.org>; Wed, 19 Jun 2024 09:44:34 -0700 (PDT)
DKIM-Signature: v=1; a=rsa-sha256; c=relaxed/relaxed;
 d=iol.unh.edu; s=unh-iol; t=1718815474; x=1719420274; darn=dpdk.org;
 h=references:in-reply-to:cc:to:from:subject:message-id:date:from:to
 :cc:subject:date:message-id:reply-to;
 bh=2Rb4muezSR3dv9yAVXLI5BCYll8FiAYIpStSrGU6Vg0=;
 b=ZaMAcxo6nbakCEG1ldG3Kf/6EJRH7OAgNOSoIbq81u76+G1hyJA8xagpbiYUhEBS8I
 E8lTnbVVF5leXKPgDDzTBeET/EXdoU83VSf8X6pI6USChowuWV98L+P0Er/WI7zCsfDo
 M7CzVg73B2a/BquH9C55sid9s/bliIXvxzdRc=
X-Google-DKIM-Signature: v=1; a=rsa-sha256; c=relaxed/relaxed;
 d=1e100.net; s=20230601; t=1718815474; x=1719420274;
 h=references:in-reply-to:cc:to:from:subject:message-id:date
 :x-gm-message-state:from:to:cc:subject:date:message-id:reply-to;
 bh=2Rb4muezSR3dv9yAVXLI5BCYll8FiAYIpStSrGU6Vg0=;
 b=aQZOakpKhudZTiX/fTg1yPcEihT4pHKoEw0lEF7rgWA4eLHuCRLfongOKJN8g7jbAl
 N3D9HcIoi61ltR7mbwmii6Dr54qBrGqtuzEKA/DrNSJ1iGPhoV+MXkyvtYvgbCg7TbKu
 wmUS84t4+RHCTbDh5tl8T0c4jKhVAc4LugwtNwvyF/P9AQWdN3rsHhPQyWAmA02C2Zir
 CFUMRkmwUhLkAmTEMPwSMkC7gXBRWFZ4WxVOCKSTvNFBqL4sebdMJLF3enz4nU3vtDsK
 28E71f8RvwLX50Ccy2dAdQqE0wnsTqrcsghVQyDhnB0WK4WSc/xifx4/mRgL6AP1/8JG
 vTRg==
X-Gm-Message-State: AOJu0YxxDAvAs4yw3iqZQXEbyjAYLf8/tpaM2/WVoTJiKjr88wNbORjL
 qzZ2GosOHm2xDiGE7ROiTTZUL0m5Az6uSoJUv92X/HeTZl2xet7XNEZtU0shrCqqm+2QEuCHHgm
 AN/L/cSCL6f8Z37aNkTcsWiij3UxNqs9w27zUYVGe
X-Google-Smtp-Source: AGHT+IGNso3XljccS4SI/GVofCwx9C+V1YfegumiMc2wBNzl4HTXqUTwhgbMkiMRT1gWjxDCPQwsKWfb6D9q
X-Received: by 2002:a25:d6cc:0:b0:e02:61b8:3663 with SMTP id
 3f1490d57ef6-e02be175631mr3472201276.37.1718815472660; 
 Wed, 19 Jun 2024 09:44:32 -0700 (PDT)
Received: from postal.iol.unh.edu (postal.iol.unh.edu. [132.177.123.84])
 by smtp-relay.gmail.com with ESMTPS id
 3f1490d57ef6-e02b8909237sm123882276.23.2024.06.19.09.44.32
 (version=TLS1_2 cipher=ECDHE-ECDSA-AES128-GCM-SHA256 bits=128/128);
 Wed, 19 Jun 2024 09:44:32 -0700 (PDT)
X-Relaying-Domain: iol.unh.edu
Date: Wed, 19 Jun 2024 09:44:32 -0700 (PDT)
Message-ID: <66730af0.050a0220.e159f.896bSMTPIN_ADDED_MISSING@mx.google.com>
Received: from [172.21.0.6] (unknown [172.18.0.240])
 by postal.iol.unh.edu (Postfix) with ESMTP id 4570A605C373;
 Wed, 19 Jun 2024 12:44:32 -0400 (EDT)
Subject: |SUCCESS| pw141305-141310 [PATCH] [6/6] net/nfp: add CPP service abn
From: dpdklab@iol.unh.edu
To: Test Report <test-report@dpdk.org>
Cc: dpdk-test-reports@iol.unh.edu
In-Reply-To: <20240619030655.3216268-7-chaoyong.he@corigine.com>
References: <20240619030655.3216268-7-chaoyong.he@corigine.com>
Content-Type: text/plain
X-BeenThere: test-report@dpdk.org
X-Mailman-Version: 2.1.29
Precedence: list
List-Id: automatic DPDK test reports <test-report.dpdk.org>
List-Unsubscribe: <https://mails.dpdk.org/options/test-report>,
 <mailto:test-report-request@dpdk.org?subject=unsubscribe>
List-Archive: <http://mails.dpdk.org/archives/test-report/>
List-Post: <mailto:test-report@dpdk.org>
List-Help: <mailto:test-report-request@dpdk.org?subject=help>
List-Subscribe: <https://mails.dpdk.org/listinfo/test-report>,
 <mailto:test-report-request@dpdk.org?subject=subscribe>
Errors-To: test-report-bounces@dpdk.org

Test-Label: iol-abi-testing
Test-Status: SUCCESS
http://dpdk.org/patch/141310

_Testing PASS_

Submitter: Chaoyong He <chaoyong.he@corigine.com>
Date: Wednesday, June 19 2024 03:06:55 
DPDK git baseline: Repo:dpdk
  Branch: master
  CommitID:fbba6db3640f9f623c29c452e1a6b057073e81d2

141305-141310 --> testing pass

Test environment and result as below:

+------------------+----------+
|   Environment    | abi_test |
+==================+==========+
| Fedora 37        | PASS     |
+------------------+----------+
| CentOS Stream 8  | PASS     |
+------------------+----------+
| Fedora 39        | PASS     |
+------------------+----------+
| CentOS Stream 9  | PASS     |
+------------------+----------+
| Debian 12        | PASS     |
+------------------+----------+
| Debian Bullseye  | PASS     |
+------------------+----------+
| Fedora 40        | PASS     |
+------------------+----------+
| Fedora 38        | PASS     |
+------------------+----------+
| openSUSE Leap 15 | PASS     |
+------------------+----------+
| RHEL8            | PASS     |
+------------------+----------+
| RHEL9            | PASS     |
+------------------+----------+
| Ubuntu 22.04     | PASS     |
+------------------+----------+
| Ubuntu 24.04     | PASS     |
+------------------+----------+


Fedora 37
	Kernel: Depends on container host system
	Compiler: gcc 12.3.1

CentOS Stream 8
	Kernel: 5.4.0-167-generic
	Compiler: gcc 8.5.0 20210514

Fedora 39
	Kernel: Depends on container host
	Compiler: gcc 13.2.1

CentOS Stream 9
	Kernel: 5.4.0-167-generic
	Compiler: gcc 11.4.1 20230605

Debian 12
	Kernel: Container Host Kernel
	Compiler: gcc 12.2.0

Debian Bullseye
	Kernel: 5.4.0-167-generic
	Compiler: gcc 10.2.1-6

Fedora 40
	Kernel: Depends on container host
	Compiler: clang 18.1.6

Fedora 38
	Kernel: Depends on container host
	Compiler: clang 16.0.6

openSUSE Leap 15
	Kernel: 5.4.0-167-generic
	Compiler: gcc 7.5.0

RHEL8
	Kernel: 5.4.0-167-generic
	Compiler: gcc 8.5.0 20210514 (Red Hat 8.5.0-20)

RHEL9
	Kernel: Depends on container host
	Compiler: gcc 11.4.1

Ubuntu 22.04
	Kernel: 5.4.0-167-generic
	Compiler: gcc 11.4.0

Ubuntu 24.04
	Kernel: 5.4.0-167-generic
	Compiler: gcc 13.2.0

To view detailed results, visit:
https://lab.dpdk.org/results/dashboard/patchsets/30238/

UNH-IOL DPDK Community Lab

To manage your email subscriptions, visit: 
https://lab.dpdk.org/results/dashboard/preferences/subscriptions/