From mboxrd@z Thu Jan  1 00:00:00 1970
Return-Path: <test-report-bounces@dpdk.org>
Received: from mails.dpdk.org (mails.dpdk.org [217.70.189.124])
	by inbox.dpdk.org (Postfix) with ESMTP id 90852454AA
	for <public@inbox.dpdk.org>; Wed, 19 Jun 2024 18:57:35 +0200 (CEST)
Received: from mails.dpdk.org (localhost [127.0.0.1])
	by mails.dpdk.org (Postfix) with ESMTP id 93192402C6;
	Wed, 19 Jun 2024 18:57:35 +0200 (CEST)
Received: from mail-il1-f228.google.com (mail-il1-f228.google.com
 [209.85.166.228])
 by mails.dpdk.org (Postfix) with ESMTP id 6334340289
 for <test-report@dpdk.org>; Wed, 19 Jun 2024 18:57:16 +0200 (CEST)
Received: by mail-il1-f228.google.com with SMTP id
 e9e14a558f8ab-36da84df7adso117215ab.1
 for <test-report@dpdk.org>; Wed, 19 Jun 2024 09:57:16 -0700 (PDT)
DKIM-Signature: v=1; a=rsa-sha256; c=relaxed/relaxed;
 d=iol.unh.edu; s=unh-iol; t=1718816235; x=1719421035; darn=dpdk.org;
 h=references:in-reply-to:cc:to:from:subject:message-id:date:from:to
 :cc:subject:date:message-id:reply-to;
 bh=T8TIhG1VVpIHHCEaTHF6P4VfMtCZFw05v7mDrvJic3A=;
 b=ZJWT7mEG64RXKb95FR+ClZWPydIBLKE76fwot0RURJq9ukXx5H4ZeObMQtD9+vWedA
 giUXDi5j5NhL15Ennkjb85eVO56NfSTrR5FpjzE0p1hFobgAJkqQfmkp9+EecnkOtjqh
 +7eOc1ptsrm7y1r3wfCsxRrBuZVnZbgtoZEgw=
X-Google-DKIM-Signature: v=1; a=rsa-sha256; c=relaxed/relaxed;
 d=1e100.net; s=20230601; t=1718816235; x=1719421035;
 h=references:in-reply-to:cc:to:from:subject:message-id:date
 :x-gm-message-state:from:to:cc:subject:date:message-id:reply-to;
 bh=T8TIhG1VVpIHHCEaTHF6P4VfMtCZFw05v7mDrvJic3A=;
 b=W11eBX6Julf/o1Po7LtnNZnua0ycTAwt1PyyMXwM0loWXm1CwJ99pbOEG+fNhMLQ1Z
 b/azPNUUxHfiz2KfvD+Ccexi0MbwXcSWqhEtv9Fmb68zxTOLCBe2nCx+U2epttJZHFUB
 KjZsIsNqBbaSvzt6LXV2k9LBeVBknYvS29KevIbHGPWeaB8/w0QAByW9pOLy9AsaU+3S
 +ORge8EdCcPMJ4NH68DJ8kcRHReuQWIb4QHGWHj43HT61N+c7BgWaj51O5BXozR1xrDF
 xL64g/UzQALXb1Wzxn76I6KEIEPeCGmiKcQu+P/5KSDCVpauRKOOEBWNG3gNcxgd7BRS
 uvEA==
X-Gm-Message-State: AOJu0YxED65j3t33xx8GvrwlpyHNFAzdDCZkmaUAPDn28RmI3VzccGtJ
 VWqAO7qaIVZezDezFfDrWkK1EDVsQRt4++h4Rh7lF33L01x8ZbE+0rUSdA+8/sEEUPd4n6puVfT
 ZBsAORCz8oG48bJrc2gwmYHPA+gaOVdKGLqA6ziOEoHsZRI8K0yJIGC3d
X-Google-Smtp-Source: AGHT+IG2akPfUiH7W1aLQGci0FM0o+HhwlYc3updJekNMgIt/wPAtswWG+mYXgr/dtCjGwDIAt54ruDXsXoW
X-Received: by 2002:a05:6e02:1c21:b0:376:f86:a9ea with SMTP id
 e9e14a558f8ab-3761d11c0d4mr21645245ab.10.1718816235784; 
 Wed, 19 Jun 2024 09:57:15 -0700 (PDT)
Received: from postal.iol.unh.edu (postal.iol.unh.edu.
 [2606:4100:3880:1234::84]) by smtp-relay.gmail.com with ESMTPS id
 e9e14a558f8ab-375d86ce5a6sm5380545ab.68.2024.06.19.09.57.15
 (version=TLS1_2 cipher=ECDHE-ECDSA-AES128-GCM-SHA256 bits=128/128);
 Wed, 19 Jun 2024 09:57:15 -0700 (PDT)
X-Relaying-Domain: iol.unh.edu
Date: Wed, 19 Jun 2024 09:57:15 -0700 (PDT)
Message-ID: <66730deb.050a0220.6ad39.5fe5SMTPIN_ADDED_MISSING@mx.google.com>
Received: from [172.21.0.6] (unknown [172.18.0.240])
 by postal.iol.unh.edu (Postfix) with ESMTP id 42839605C373;
 Wed, 19 Jun 2024 12:57:15 -0400 (EDT)
Subject: |SUCCESS| pw141296-141300 [PATCH] [5/5] net/nfp: support getting Tx 
From: dpdklab@iol.unh.edu
To: Test Report <test-report@dpdk.org>
Cc: dpdk-test-reports@iol.unh.edu
In-Reply-To: <20240619024923.3215843-6-chaoyong.he@corigine.com>
References: <20240619024923.3215843-6-chaoyong.he@corigine.com>
Content-Type: text/plain
X-BeenThere: test-report@dpdk.org
X-Mailman-Version: 2.1.29
Precedence: list
List-Id: automatic DPDK test reports <test-report.dpdk.org>
List-Unsubscribe: <https://mails.dpdk.org/options/test-report>,
 <mailto:test-report-request@dpdk.org?subject=unsubscribe>
List-Archive: <http://mails.dpdk.org/archives/test-report/>
List-Post: <mailto:test-report@dpdk.org>
List-Help: <mailto:test-report-request@dpdk.org?subject=help>
List-Subscribe: <https://mails.dpdk.org/listinfo/test-report>,
 <mailto:test-report-request@dpdk.org?subject=subscribe>
Errors-To: test-report-bounces@dpdk.org

Test-Label: iol-compile-arm64-testing
Test-Status: SUCCESS
http://dpdk.org/patch/141300

_Testing PASS_

Submitter: Chaoyong He <chaoyong.he@corigine.com>
Date: Wednesday, June 19 2024 02:49:23 
DPDK git baseline: Repo:dpdk
  Branch: master
  CommitID:fbba6db3640f9f623c29c452e1a6b057073e81d2

141296-141300 --> testing pass

Test environment and result as below:

+-----------------------+--------------------+
|      Environment      | dpdk_meson_compile |
+=======================+====================+
| Ubuntu 20.04 ARM SVE  | PASS               |
+-----------------------+--------------------+
| Debian 12 with MUSDK  | PASS               |
+-----------------------+--------------------+
| Fedora 39 (ARM)       | PASS               |
+-----------------------+--------------------+
| Fedora 40 (ARM)       | PASS               |
+-----------------------+--------------------+
| Ubuntu 20.04 (ARM)    | PASS               |
+-----------------------+--------------------+
| Ubuntu 22.04 (ARM)    | PASS               |
+-----------------------+--------------------+
| Ubuntu 24.04 (ARM)    | PASS               |
+-----------------------+--------------------+
| Fedora 38 (ARM)       | PASS               |
+-----------------------+--------------------+
| CentOS Stream 9 (ARM) | PASS               |
+-----------------------+--------------------+
| Debian 12 (arm)       | PASS               |
+-----------------------+--------------------+
| RHEL9 (ARM)           | PASS               |
+-----------------------+--------------------+


Ubuntu 20.04 ARM SVE
	Kernel: 5.4.0-167-generic
	Compiler: gcc (Ubuntu 10.5.0-1ubuntu1~20.04) 10.5.0

Debian 12 with MUSDK
	Kernel: Container Host Kernel
	Compiler: gcc 12.2.0

Fedora 39 (ARM)
	Kernel: Depends on container host
	Compiler: gcc 13.2.1

Fedora 40 (ARM)
	Kernel: Depends on container host
	Compiler: gcc 14.1.1

Ubuntu 20.04 (ARM)
	Kernel: Container Host Kernel
	Compiler: gcc 9.4.0

Ubuntu 22.04 (ARM)
	Kernel: Container Host Kernel
	Compiler: gcc 11.4.0

Ubuntu 24.04 (ARM)
	Kernel: 5.4.0-167-generic
	Compiler: gcc 13.2.0

Fedora 38 (ARM)
	Kernel: Depends on container host
	Compiler: gcc 13.2.1

CentOS Stream 9 (ARM)
	Kernel: Container Host Kernel
	Compiler: gcc 11.4.1

Debian 12 (arm)
	Kernel: Container Host Kernel
	Compiler: gcc 12.2.0

RHEL9 (ARM)
	Kernel: Depends on container host
	Compiler: gcc 11.4.1

To view detailed results, visit:
https://lab.dpdk.org/results/dashboard/patchsets/30236/

UNH-IOL DPDK Community Lab

To manage your email subscriptions, visit: 
https://lab.dpdk.org/results/dashboard/preferences/subscriptions/