From mboxrd@z Thu Jan  1 00:00:00 1970
Return-Path: <test-report-bounces@dpdk.org>
Received: from mails.dpdk.org (mails.dpdk.org [217.70.189.124])
	by inbox.dpdk.org (Postfix) with ESMTP id 6207245450
	for <public@inbox.dpdk.org>; Wed, 19 Jun 2024 20:34:41 +0200 (CEST)
Received: from mails.dpdk.org (localhost [127.0.0.1])
	by mails.dpdk.org (Postfix) with ESMTP id 5F6AE402C6;
	Wed, 19 Jun 2024 20:34:41 +0200 (CEST)
Received: from mail-pl1-f225.google.com (mail-pl1-f225.google.com
 [209.85.214.225])
 by mails.dpdk.org (Postfix) with ESMTP id 4A5EE40289
 for <test-report@dpdk.org>; Wed, 19 Jun 2024 20:34:39 +0200 (CEST)
Received: by mail-pl1-f225.google.com with SMTP id
 d9443c01a7336-1f99fe4dc5aso625615ad.0
 for <test-report@dpdk.org>; Wed, 19 Jun 2024 11:34:39 -0700 (PDT)
DKIM-Signature: v=1; a=rsa-sha256; c=relaxed/relaxed;
 d=iol.unh.edu; s=unh-iol; t=1718822078; x=1719426878; darn=dpdk.org;
 h=references:in-reply-to:cc:to:from:subject:message-id:date:from:to
 :cc:subject:date:message-id:reply-to;
 bh=+EHp6GNASo4YQPC8X9Yakh0o+qJ9lnElgyeyfPcxntA=;
 b=OqE4//8embxYiak2M5Ab63hdjqemik+2rrBTShfP8rxSW1G5dgIY6KeUUQ7h5PiAhc
 68GtKrBRoEaFU+Jiiq6opRWhHd8daTm8Rfb2ZzOHpq1Lhfb+/nxlpXt272LZA7f6pq1o
 DWzZpnl+CPzLQoGByqmBRQhqEcTG+FlJ3h5lE=
X-Google-DKIM-Signature: v=1; a=rsa-sha256; c=relaxed/relaxed;
 d=1e100.net; s=20230601; t=1718822078; x=1719426878;
 h=references:in-reply-to:cc:to:from:subject:message-id:date
 :x-gm-message-state:from:to:cc:subject:date:message-id:reply-to;
 bh=+EHp6GNASo4YQPC8X9Yakh0o+qJ9lnElgyeyfPcxntA=;
 b=A7YfLkq5gkfj9kD0k5ruYWM6Z3Rh3EOgvHktaeii4TBFgkwQJNHgAL6mjgS2B75Ts+
 MJCuYRNV66SdGaUWi7h+Wgeurp4/IpGBalE8/jvY+H80jdls+UdgyANSxrXkVSenZlv4
 9hz9N+/zkckTM5P1B4btfVLcEb6E3FBqdlb7hCzKDF0IUb3AL6S+NQi5mBDTyX0Vk3ae
 sHPd4CXF1yOZGLtjKeAMEdKobdv8Mj2CrUqW+BcwGhXxgU7gkkCC5F5wJmaaH9Qf/j3m
 wbUvuoAAq8ql+d3ITU4k57vqd4u2iW0ncy8cg1xUzBBhAMhk0cAa0v2uiKHI5aWANJeP
 ldbA==
X-Gm-Message-State: AOJu0YxtJofSUkdhyfzBoy0Bi8shLHGEYTbkGasiMBIOu0/iabUnvvUX
 9cOQ81lP+kFExDAI34PgOJyQR/j739kienoR9vnJyhJDfPisgc80AxUlPZd7mmhcjH66tvUK3X2
 vY6GKE7B4wkI/AVGDrV/+7xHbrHRjapkwzStgwKFv
X-Google-Smtp-Source: AGHT+IGAtDf3Yep8mn6jw/kJ5yWR0bueut8p9tobh4RZyqhK3Y+jbwShS92J9PSLmz3dKyDZdaUJ1mjmtMup
X-Received: by 2002:a17:902:e88a:b0:1f7:1688:9e36 with SMTP id
 d9443c01a7336-1f9aa45eae6mr37257765ad.48.1718822078394; 
 Wed, 19 Jun 2024 11:34:38 -0700 (PDT)
Received: from postal.iol.unh.edu (postal.iol.unh.edu. [132.177.123.84])
 by smtp-relay.gmail.com with ESMTPS id
 d9443c01a7336-1f855edf076sm5243755ad.134.2024.06.19.11.34.38
 (version=TLS1_2 cipher=ECDHE-ECDSA-AES128-GCM-SHA256 bits=128/128);
 Wed, 19 Jun 2024 11:34:38 -0700 (PDT)
X-Relaying-Domain: iol.unh.edu
Date: Wed, 19 Jun 2024 11:34:38 -0700 (PDT)
Message-ID: <667324be.170a0220.670eb.34a1SMTPIN_ADDED_MISSING@mx.google.com>
Received: from [172.21.0.6] (unknown [172.18.0.240])
 by postal.iol.unh.edu (Postfix) with ESMTP id C5998605C373;
 Wed, 19 Jun 2024 14:34:37 -0400 (EDT)
Subject: |SUCCESS| pw141305-141310 [PATCH] [6/6] net/nfp: add CPP service abn
From: dpdklab@iol.unh.edu
To: Test Report <test-report@dpdk.org>
Cc: dpdk-test-reports@iol.unh.edu
In-Reply-To: <20240619030655.3216268-7-chaoyong.he@corigine.com>
References: <20240619030655.3216268-7-chaoyong.he@corigine.com>
Content-Type: text/plain
X-BeenThere: test-report@dpdk.org
X-Mailman-Version: 2.1.29
Precedence: list
List-Id: automatic DPDK test reports <test-report.dpdk.org>
List-Unsubscribe: <https://mails.dpdk.org/options/test-report>,
 <mailto:test-report-request@dpdk.org?subject=unsubscribe>
List-Archive: <http://mails.dpdk.org/archives/test-report/>
List-Post: <mailto:test-report@dpdk.org>
List-Help: <mailto:test-report-request@dpdk.org?subject=help>
List-Subscribe: <https://mails.dpdk.org/listinfo/test-report>,
 <mailto:test-report-request@dpdk.org?subject=subscribe>
Errors-To: test-report-bounces@dpdk.org

Test-Label: iol-unit-amd64-testing
Test-Status: SUCCESS
http://dpdk.org/patch/141310

_Testing PASS_

Submitter: Chaoyong He <chaoyong.he@corigine.com>
Date: Wednesday, June 19 2024 03:06:55 
DPDK git baseline: Repo:dpdk
  Branch: master
  CommitID:fbba6db3640f9f623c29c452e1a6b057073e81d2

141305-141310 --> testing pass

Test environment and result as below:

+------------------+----------------+
|   Environment    | dpdk_unit_test |
+==================+================+
| CentOS Stream 8  | PASS           |
+------------------+----------------+
| Debian 12        | PASS           |
+------------------+----------------+
| Debian Bullseye  | PASS           |
+------------------+----------------+
| CentOS Stream 9  | PASS           |
+------------------+----------------+
| Fedora 38        | PASS           |
+------------------+----------------+
| Fedora 37        | PASS           |
+------------------+----------------+
| Fedora 39        | PASS           |
+------------------+----------------+
| Fedora 40        | PASS           |
+------------------+----------------+
| RHEL8            | PASS           |
+------------------+----------------+
| Ubuntu 20.04     | PASS           |
+------------------+----------------+
| openSUSE Leap 15 | PASS           |
+------------------+----------------+


CentOS Stream 8
	Kernel: 5.4.0-167-generic
	Compiler: gcc 8.5.0 20210514

Debian 12
	Kernel: Container Host Kernel
	Compiler: gcc 12.2.0

Debian Bullseye
	Kernel: 5.4.0-167-generic
	Compiler: gcc 10.2.1-6

CentOS Stream 9
	Kernel: 5.4.0-167-generic
	Compiler: gcc 11.4.1 20230605

Fedora 38
	Kernel: Depends on container host
	Compiler: gcc 13.2.1

Fedora 37
	Kernel: Depends on container host system
	Compiler: gcc 12.3.1

Fedora 39
	Kernel: Depends on container host
	Compiler: gcc 13.2.1

Fedora 40
	Kernel: Depends on container host
	Compiler: gcc 14.1.1

RHEL8
	Kernel: 5.4.0-167-generic
	Compiler: gcc 8.5.0 20210514 (Red Hat 8.5.0-20)

Ubuntu 20.04
	Kernel: 5.4.0-167-generic
	Compiler: gcc 9.4.0-1ubuntu1~20.04.1

openSUSE Leap 15
	Kernel: 5.4.0-167-generic
	Compiler: gcc 7.5.0

To view detailed results, visit:
https://lab.dpdk.org/results/dashboard/patchsets/30238/

UNH-IOL DPDK Community Lab

To manage your email subscriptions, visit: 
https://lab.dpdk.org/results/dashboard/preferences/subscriptions/