From mboxrd@z Thu Jan  1 00:00:00 1970
Return-Path: <test-report-bounces@dpdk.org>
Received: from mails.dpdk.org (mails.dpdk.org [217.70.189.124])
	by inbox.dpdk.org (Postfix) with ESMTP id 7A8D045459
	for <public@inbox.dpdk.org>; Wed, 19 Jun 2024 21:07:23 +0200 (CEST)
Received: from mails.dpdk.org (localhost [127.0.0.1])
	by mails.dpdk.org (Postfix) with ESMTP id 72989402C6;
	Wed, 19 Jun 2024 21:07:23 +0200 (CEST)
Received: from mail-qv1-f98.google.com (mail-qv1-f98.google.com
 [209.85.219.98]) by mails.dpdk.org (Postfix) with ESMTP id 22B7C40289
 for <test-report@dpdk.org>; Wed, 19 Jun 2024 21:07:22 +0200 (CEST)
Received: by mail-qv1-f98.google.com with SMTP id
 6a1803df08f44-6b50a68b0b3so5880146d6.0
 for <test-report@dpdk.org>; Wed, 19 Jun 2024 12:07:22 -0700 (PDT)
DKIM-Signature: v=1; a=rsa-sha256; c=relaxed/relaxed;
 d=iol.unh.edu; s=unh-iol; t=1718824041; x=1719428841; darn=dpdk.org;
 h=references:in-reply-to:cc:to:from:subject:message-id:date:from:to
 :cc:subject:date:message-id:reply-to;
 bh=q9ITu4xqt87l0LVpyNyK3KLK9pUCrZmuPiDeuVR7ljM=;
 b=Nd2HUbApDbHJiHviDHqm6I3PG5I83HKnb48+MO1Y2p99OXJE51PmNMarT5sCHVQ4IB
 ZiLPEGzcfaVMTUqOAdQ8iRzNBpBsgkyog85i0DDBBiyaF3+71VRW9AD0w5j8QYd9DZqL
 EpUwuiK8oJnXlCUkTv1ZARXD1g2uxLPFp4RYo=
X-Google-DKIM-Signature: v=1; a=rsa-sha256; c=relaxed/relaxed;
 d=1e100.net; s=20230601; t=1718824041; x=1719428841;
 h=references:in-reply-to:cc:to:from:subject:message-id:date
 :x-gm-message-state:from:to:cc:subject:date:message-id:reply-to;
 bh=q9ITu4xqt87l0LVpyNyK3KLK9pUCrZmuPiDeuVR7ljM=;
 b=diWsiG5kQTZSq20yN4KZsPP3c4OhExRMYHm6Zh7vhywQqKVonNo8VVtCAroWPNdhK2
 VHGTS2Z+DQPv279StpEZivfmLkigKsj25ZuhpybbPtYxPJrMHqMEUMVz/lUhh25hf2Gj
 43mjHUButidS/xRGT8ZrUO3PVIRMsJZmWexQFrMCd4iV7+HjD+2hHVg62D98IOeumuvc
 TKf1InUHlM/XPPhev18gfi0lKLXXdpAn/SfJmd2h+mTirZCsbTbsGP5iwR+srW9v29yS
 j0hxOvOSEFGQuYxyMBizp5WabIgVl9m+omYzJ0YG5y3a2LZo/AR8KTqA/c+ZIaDkXx2V
 aBIA==
X-Gm-Message-State: AOJu0YwlpuAPm/1xHeBcWpd3GJtxGK/q0+llPoTOxho3mo0goIgIkf1d
 aUzsbTBM7tpx5nNNo2LxfdqVvAurFDGXOuY054HdCJLjQT8oLIdHp8wPAQm/cpd4YM2M5wsrZQw
 taXKEGqttnfpMw8mHMmTpIXxE3gejrIhItOGEsjAnLWn825GaD7mRT9Wi
X-Google-Smtp-Source: AGHT+IFvYcM6YRo5HmzpqzVwzM61zJYXg2WS0VLBbzulqUOY1yqEw8VEB8ctN5Zt1ybdMNh1Bcp7hqEJ2qnj
X-Received: by 2002:a0c:fcc5:0:b0:6b5:46:9cc8 with SMTP id
 6a1803df08f44-6b501a68713mr59847716d6.21.1718824041469; 
 Wed, 19 Jun 2024 12:07:21 -0700 (PDT)
Received: from postal.iol.unh.edu (postal.iol.unh.edu.
 [2606:4100:3880:1234::84]) by smtp-relay.gmail.com with ESMTPS id
 6a1803df08f44-6b4fe75c826sm1343126d6.10.2024.06.19.12.07.21
 (version=TLS1_2 cipher=ECDHE-ECDSA-AES128-GCM-SHA256 bits=128/128);
 Wed, 19 Jun 2024 12:07:21 -0700 (PDT)
X-Relaying-Domain: iol.unh.edu
Date: Wed, 19 Jun 2024 12:07:21 -0700 (PDT)
Message-ID: <66732c69.050a0220.e6c30.966aSMTPIN_ADDED_MISSING@mx.google.com>
Received: from [172.21.0.6] (unknown [172.18.0.240])
 by postal.iol.unh.edu (Postfix) with ESMTP id 2C1A4605C373;
 Wed, 19 Jun 2024 15:07:21 -0400 (EDT)
Subject: |SUCCESS| pw141311 [PATCH] doc: update match with E-Switch manager d
From: dpdklab@iol.unh.edu
To: Test Report <test-report@dpdk.org>
Cc: dpdk-test-reports@iol.unh.edu
In-Reply-To: <20240619041907.2144649-1-suanmingm@nvidia.com>
References: <20240619041907.2144649-1-suanmingm@nvidia.com>
Content-Type: text/plain
X-BeenThere: test-report@dpdk.org
X-Mailman-Version: 2.1.29
Precedence: list
List-Id: automatic DPDK test reports <test-report.dpdk.org>
List-Unsubscribe: <https://mails.dpdk.org/options/test-report>,
 <mailto:test-report-request@dpdk.org?subject=unsubscribe>
List-Archive: <http://mails.dpdk.org/archives/test-report/>
List-Post: <mailto:test-report@dpdk.org>
List-Help: <mailto:test-report-request@dpdk.org?subject=help>
List-Subscribe: <https://mails.dpdk.org/listinfo/test-report>,
 <mailto:test-report-request@dpdk.org?subject=subscribe>
Errors-To: test-report-bounces@dpdk.org

Test-Label: iol-compile-arm64-testing
Test-Status: SUCCESS
http://dpdk.org/patch/141311

_Testing PASS_

Submitter: Suanming Mou <suanmingm@nvidia.com>
Date: Wednesday, June 19 2024 04:19:06 
DPDK git baseline: Repo:dpdk
  Branch: master
  CommitID:c1cdfbcc339c2c951bff95854983a8773d9e5b8e

141311 --> testing pass

Test environment and result as below:

+----------------------------------------+--------------------+
|              Environment               | dpdk_meson_compile |
+========================================+====================+
| Ubuntu 20.04 ARM SVE                   | PASS               |
+----------------------------------------+--------------------+
| RHEL9 (ARM)                            | PASS               |
+----------------------------------------+--------------------+
| Fedora 38 (ARM)                        | PASS               |
+----------------------------------------+--------------------+
| Fedora 39 (ARM)                        | PASS               |
+----------------------------------------+--------------------+
| Fedora 40 (ARM)                        | PASS               |
+----------------------------------------+--------------------+
| Debian 12 with MUSDK                   | PASS               |
+----------------------------------------+--------------------+
| Ubuntu 22.04 (ARM)                     | PASS               |
+----------------------------------------+--------------------+
| Fedora 37 (ARM)                        | PASS               |
+----------------------------------------+--------------------+
| Ubuntu 24.04 (ARM)                     | PASS               |
+----------------------------------------+--------------------+
| Ubuntu 20.04 ARM Clang Cross Compile   | PASS               |
+----------------------------------------+--------------------+
| CentOS Stream 9 (ARM)                  | PASS               |
+----------------------------------------+--------------------+
| Debian 12 (arm)                        | PASS               |
+----------------------------------------+--------------------+
| Ubuntu 20.04 aarch32 GCC Cross Compile | PASS               |
+----------------------------------------+--------------------+
| Fedora 40 (ARM Clang)                  | PASS               |
+----------------------------------------+--------------------+
| Ubuntu 20.04 ARM GCC Cross Compile     | PASS               |
+----------------------------------------+--------------------+


Ubuntu 20.04 ARM SVE
	Kernel: 5.4.0-167-generic
	Compiler: gcc (Ubuntu 10.5.0-1ubuntu1~20.04) 10.5.0

RHEL9 (ARM)
	Kernel: Depends on container host
	Compiler: gcc 11.4.1

Fedora 38 (ARM)
	Kernel: Depends on container host
	Compiler: gcc 13.2.1

Fedora 39 (ARM)
	Kernel: Depends on container host
	Compiler: gcc 13.2.1

Fedora 40 (ARM)
	Kernel: Depends on container host
	Compiler: gcc 14.1.1

Debian 12 with MUSDK
	Kernel: Container Host Kernel
	Compiler: gcc 12.2.0

Ubuntu 22.04 (ARM)
	Kernel: Container Host Kernel
	Compiler: gcc 11.4.0

Fedora 37 (ARM)
	Kernel: Depends on container host
	Compiler: gcc 12.3.1

Ubuntu 24.04 (ARM)
	Kernel: 5.4.0-167-generic
	Compiler: gcc 13.2.0

Ubuntu 20.04 ARM Clang Cross Compile
	Kernel: 5.4.0-72-generic
	Compiler: clang 10.0.0-4ubuntu1

CentOS Stream 9 (ARM)
	Kernel: Container Host Kernel
	Compiler: gcc 11.4.1

Debian 12 (arm)
	Kernel: Container Host Kernel
	Compiler: gcc 12.2.0

Ubuntu 20.04 aarch32 GCC Cross Compile
	Kernel: 5.4.0-167-generic
	Compiler: gcc 9.4.0

Fedora 40 (ARM Clang)
	Kernel: Depends on container host
	Compiler: clang 18.1.6

Ubuntu 20.04 ARM GCC Cross Compile
	Kernel: 5.4.0-167-generic
	Compiler: aarch64-linux-gnu-gcc (Ubuntu 9.4.0-1ubuntu1~20.04.2) 9.4.0

To view detailed results, visit:
https://lab.dpdk.org/results/dashboard/patchsets/30239/

UNH-IOL DPDK Community Lab

To manage your email subscriptions, visit: 
https://lab.dpdk.org/results/dashboard/preferences/subscriptions/