From mboxrd@z Thu Jan  1 00:00:00 1970
Return-Path: <test-report-bounces@dpdk.org>
Received: from mails.dpdk.org (mails.dpdk.org [217.70.189.124])
	by inbox.dpdk.org (Postfix) with ESMTP id 96F2B45491
	for <public@inbox.dpdk.org>; Thu, 20 Jun 2024 04:22:08 +0200 (CEST)
Received: from mails.dpdk.org (localhost [127.0.0.1])
	by mails.dpdk.org (Postfix) with ESMTP id 9446C402A3;
	Thu, 20 Jun 2024 04:22:08 +0200 (CEST)
Received: from mail-pl1-f227.google.com (mail-pl1-f227.google.com
 [209.85.214.227])
 by mails.dpdk.org (Postfix) with ESMTP id 5C6AE40273
 for <test-report@dpdk.org>; Thu, 20 Jun 2024 04:21:57 +0200 (CEST)
Received: by mail-pl1-f227.google.com with SMTP id
 d9443c01a7336-1f480624d0fso3032005ad.1
 for <test-report@dpdk.org>; Wed, 19 Jun 2024 19:21:57 -0700 (PDT)
DKIM-Signature: v=1; a=rsa-sha256; c=relaxed/relaxed;
 d=iol.unh.edu; s=unh-iol; t=1718850116; x=1719454916; darn=dpdk.org;
 h=references:in-reply-to:cc:to:from:subject:message-id:date:from:to
 :cc:subject:date:message-id:reply-to;
 bh=s4sG2ygcddl9Qkcl8+2TbpGaeXqE/JM8sOEBypzuxls=;
 b=RbBfY8J+8FFeZpyn/6NKUxTR+yt00aPZ8xt82u1IxCcziPKRbGY+7rnVPUC6J43biJ
 InLF6PkKCo1WqqSGxeW0hCw/gBIzfF41kX13JDDgIgPBpPzqRjykO5pwNw1u7VOfdCSi
 +OlpzO+GmQVz1uE1dl/wGqQGap4YGtCXEEIUo=
X-Google-DKIM-Signature: v=1; a=rsa-sha256; c=relaxed/relaxed;
 d=1e100.net; s=20230601; t=1718850116; x=1719454916;
 h=references:in-reply-to:cc:to:from:subject:message-id:date
 :x-gm-message-state:from:to:cc:subject:date:message-id:reply-to;
 bh=s4sG2ygcddl9Qkcl8+2TbpGaeXqE/JM8sOEBypzuxls=;
 b=KXfgjB8nGl1SLr5vpxE4ajg30JWhmpf8a2FfcCTzdEHe+ZX3xeIHIx4zkIUUWqZ+GU
 o6hAgSfauWU5tVyKkSLrZJ32tjxIQykYxiBm9XQKqNW18TM4He63qDWM3WDskHc6qsRr
 DDUBUrm9JwJd0NnUZnFPO1xT7bA1ZvXMNfQvxlNMxMyuhc4LHHJ/4trTYFDKSjapBlFt
 PRctZNoT4qDxnOVmbs/3eeZYWml28r6cZ/tpAUwDteKBKnOickhIFaMfPDffzYathWMY
 E92VGKuuTn6i69VAKeb99yvML14d6igl3i7lsMgH9oQYCUJ8+R2kPZHbaXCYJB63wiWx
 ppvw==
X-Gm-Message-State: AOJu0Ywfow3CkzJIlTUqbj1E8PeNoWlUGyzXPHyeKiaWvzG5TNkpwF6E
 bvqCRJ8Kg6zWcrpSc08ejYCWlakdKMPt84wFQG2FQQxlkBPXARi2SRZN6vVvEl/0t//EYqQPJ6H
 cYTkQxSOPD8tzExGz8AZH1EvxKj2AJoED6butKjDq
X-Google-Smtp-Source: AGHT+IGBzuS8cxx6NY24qH7GRypGefXUYjKCDeq6sy49wyek6xsytnrDTHufk1rUauguDBXEcXSogn21KpKR
X-Received: by 2002:a17:902:f545:b0:1f7:3fd5:9267 with SMTP id
 d9443c01a7336-1f9aa412024mr49755805ad.19.1718850116585; 
 Wed, 19 Jun 2024 19:21:56 -0700 (PDT)
Received: from postal.iol.unh.edu (postal.iol.unh.edu. [132.177.123.84])
 by smtp-relay.gmail.com with ESMTPS id
 d9443c01a7336-1f855ec8209sm5727885ad.103.2024.06.19.19.21.56
 (version=TLS1_2 cipher=ECDHE-ECDSA-AES128-GCM-SHA256 bits=128/128);
 Wed, 19 Jun 2024 19:21:56 -0700 (PDT)
X-Relaying-Domain: iol.unh.edu
Date: Wed, 19 Jun 2024 19:21:56 -0700 (PDT)
Message-ID: <66739244.170a0220.cf4d3.8866SMTPIN_ADDED_MISSING@mx.google.com>
Received: from [172.21.0.7] (unknown [172.18.0.240])
 by postal.iol.unh.edu (Postfix) with ESMTP id C3E7D60524CC;
 Wed, 19 Jun 2024 22:21:55 -0400 (EDT)
Subject: |SUCCESS| pw141408-141412 [PATCH] [v5,5/5] doc: update release notes
From: dpdklab@iol.unh.edu
To: Test Report <test-report@dpdk.org>
Cc: dpdk-test-reports@iol.unh.edu
In-Reply-To: <20240619210106.253239-6-abdullah.sevincer@intel.com>
References: <20240619210106.253239-6-abdullah.sevincer@intel.com>
Content-Type: text/plain
X-BeenThere: test-report@dpdk.org
X-Mailman-Version: 2.1.29
Precedence: list
List-Id: automatic DPDK test reports <test-report.dpdk.org>
List-Unsubscribe: <https://mails.dpdk.org/options/test-report>,
 <mailto:test-report-request@dpdk.org?subject=unsubscribe>
List-Archive: <http://mails.dpdk.org/archives/test-report/>
List-Post: <mailto:test-report@dpdk.org>
List-Help: <mailto:test-report-request@dpdk.org?subject=help>
List-Subscribe: <https://mails.dpdk.org/listinfo/test-report>,
 <mailto:test-report-request@dpdk.org?subject=subscribe>
Errors-To: test-report-bounces@dpdk.org

Test-Label: iol-abi-testing
Test-Status: SUCCESS
http://dpdk.org/patch/141412

_Testing PASS_

Submitter: Sevincer, Abdullah <abdullah.sevincer@intel.com>
Date: Wednesday, June 19 2024 21:01:06 
DPDK git baseline: Repo:dpdk
  Branch: master
  CommitID:22ce39b3aadb109cbefabb91aad44c94e8c2a5e6

141408-141412 --> testing pass

Test environment and result as below:

+------------------+----------+
|   Environment    | abi_test |
+==================+==========+
| CentOS Stream 9  | PASS     |
+------------------+----------+
| Debian Bullseye  | PASS     |
+------------------+----------+
| Fedora 38        | PASS     |
+------------------+----------+
| RHEL9            | PASS     |
+------------------+----------+
| CentOS Stream 8  | PASS     |
+------------------+----------+
| Fedora 37        | PASS     |
+------------------+----------+
| Fedora 39        | PASS     |
+------------------+----------+
| Debian 12        | PASS     |
+------------------+----------+
| Fedora 40        | PASS     |
+------------------+----------+
| openSUSE Leap 15 | PASS     |
+------------------+----------+
| RHEL8            | PASS     |
+------------------+----------+
| Ubuntu 24.04     | PASS     |
+------------------+----------+
| Ubuntu 22.04     | PASS     |
+------------------+----------+


CentOS Stream 9
	Kernel: 5.4.0-167-generic
	Compiler: gcc 11.4.1 20230605

Debian Bullseye
	Kernel: 5.4.0-167-generic
	Compiler: gcc 10.2.1-6

Fedora 38
	Kernel: Depends on container host
	Compiler: clang 16.0.6

RHEL9
	Kernel: Depends on container host
	Compiler: gcc 11.4.1

CentOS Stream 8
	Kernel: 5.4.0-167-generic
	Compiler: gcc 8.5.0 20210514

Fedora 37
	Kernel: Depends on container host system
	Compiler: gcc 12.3.1

Fedora 39
	Kernel: Depends on container host
	Compiler: gcc 13.2.1

Debian 12
	Kernel: Container Host Kernel
	Compiler: gcc 12.2.0

Fedora 40
	Kernel: Depends on container host
	Compiler: clang 18.1.6

openSUSE Leap 15
	Kernel: 5.4.0-167-generic
	Compiler: gcc 7.5.0

RHEL8
	Kernel: 5.4.0-167-generic
	Compiler: gcc 8.5.0 20210514 (Red Hat 8.5.0-20)

Ubuntu 24.04
	Kernel: 5.4.0-167-generic
	Compiler: gcc 13.2.0

Ubuntu 22.04
	Kernel: 5.4.0-167-generic
	Compiler: gcc 11.4.0

To view detailed results, visit:
https://lab.dpdk.org/results/dashboard/patchsets/30258/

UNH-IOL DPDK Community Lab

To manage your email subscriptions, visit: 
https://lab.dpdk.org/results/dashboard/preferences/subscriptions/