From mboxrd@z Thu Jan  1 00:00:00 1970
Return-Path: <test-report-bounces@dpdk.org>
Received: from mails.dpdk.org (mails.dpdk.org [217.70.189.124])
	by inbox.dpdk.org (Postfix) with ESMTP id C558C45491
	for <public@inbox.dpdk.org>; Thu, 20 Jun 2024 04:22:38 +0200 (CEST)
Received: from mails.dpdk.org (localhost [127.0.0.1])
	by mails.dpdk.org (Postfix) with ESMTP id C2A44402A3;
	Thu, 20 Jun 2024 04:22:38 +0200 (CEST)
Received: from mail-pf1-f227.google.com (mail-pf1-f227.google.com
 [209.85.210.227])
 by mails.dpdk.org (Postfix) with ESMTP id 2247C40273
 for <test-report@dpdk.org>; Thu, 20 Jun 2024 04:22:36 +0200 (CEST)
Received: by mail-pf1-f227.google.com with SMTP id
 d2e1a72fcca58-7062c11d0d1so393394b3a.1
 for <test-report@dpdk.org>; Wed, 19 Jun 2024 19:22:36 -0700 (PDT)
DKIM-Signature: v=1; a=rsa-sha256; c=relaxed/relaxed;
 d=iol.unh.edu; s=unh-iol; t=1718850155; x=1719454955; darn=dpdk.org;
 h=references:in-reply-to:cc:to:from:subject:message-id:date:from:to
 :cc:subject:date:message-id:reply-to;
 bh=s4sG2ygcddl9Qkcl8+2TbpGaeXqE/JM8sOEBypzuxls=;
 b=IV3rGERjqPBc4M5Vf/1niclTF+UV53XUhb5UjJGpyuKLDZ3v+TRrNVe6sHRB7+1Gs9
 dWIOlItCN23Htvpss440FaQF9IYN1nzZHJCCJQOIgBBycdnuwSLDpgiGWLA2qLrwmvDY
 LAOrE7a+TVjHzQg5VIKoIKyhuRgyJ7TaMcdF8=
X-Google-DKIM-Signature: v=1; a=rsa-sha256; c=relaxed/relaxed;
 d=1e100.net; s=20230601; t=1718850155; x=1719454955;
 h=references:in-reply-to:cc:to:from:subject:message-id:date
 :x-gm-message-state:from:to:cc:subject:date:message-id:reply-to;
 bh=s4sG2ygcddl9Qkcl8+2TbpGaeXqE/JM8sOEBypzuxls=;
 b=rTSrO2Mx0VRHZg9I0dlwm+v24kp+KDdEb9LWzfd6eL35hhECKAw7UhW4tyBkT/XynZ
 IAZVDiRfbMFNSo4HtgjXEfz75Y5jCyi7ijBaLDSAMEL1nXLd2bK/qeDdEUevlPqr+78w
 0uqlcKD3rpRvp1rOW17GhsY/LtaAyhyZDER1Rc2o8BBhlvWS3EwZ/gLFkjrdwsCkbH2U
 gzDuILhJ6Vagg0WjRuERkSPkONWOuaUYY5/PUrMN7anqW6k+HalGaSTBHZFSxpWm9Uml
 oaSCJwaIRFz7nTXyYNLZV6ZsSmkQmVej587MWJSlaTtUkpS5WpeN30Rr5RRoUoduyEIq
 B8Rg==
X-Gm-Message-State: AOJu0Yw96DgokojcjmsI0+dJrLOSM9Bqp65HzRjx65ALijdfodWYxhbx
 HNjFm41QRJ15H7FdKw26UTRR1kX1pURYk2htvyCqHnsh41ryS9m0P+MXucbwH5Fosy2mieFk0HI
 DGC3cQaXrhR23Vlp9QlW4K7uUu/QDkDnYDVpRmpym
X-Google-Smtp-Source: AGHT+IHrCoq8yOXgHGNlMC+Aej1gOLO0ahNZKNuSAMUpIAy4LrKFq42NgR0xwPhfH/2xr8MUdGcbDmVqCmCc
X-Received: by 2002:a05:6a20:47e3:b0:1b7:ad9:1a06 with SMTP id
 adf61e73a8af0-1bcbb60f9aemr4386687637.60.1718850155212; 
 Wed, 19 Jun 2024 19:22:35 -0700 (PDT)
Received: from postal.iol.unh.edu (postal.iol.unh.edu. [132.177.123.84])
 by smtp-relay.gmail.com with ESMTPS id
 d9443c01a7336-1f9b9b4cdbasm702475ad.8.2024.06.19.19.22.35
 (version=TLS1_2 cipher=ECDHE-ECDSA-AES128-GCM-SHA256 bits=128/128);
 Wed, 19 Jun 2024 19:22:35 -0700 (PDT)
X-Relaying-Domain: iol.unh.edu
Date: Wed, 19 Jun 2024 19:22:35 -0700 (PDT)
Message-ID: <6673926b.170a0220.4b6e1.5422SMTPIN_ADDED_MISSING@mx.google.com>
Received: from [172.21.0.7] (unknown [172.18.0.240])
 by postal.iol.unh.edu (Postfix) with ESMTP id 6928E60524CC;
 Wed, 19 Jun 2024 22:22:34 -0400 (EDT)
Subject: |SUCCESS| pw141408-141412 [PATCH] [v5,5/5] doc: update release notes
From: dpdklab@iol.unh.edu
To: Test Report <test-report@dpdk.org>
Cc: dpdk-test-reports@iol.unh.edu
In-Reply-To: <20240619210106.253239-6-abdullah.sevincer@intel.com>
References: <20240619210106.253239-6-abdullah.sevincer@intel.com>
Content-Type: text/plain
X-BeenThere: test-report@dpdk.org
X-Mailman-Version: 2.1.29
Precedence: list
List-Id: automatic DPDK test reports <test-report.dpdk.org>
List-Unsubscribe: <https://mails.dpdk.org/options/test-report>,
 <mailto:test-report-request@dpdk.org?subject=unsubscribe>
List-Archive: <http://mails.dpdk.org/archives/test-report/>
List-Post: <mailto:test-report@dpdk.org>
List-Help: <mailto:test-report-request@dpdk.org?subject=help>
List-Subscribe: <https://mails.dpdk.org/listinfo/test-report>,
 <mailto:test-report-request@dpdk.org?subject=subscribe>
Errors-To: test-report-bounces@dpdk.org

Test-Label: iol-abi-testing
Test-Status: SUCCESS
http://dpdk.org/patch/141412

_Testing PASS_

Submitter: Sevincer, Abdullah <abdullah.sevincer@intel.com>
Date: Wednesday, June 19 2024 21:01:06 
DPDK git baseline: Repo:dpdk
  Branch: master
  CommitID:22ce39b3aadb109cbefabb91aad44c94e8c2a5e6

141408-141412 --> testing pass

Test environment and result as below:

+------------------+----------+
|   Environment    | abi_test |
+==================+==========+
| CentOS Stream 9  | PASS     |
+------------------+----------+
| Debian Bullseye  | PASS     |
+------------------+----------+
| Fedora 38        | PASS     |
+------------------+----------+
| RHEL9            | PASS     |
+------------------+----------+
| CentOS Stream 8  | PASS     |
+------------------+----------+
| Fedora 37        | PASS     |
+------------------+----------+
| Fedora 39        | PASS     |
+------------------+----------+
| Debian 12        | PASS     |
+------------------+----------+
| Fedora 40        | PASS     |
+------------------+----------+
| openSUSE Leap 15 | PASS     |
+------------------+----------+
| RHEL8            | PASS     |
+------------------+----------+
| Ubuntu 24.04     | PASS     |
+------------------+----------+
| Ubuntu 22.04     | PASS     |
+------------------+----------+


CentOS Stream 9
	Kernel: 5.4.0-167-generic
	Compiler: gcc 11.4.1 20230605

Debian Bullseye
	Kernel: 5.4.0-167-generic
	Compiler: gcc 10.2.1-6

Fedora 38
	Kernel: Depends on container host
	Compiler: clang 16.0.6

RHEL9
	Kernel: Depends on container host
	Compiler: gcc 11.4.1

CentOS Stream 8
	Kernel: 5.4.0-167-generic
	Compiler: gcc 8.5.0 20210514

Fedora 37
	Kernel: Depends on container host system
	Compiler: gcc 12.3.1

Fedora 39
	Kernel: Depends on container host
	Compiler: gcc 13.2.1

Debian 12
	Kernel: Container Host Kernel
	Compiler: gcc 12.2.0

Fedora 40
	Kernel: Depends on container host
	Compiler: clang 18.1.6

openSUSE Leap 15
	Kernel: 5.4.0-167-generic
	Compiler: gcc 7.5.0

RHEL8
	Kernel: 5.4.0-167-generic
	Compiler: gcc 8.5.0 20210514 (Red Hat 8.5.0-20)

Ubuntu 24.04
	Kernel: 5.4.0-167-generic
	Compiler: gcc 13.2.0

Ubuntu 22.04
	Kernel: 5.4.0-167-generic
	Compiler: gcc 11.4.0

To view detailed results, visit:
https://lab.dpdk.org/results/dashboard/patchsets/30258/

UNH-IOL DPDK Community Lab

To manage your email subscriptions, visit: 
https://lab.dpdk.org/results/dashboard/preferences/subscriptions/