From mboxrd@z Thu Jan  1 00:00:00 1970
Return-Path: <test-report-bounces@dpdk.org>
Received: from mails.dpdk.org (mails.dpdk.org [217.70.189.124])
	by inbox.dpdk.org (Postfix) with ESMTP id BD4D045491
	for <public@inbox.dpdk.org>; Thu, 20 Jun 2024 05:59:49 +0200 (CEST)
Received: from mails.dpdk.org (localhost [127.0.0.1])
	by mails.dpdk.org (Postfix) with ESMTP id B9F4C415D7;
	Thu, 20 Jun 2024 05:59:49 +0200 (CEST)
Received: from mail-il1-f227.google.com (mail-il1-f227.google.com
 [209.85.166.227])
 by mails.dpdk.org (Postfix) with ESMTP id 5A70740BA2
 for <test-report@dpdk.org>; Thu, 20 Jun 2024 05:59:48 +0200 (CEST)
Received: by mail-il1-f227.google.com with SMTP id
 e9e14a558f8ab-3761c390286so1507205ab.1
 for <test-report@dpdk.org>; Wed, 19 Jun 2024 20:59:48 -0700 (PDT)
DKIM-Signature: v=1; a=rsa-sha256; c=relaxed/relaxed;
 d=iol.unh.edu; s=unh-iol; t=1718855987; x=1719460787; darn=dpdk.org;
 h=references:in-reply-to:cc:to:from:subject:message-id:date:from:to
 :cc:subject:date:message-id:reply-to;
 bh=i+fVZBMTIQeht6DIh3tF2rIpuiFeZ9wQHwMhdpAQRcY=;
 b=BqhoD1tnyZCib9Z5/J2kFdo7CttKhutMQvvw3hABh2RcRJBHkRKafkDj0iKiRNV2cV
 B4Dh6kFNthmX9nEwEIXm79bsRWRY2f2gdiO5rfDrPZ7eQsyJWaTltrsFwwsFEl1UUwAS
 lMQyP0O7aiopbk6OiDGVKymI0Jtp1HinAkvEI=
X-Google-DKIM-Signature: v=1; a=rsa-sha256; c=relaxed/relaxed;
 d=1e100.net; s=20230601; t=1718855987; x=1719460787;
 h=references:in-reply-to:cc:to:from:subject:message-id:date
 :x-gm-message-state:from:to:cc:subject:date:message-id:reply-to;
 bh=i+fVZBMTIQeht6DIh3tF2rIpuiFeZ9wQHwMhdpAQRcY=;
 b=hpUlRjEnZQ5TDwnNK9nwJYElL5MpkBO69T5A6rQBwdz1cs6uglAmcWzsnDJmWTkUhA
 jVJK1fMfT/GUoySi6uAtDfAAYEIlcZod7StPXl1VqaeP68S6NKpuz2xVA2kNbW4J4zI3
 0k0nOdLUeLx2HEsoZl6VpN5ubxc5uM24yjqByed2otMADn9zcNICDXApHRFkVvbPcijC
 NltcbP59730BW5YU63ERLjRbwQF1OwoDZSQWJHGXSobhl+5FSeSedf/+3RAsM1GuOV3H
 T2Wsb/wf6a0jSWj08dBposXKbqvWz1X7J5u2RAQ52C7InzFg3Opz/zzrxecnoItNyl4i
 pJ9w==
X-Gm-Message-State: AOJu0Yz+PgFuaZqJiCvfB0YQMA5PXatwl3GWb+LgO64uGq3pEsyFblAJ
 Nx8Ta9IR2ouy5MRS8F6N520TuPl11155BM0l1/2CRFdCBWMPTREpowDDyebmaIiElynnhOHvvby
 lwDKz4rnyk5MbNqkgKDYQkOPbHMtClvIRUZnlj/3H
X-Google-Smtp-Source: AGHT+IE3ah36B7v2yORVlzpEfi70W57gM+ypAiuOmrS4WCkZN6LZhMylErP2EAVMZaIJm2TtlKS7MkbjI+8z
X-Received: by 2002:a05:6e02:198b:b0:374:a14e:1485 with SMTP id
 e9e14a558f8ab-3761d6815bdmr49860225ab.11.1718855987507; 
 Wed, 19 Jun 2024 20:59:47 -0700 (PDT)
Received: from postal.iol.unh.edu (postal.iol.unh.edu. [132.177.123.84])
 by smtp-relay.gmail.com with ESMTPS id
 e9e14a558f8ab-3762a088104sm16125ab.39.2024.06.19.20.59.47
 (version=TLS1_2 cipher=ECDHE-ECDSA-AES128-GCM-SHA256 bits=128/128);
 Wed, 19 Jun 2024 20:59:47 -0700 (PDT)
X-Relaying-Domain: iol.unh.edu
Date: Wed, 19 Jun 2024 20:59:47 -0700 (PDT)
Message-ID: <6673a933.050a0220.b1e93.01d7SMTPIN_ADDED_MISSING@mx.google.com>
Received: from [172.21.0.7] (unknown [172.18.0.240])
 by postal.iol.unh.edu (Postfix) with ESMTP id B1DB46052754;
 Wed, 19 Jun 2024 23:59:46 -0400 (EDT)
Subject: |SUCCESS| pw141408-141412 [PATCH] [v5,5/5] doc: update release notes
From: dpdklab@iol.unh.edu
To: Test Report <test-report@dpdk.org>
Cc: dpdk-test-reports@iol.unh.edu
In-Reply-To: <20240619210106.253239-6-abdullah.sevincer@intel.com>
References: <20240619210106.253239-6-abdullah.sevincer@intel.com>
Content-Type: text/plain
X-BeenThere: test-report@dpdk.org
X-Mailman-Version: 2.1.29
Precedence: list
List-Id: automatic DPDK test reports <test-report.dpdk.org>
List-Unsubscribe: <https://mails.dpdk.org/options/test-report>,
 <mailto:test-report-request@dpdk.org?subject=unsubscribe>
List-Archive: <http://mails.dpdk.org/archives/test-report/>
List-Post: <mailto:test-report@dpdk.org>
List-Help: <mailto:test-report-request@dpdk.org?subject=help>
List-Subscribe: <https://mails.dpdk.org/listinfo/test-report>,
 <mailto:test-report-request@dpdk.org?subject=subscribe>
Errors-To: test-report-bounces@dpdk.org

Test-Label: iol-compile-amd64-testing
Test-Status: SUCCESS
http://dpdk.org/patch/141412

_Testing PASS_

Submitter: Sevincer, Abdullah <abdullah.sevincer@intel.com>
Date: Wednesday, June 19 2024 21:01:06 
DPDK git baseline: Repo:dpdk
  Branch: master
  CommitID:22ce39b3aadb109cbefabb91aad44c94e8c2a5e6

141408-141412 --> testing pass

Test environment and result as below:

+---------------------+--------------------+-------------------+----------------------+------------------+-------------------+
|     Environment     | dpdk_meson_compile | dpdk_msvc_compile | dpdk_mingw64_compile | dpdk_compile_ovs | dpdk_compile_spdk |
+=====================+====================+===================+======================+==================+===================+
| FreeBSD 13.3        | PASS               | SKIPPED           | SKIPPED              | SKIPPED          | SKIPPED           |
+---------------------+--------------------+-------------------+----------------------+------------------+-------------------+
| Windows Server 2022 | PASS               | PASS              | PASS                 | SKIPPED          | SKIPPED           |
+---------------------+--------------------+-------------------+----------------------+------------------+-------------------+
| Windows Server 2019 | PASS               | SKIPPED           | PASS                 | SKIPPED          | SKIPPED           |
+---------------------+--------------------+-------------------+----------------------+------------------+-------------------+
| FreeBSD 14.1        | PASS               | SKIPPED           | SKIPPED              | SKIPPED          | SKIPPED           |
+---------------------+--------------------+-------------------+----------------------+------------------+-------------------+
| Debian Bullseye     | PASS               | SKIPPED           | SKIPPED              | PASS             | PASS              |
+---------------------+--------------------+-------------------+----------------------+------------------+-------------------+
| CentOS Stream 9     | PASS               | SKIPPED           | SKIPPED              | PASS             | PASS              |
+---------------------+--------------------+-------------------+----------------------+------------------+-------------------+
| Debian 12           | PASS               | SKIPPED           | SKIPPED              | PASS             | PASS              |
+---------------------+--------------------+-------------------+----------------------+------------------+-------------------+
| openSUSE Leap 15    | PASS               | SKIPPED           | SKIPPED              | PASS             | SKIPPED           |
+---------------------+--------------------+-------------------+----------------------+------------------+-------------------+
| Fedora 38           | PASS               | SKIPPED           | SKIPPED              | PASS             | PASS              |
+---------------------+--------------------+-------------------+----------------------+------------------+-------------------+
| RHEL8               | PASS               | SKIPPED           | SKIPPED              | PASS             | SKIPPED           |
+---------------------+--------------------+-------------------+----------------------+------------------+-------------------+
| CentOS Stream 8     | PASS               | SKIPPED           | SKIPPED              | PASS             | PASS              |
+---------------------+--------------------+-------------------+----------------------+------------------+-------------------+
| Ubuntu 24.04        | PASS               | SKIPPED           | SKIPPED              | PASS             | PASS              |
+---------------------+--------------------+-------------------+----------------------+------------------+-------------------+
| Fedora 40           | PASS               | SKIPPED           | SKIPPED              | PASS             | SKIPPED           |
+---------------------+--------------------+-------------------+----------------------+------------------+-------------------+


FreeBSD 13.3
	Kernel: 13.3-RELEASE-p1
	Compiler: clang 17.0.6

Windows Server 2022
	Kernel: 10.0.20348.2031
	Compiler: clang 15.0.7, gcc 8.1.0 (MinGW), and MSVC VS 17.9

Windows Server 2019
	Kernel: 10.0.17763
	Compiler: clang 14.0 and gcc 8.1.0 (MinGW)

FreeBSD 14.1
	Kernel: 14.1
	Compiler: clang 18.1.5

Debian Bullseye
	Kernel: 5.4.0-167-generic
	Compiler: gcc 10.2.1-6

CentOS Stream 9
	Kernel: 5.4.0-167-generic
	Compiler: gcc 11.4.1 20230605

Debian 12
	Kernel: Container Host Kernel
	Compiler: gcc 12.2.0

openSUSE Leap 15
	Kernel: 5.4.0-167-generic
	Compiler: gcc 7.5.0

Fedora 38
	Kernel: Depends on container host
	Compiler: gcc 13.2.1

RHEL8
	Kernel: 5.4.0-167-generic
	Compiler: gcc 8.5.0 20210514 (Red Hat 8.5.0-20)

CentOS Stream 8
	Kernel: 5.4.0-167-generic
	Compiler: gcc 8.5.0 20210514

Ubuntu 24.04
	Kernel: 5.4.0-167-generic
	Compiler: gcc 13.2.0

Fedora 40
	Kernel: Depends on container host
	Compiler: clang 18.1.6

To view detailed results, visit:
https://lab.dpdk.org/results/dashboard/patchsets/30258/

UNH-IOL DPDK Community Lab

To manage your email subscriptions, visit: 
https://lab.dpdk.org/results/dashboard/preferences/subscriptions/