From mboxrd@z Thu Jan  1 00:00:00 1970
Return-Path: <test-report-bounces@dpdk.org>
Received: from mails.dpdk.org (mails.dpdk.org [217.70.189.124])
	by inbox.dpdk.org (Postfix) with ESMTP id 3B27E45494
	for <public@inbox.dpdk.org>; Thu, 20 Jun 2024 06:35:49 +0200 (CEST)
Received: from mails.dpdk.org (localhost [127.0.0.1])
	by mails.dpdk.org (Postfix) with ESMTP id 33E6742D8C;
	Thu, 20 Jun 2024 06:35:49 +0200 (CEST)
Received: from mail-oa1-f98.google.com (mail-oa1-f98.google.com
 [209.85.160.98]) by mails.dpdk.org (Postfix) with ESMTP id AB3BA40BA2
 for <test-report@dpdk.org>; Thu, 20 Jun 2024 06:35:47 +0200 (CEST)
Received: by mail-oa1-f98.google.com with SMTP id
 586e51a60fabf-25cb994dbfeso185140fac.0
 for <test-report@dpdk.org>; Wed, 19 Jun 2024 21:35:47 -0700 (PDT)
DKIM-Signature: v=1; a=rsa-sha256; c=relaxed/relaxed;
 d=iol.unh.edu; s=unh-iol; t=1718858147; x=1719462947; darn=dpdk.org;
 h=references:in-reply-to:cc:to:from:subject:message-id:date:from:to
 :cc:subject:date:message-id:reply-to;
 bh=hlPYQuCj/f7gPNFfpspigG9qekWxcNIm5c4Cf6Z2TS0=;
 b=ihKhxT2cuJc3n0ORCuPBMFaABzOxC/olLY6s4Ta78fiHKVKIAW92jvMd001EUNDu0E
 VxD4Tq+g5fqp4gT9fv/214Bo3eeNaaGr9Bf5tTAmdmGdfuoLc650vlOnnS/E2xRleBzk
 +Y6mNEG+6INYhH6WAqgIRIScRJXHxCedBjd4A=
X-Google-DKIM-Signature: v=1; a=rsa-sha256; c=relaxed/relaxed;
 d=1e100.net; s=20230601; t=1718858147; x=1719462947;
 h=references:in-reply-to:cc:to:from:subject:message-id:date
 :x-gm-message-state:from:to:cc:subject:date:message-id:reply-to;
 bh=hlPYQuCj/f7gPNFfpspigG9qekWxcNIm5c4Cf6Z2TS0=;
 b=cpBwFHd450uvb41CCbfahn62yyoD1ckZmt3Lq5HEdihDJjLkaB6AGFW9sjSvb0ooxo
 d3Jdbe+6uGJjFXSQuAVZZQwBY8JSYqXaBAZrwHkuPFXm005TIo7nBBbXcofV++wZJHja
 ZnPtyu0fHNEqxAiKBw1AVZmMCru0+ewRJ3PuoIzZfvp/gvB1FYPxL/i1UKe7BBO7h2Z6
 GiIQtf+c0Xkcu7Ci+AIwnC4flprk8+sQhZRt1kjT5zkisfnxnGThbnmSJSeTKE5meH6P
 /DqyI32Qoh6fHoZq/6J7G8kohi8rWlvW7tjpy8Rs2VCg1FCHnjhKcVShlJIx0Wj7rd+d
 Knng==
X-Gm-Message-State: AOJu0YxwqLf8WKmf8Tncf9tHeqbGnj8lY5Cq4HoEkZ//zZXTARnndn8i
 yWQV0GzSQsBLZ69cgHASvoPV3yiB2AFviwSloay1oiQtyt/MQtR4p85HBoXCyKJX3G4FMgBLcIq
 Awvy1GeWc7TrRnUoS0Y+Ks7XuGhlciKqoFCxh2yGYTkYrGhC40r9oim00
X-Google-Smtp-Source: AGHT+IHwhCyjVGnWiOwL1ZbfljAwAkkz12YSrpuz/V6w8Bt0aA2Ic0V6ijtVgMN01+Ahxv4SFiSd1AP5Oz+y
X-Received: by 2002:a05:6870:c10d:b0:24f:cddc:ccff with SMTP id
 586e51a60fabf-25c94999cecmr4875721fac.21.1718858146839; 
 Wed, 19 Jun 2024 21:35:46 -0700 (PDT)
Received: from postal.iol.unh.edu (postal.iol.unh.edu.
 [2606:4100:3880:1234::84]) by smtp-relay.gmail.com with ESMTPS id
 586e51a60fabf-25985edfc2asm132699fac.6.2024.06.19.21.35.46
 (version=TLS1_2 cipher=ECDHE-ECDSA-AES128-GCM-SHA256 bits=128/128);
 Wed, 19 Jun 2024 21:35:46 -0700 (PDT)
X-Relaying-Domain: iol.unh.edu
Date: Wed, 19 Jun 2024 21:35:46 -0700 (PDT)
Message-ID: <6673b1a2.050a0220.f3682.969aSMTPIN_ADDED_MISSING@mx.google.com>
Received: from [172.17.0.3] (unknown [172.18.0.217])
 by postal.iol.unh.edu (Postfix) with ESMTP id 493AF605C21C;
 Thu, 20 Jun 2024 00:35:46 -0400 (EDT)
Subject: |SUCCESS| pw141408-141412 [PATCH] [v5,5/5] doc: update release notes
From: dpdklab@iol.unh.edu
To: Test Report <test-report@dpdk.org>
Cc: dpdk-test-reports@iol.unh.edu
In-Reply-To: <20240619210106.253239-6-abdullah.sevincer@intel.com>
References: <20240619210106.253239-6-abdullah.sevincer@intel.com>
Content-Type: text/plain
X-BeenThere: test-report@dpdk.org
X-Mailman-Version: 2.1.29
Precedence: list
List-Id: automatic DPDK test reports <test-report.dpdk.org>
List-Unsubscribe: <https://mails.dpdk.org/options/test-report>,
 <mailto:test-report-request@dpdk.org?subject=unsubscribe>
List-Archive: <http://mails.dpdk.org/archives/test-report/>
List-Post: <mailto:test-report@dpdk.org>
List-Help: <mailto:test-report-request@dpdk.org?subject=help>
List-Subscribe: <https://mails.dpdk.org/listinfo/test-report>,
 <mailto:test-report-request@dpdk.org?subject=subscribe>
Errors-To: test-report-bounces@dpdk.org

Test-Label: iol-unit-amd64-testing
Test-Status: SUCCESS
http://dpdk.org/patch/141412

_Testing PASS_

Submitter: Sevincer, Abdullah <abdullah.sevincer@intel.com>
Date: Wednesday, June 19 2024 21:01:06 
DPDK git baseline: Repo:dpdk
  Branch: master
  CommitID:22ce39b3aadb109cbefabb91aad44c94e8c2a5e6

141408-141412 --> testing pass

Test environment and result as below:

+------------------+----------------+
|   Environment    | dpdk_unit_test |
+==================+================+
| CentOS Stream 8  | PASS           |
+------------------+----------------+
| Debian Bullseye  | PASS           |
+------------------+----------------+
| CentOS Stream 9  | PASS           |
+------------------+----------------+
| Fedora 39        | PASS           |
+------------------+----------------+
| Debian 12        | PASS           |
+------------------+----------------+
| Fedora 38        | PASS           |
+------------------+----------------+
| Fedora 37        | PASS           |
+------------------+----------------+
| Fedora 40        | PASS           |
+------------------+----------------+
| openSUSE Leap 15 | PASS           |
+------------------+----------------+


CentOS Stream 8
	Kernel: 5.4.0-167-generic
	Compiler: gcc 8.5.0 20210514

Debian Bullseye
	Kernel: 5.4.0-167-generic
	Compiler: gcc 10.2.1-6

CentOS Stream 9
	Kernel: 5.4.0-167-generic
	Compiler: gcc 11.4.1 20230605

Fedora 39
	Kernel: Depends on container host
	Compiler: gcc 13.2.1

Debian 12
	Kernel: Container Host Kernel
	Compiler: gcc 12.2.0

Fedora 38
	Kernel: Depends on container host
	Compiler: gcc 13.2.1

Fedora 37
	Kernel: Depends on container host system
	Compiler: gcc 12.3.1

Fedora 40
	Kernel: Depends on container host
	Compiler: gcc 14.1.1

openSUSE Leap 15
	Kernel: 5.4.0-167-generic
	Compiler: gcc 7.5.0

To view detailed results, visit:
https://lab.dpdk.org/results/dashboard/patchsets/30258/

UNH-IOL DPDK Community Lab

To manage your email subscriptions, visit: 
https://lab.dpdk.org/results/dashboard/preferences/subscriptions/