From mboxrd@z Thu Jan  1 00:00:00 1970
Return-Path: <test-report-bounces@dpdk.org>
Received: from mails.dpdk.org (mails.dpdk.org [217.70.189.124])
	by inbox.dpdk.org (Postfix) with ESMTP id 941D9454AB
	for <public@inbox.dpdk.org>; Thu, 20 Jun 2024 16:06:26 +0200 (CEST)
Received: from mails.dpdk.org (localhost [127.0.0.1])
	by mails.dpdk.org (Postfix) with ESMTP id 92788427A9;
	Thu, 20 Jun 2024 16:06:26 +0200 (CEST)
Received: from mail-oo1-f99.google.com (mail-oo1-f99.google.com
 [209.85.161.99]) by mails.dpdk.org (Postfix) with ESMTP id EB719402D2
 for <test-report@dpdk.org>; Thu, 20 Jun 2024 16:06:25 +0200 (CEST)
Received: by mail-oo1-f99.google.com with SMTP id
 006d021491bc7-5b9a35a0901so314255eaf.0
 for <test-report@dpdk.org>; Thu, 20 Jun 2024 07:06:25 -0700 (PDT)
DKIM-Signature: v=1; a=rsa-sha256; c=relaxed/relaxed;
 d=iol.unh.edu; s=unh-iol; t=1718892385; x=1719497185; darn=dpdk.org;
 h=references:in-reply-to:cc:to:from:subject:message-id:date:from:to
 :cc:subject:date:message-id:reply-to;
 bh=EdCpLtSiWiOFI0aN6I/Ony8AxJH6qZjYJOvN64DbUGw=;
 b=B2wWjIDCUBCU+w6Xvh66EXbVy3mKGpRynjZpY+yp72Wd0R6U1dFw2txJN5bt8JeJi3
 ncpA9tQDMqU1YyGRo7BnwP0w7Zmf8ZDrhJ03xxd1+Z52MVNLaLGoxYqZqH/l2p/z8zpt
 IDEpHFlfWaz7Yg+gCcfwPd+kvmdomRXOJW3jA=
X-Google-DKIM-Signature: v=1; a=rsa-sha256; c=relaxed/relaxed;
 d=1e100.net; s=20230601; t=1718892385; x=1719497185;
 h=references:in-reply-to:cc:to:from:subject:message-id:date
 :x-gm-message-state:from:to:cc:subject:date:message-id:reply-to;
 bh=EdCpLtSiWiOFI0aN6I/Ony8AxJH6qZjYJOvN64DbUGw=;
 b=D3PzpM9gYYZVJXLoH9i5Z3RtzJrN3KMnlrwy1RPqAjuSaPPgLcjDi24NzGqmXYOEZS
 pMwok/F8lz5uCanaBkOdbse51DtQzhJCtZSn2ZUv2/GDX2fFOsIYO50z75ZkwIa57qyB
 Ew/iiasI5zlG3HCgvDPehrtuK4FJmg9aOOVSYDhor7dMms3LLJn5V6EHmQQ/g7dFP37G
 GXNIciZxQkmNM0bqXAMhfDDHuFQku+gyCgk+QoBYHB1D60Wcjo5dOSKcbrPLhh7Ai3O5
 9BGup5yN+g6ZFyg9zlf08D8d2yTwmzitPtksBVQI5Vmu73+mrJN/arqm17AEjRTyvCK7
 WFXA==
X-Gm-Message-State: AOJu0Yz2dDXPIKNoUzc/IVsmjM3viUpE3QusrhaT5WvNOuyVqH1pLpxs
 KV7kjjzxG0nnzVxzjXIt+HC8QTcIeSHq5FCJ2lYecL2XeUHn2xaxBkblSnQI1tldfhLOfx7oQ2f
 5iCTd7XizbOZsaexM9Zu2WPc5v1YKbSeobaooAx1Y
X-Google-Smtp-Source: AGHT+IGkHmVwSpw2u5snzTACHy0uOifuUh7eIvpI4CYn8t8AMC/pluqOHTbc/vjrN5BHIjVh5RHEoJG1BAPl
X-Received: by 2002:a4a:8555:0:b0:5bb:294a:cb62 with SMTP id
 006d021491bc7-5c1adbce86fmr5413657eaf.4.1718892385177; 
 Thu, 20 Jun 2024 07:06:25 -0700 (PDT)
Received: from postal.iol.unh.edu (postal.iol.unh.edu. [132.177.123.84])
 by smtp-relay.gmail.com with ESMTPS id
 006d021491bc7-5c1a5ad30a9sm350677eaf.22.2024.06.20.07.06.25
 (version=TLS1_2 cipher=ECDHE-ECDSA-AES128-GCM-SHA256 bits=128/128);
 Thu, 20 Jun 2024 07:06:25 -0700 (PDT)
X-Relaying-Domain: iol.unh.edu
Date: Thu, 20 Jun 2024 07:06:25 -0700 (PDT)
Message-ID: <66743761.4a0a0220.9280.9a82SMTPIN_ADDED_MISSING@mx.google.com>
Received: from [172.21.0.6] (unknown [172.18.0.240])
 by postal.iol.unh.edu (Postfix) with ESMTP id A3920605C373;
 Thu, 20 Jun 2024 10:06:24 -0400 (EDT)
Subject: |SUCCESS| pw141414-141419 [PATCH] [v2,6/6] eal: provide option to us
From: dpdklab@iol.unh.edu
To: Test Report <test-report@dpdk.org>
Cc: dpdk-test-reports@iol.unh.edu
In-Reply-To: <20240620072452.420029-7-mattias.ronnblom@ericsson.com>
References: <20240620072452.420029-7-mattias.ronnblom@ericsson.com>
Content-Type: text/plain
X-BeenThere: test-report@dpdk.org
X-Mailman-Version: 2.1.29
Precedence: list
List-Id: automatic DPDK test reports <test-report.dpdk.org>
List-Unsubscribe: <https://mails.dpdk.org/options/test-report>,
 <mailto:test-report-request@dpdk.org?subject=unsubscribe>
List-Archive: <http://mails.dpdk.org/archives/test-report/>
List-Post: <mailto:test-report@dpdk.org>
List-Help: <mailto:test-report-request@dpdk.org?subject=help>
List-Subscribe: <https://mails.dpdk.org/listinfo/test-report>,
 <mailto:test-report-request@dpdk.org?subject=subscribe>
Errors-To: test-report-bounces@dpdk.org

Test-Label: iol-abi-testing
Test-Status: SUCCESS
http://dpdk.org/patch/141419

_Testing PASS_

Submitter: Mattias Ronnblom <mattias.ronnblom@ericsson.com>
Date: Thursday, June 20 2024 07:24:52 
DPDK git baseline: Repo:dpdk
  Branch: master
  CommitID:4a44d97f0a52a76258c6a6cb6a713f4380a8ab1f

141414-141419 --> testing pass

Test environment and result as below:

+------------------+----------+
|   Environment    | abi_test |
+==================+==========+
| Debian Bullseye  | PASS     |
+------------------+----------+
| CentOS Stream 8  | PASS     |
+------------------+----------+
| CentOS Stream 9  | PASS     |
+------------------+----------+
| Fedora 37        | PASS     |
+------------------+----------+
| Fedora 38        | PASS     |
+------------------+----------+
| Debian 12        | PASS     |
+------------------+----------+
| Fedora 39        | PASS     |
+------------------+----------+
| Fedora 40        | PASS     |
+------------------+----------+
| RHEL9            | PASS     |
+------------------+----------+
| RHEL8            | PASS     |
+------------------+----------+
| openSUSE Leap 15 | PASS     |
+------------------+----------+
| Ubuntu 22.04     | PASS     |
+------------------+----------+
| Ubuntu 24.04     | PASS     |
+------------------+----------+


Debian Bullseye
	Kernel: 5.4.0-167-generic
	Compiler: gcc 10.2.1-6

CentOS Stream 8
	Kernel: 5.4.0-167-generic
	Compiler: gcc 8.5.0 20210514

CentOS Stream 9
	Kernel: 5.4.0-167-generic
	Compiler: gcc 11.4.1 20230605

Fedora 37
	Kernel: Depends on container host system
	Compiler: gcc 12.3.1

Fedora 38
	Kernel: Depends on container host
	Compiler: clang 16.0.6

Debian 12
	Kernel: Container Host Kernel
	Compiler: gcc 12.2.0

Fedora 39
	Kernel: Depends on container host
	Compiler: clang 17.0.6

Fedora 40
	Kernel: Depends on container host
	Compiler: clang 18.1.6

RHEL9
	Kernel: Depends on container host
	Compiler: gcc 11.4.1

RHEL8
	Kernel: 5.4.0-167-generic
	Compiler: gcc 8.5.0 20210514 (Red Hat 8.5.0-20)

openSUSE Leap 15
	Kernel: 5.4.0-167-generic
	Compiler: gcc 7.5.0

Ubuntu 22.04
	Kernel: 5.4.0-167-generic
	Compiler: gcc 11.4.0

Ubuntu 24.04
	Kernel: 5.4.0-167-generic
	Compiler: gcc 13.2.0

To view detailed results, visit:
https://lab.dpdk.org/results/dashboard/patchsets/30260/

UNH-IOL DPDK Community Lab

To manage your email subscriptions, visit: 
https://lab.dpdk.org/results/dashboard/preferences/subscriptions/