From mboxrd@z Thu Jan  1 00:00:00 1970
Return-Path: <test-report-bounces@dpdk.org>
Received: from mails.dpdk.org (mails.dpdk.org [217.70.189.124])
	by inbox.dpdk.org (Postfix) with ESMTP id BF3D2454AE
	for <public@inbox.dpdk.org>; Thu, 20 Jun 2024 21:50:43 +0200 (CEST)
Received: from mails.dpdk.org (localhost [127.0.0.1])
	by mails.dpdk.org (Postfix) with ESMTP id BD0284042E;
	Thu, 20 Jun 2024 21:50:43 +0200 (CEST)
Received: from mail-qt1-f225.google.com (mail-qt1-f225.google.com
 [209.85.160.225])
 by mails.dpdk.org (Postfix) with ESMTP id 00084402E2
 for <test-report@dpdk.org>; Thu, 20 Jun 2024 21:50:42 +0200 (CEST)
Received: by mail-qt1-f225.google.com with SMTP id
 d75a77b69052e-4405c2263eeso5583621cf.0
 for <test-report@dpdk.org>; Thu, 20 Jun 2024 12:50:42 -0700 (PDT)
DKIM-Signature: v=1; a=rsa-sha256; c=relaxed/relaxed;
 d=iol.unh.edu; s=unh-iol; t=1718913042; x=1719517842; darn=dpdk.org;
 h=references:in-reply-to:cc:to:from:subject:message-id:date:from:to
 :cc:subject:date:message-id:reply-to;
 bh=0QEd+TskNN4EZYSJCwpC0vFd2DH75zGO9AHbIuokK+I=;
 b=Lcpu59RXBcgQDpa+s4iw/ZJLohx9H1fCX4w82QHj54qX4DkrSVTBp82g+qvSgu8nXa
 pSMG6U5q/gyHu+La6u0X8yKv5oSpmKc4+WLKp/TpUQ2AvbgAphjaZY/bbojO4fjmy6xa
 Fh0+h5tHSIfIKBVRN584nQYS8xjM5FQLQTJ8E=
X-Google-DKIM-Signature: v=1; a=rsa-sha256; c=relaxed/relaxed;
 d=1e100.net; s=20230601; t=1718913042; x=1719517842;
 h=references:in-reply-to:cc:to:from:subject:message-id:date
 :x-gm-message-state:from:to:cc:subject:date:message-id:reply-to;
 bh=0QEd+TskNN4EZYSJCwpC0vFd2DH75zGO9AHbIuokK+I=;
 b=k7TQ7zvJ2/NN/3znIgHqitkM9RQu5aDDIK17olyakZFN18K191+Q0L129/rF75EUPd
 ER0wVsPyWgsc9oAjbaLf9zDedi1O4pP+3Z43vDJSOQwXoxX/ttkq3dX7KClsdPDX94MU
 g6xlbWQJwvCJwXvi4GmehU0rwTBjqHpcNUzAqUPq5TP/JSTgaju7/zTy/CPkbfZM5yNu
 pFpAhhMu8xOC/1wCJTn2Ul5x0OVKuQupf0+9ztPiW2tkGKKFDvDvFoeVU+aFSgIy/9bn
 cQ+xveIugm2TktPrhA61Anp2sViLfI3G9TilW3w+joOF8fEzz1S4EJoWy7CSgwthbOiK
 k8OA==
X-Gm-Message-State: AOJu0Yzve3HS6g1v5seD7fqOl9mJrXAVnD5F5czSkawC/5aptm/+/MVP
 aOEx4sDkI7sDmeMjLOhjU37s/pC5ooo9s6uAV2BFhFD6EQsUec/k2Kd2xT1KWRiVvX3m57BpNdM
 pd6udg9+e91KUvHhaGoOK1ZAHZ9ED3JVeqfsxDVgMVS/VmuYE+gBYx8o0
X-Google-Smtp-Source: AGHT+IHBLcwCRx0pL54GCPwi+qXRCYnZ6gqR4T9ucmv4i3td7tpQ+f7PPEA/ytaITi7kZnX31qSQjI93xKEo
X-Received: by 2002:ac8:7fd0:0:b0:43e:a91:e8d with SMTP id
 d75a77b69052e-444a7a48198mr73968841cf.54.1718913042337; 
 Thu, 20 Jun 2024 12:50:42 -0700 (PDT)
Received: from postal.iol.unh.edu (postal.iol.unh.edu.
 [2606:4100:3880:1234::84]) by smtp-relay.gmail.com with ESMTPS id
 d75a77b69052e-444c2b8a732sm17801cf.13.2024.06.20.12.50.42
 (version=TLS1_2 cipher=ECDHE-ECDSA-AES128-GCM-SHA256 bits=128/128);
 Thu, 20 Jun 2024 12:50:42 -0700 (PDT)
X-Relaying-Domain: iol.unh.edu
Date: Thu, 20 Jun 2024 12:50:42 -0700 (PDT)
Message-ID: <66748812.050a0220.d0076.01e8SMTPIN_ADDED_MISSING@mx.google.com>
Received: from [172.21.0.6] (unknown [172.18.0.240])
 by postal.iol.unh.edu (Postfix) with ESMTP id CD3A3605C380;
 Thu, 20 Jun 2024 15:50:41 -0400 (EDT)
Subject: |SUCCESS| pw141420-141423 [PATCH] [v3,6/6] eal: provide option to us
From: dpdklab@iol.unh.edu
To: Test Report <test-report@dpdk.org>
Cc: dpdk-test-reports@iol.unh.edu
In-Reply-To: <20240620115027.420304-7-mattias.ronnblom@ericsson.com>
References: <20240620115027.420304-7-mattias.ronnblom@ericsson.com>
Content-Type: text/plain
X-BeenThere: test-report@dpdk.org
X-Mailman-Version: 2.1.29
Precedence: list
List-Id: automatic DPDK test reports <test-report.dpdk.org>
List-Unsubscribe: <https://mails.dpdk.org/options/test-report>,
 <mailto:test-report-request@dpdk.org?subject=unsubscribe>
List-Archive: <http://mails.dpdk.org/archives/test-report/>
List-Post: <mailto:test-report@dpdk.org>
List-Help: <mailto:test-report-request@dpdk.org?subject=help>
List-Subscribe: <https://mails.dpdk.org/listinfo/test-report>,
 <mailto:test-report-request@dpdk.org?subject=subscribe>
Errors-To: test-report-bounces@dpdk.org

Test-Label: iol-abi-testing
Test-Status: SUCCESS
http://dpdk.org/patch/141423

_Testing PASS_

Submitter: Mattias Ronnblom <mattias.ronnblom@ericsson.com>
Date: Thursday, June 20 2024 11:50:27 
DPDK git baseline: Repo:dpdk
  Branch: master
  CommitID:4a44d97f0a52a76258c6a6cb6a713f4380a8ab1f

141420-141423 --> testing pass

Test environment and result as below:

+------------------+----------+
|   Environment    | abi_test |
+==================+==========+
| CentOS Stream 8  | PASS     |
+------------------+----------+
| Fedora 40        | PASS     |
+------------------+----------+
| Fedora 39        | PASS     |
+------------------+----------+
| CentOS Stream 9  | PASS     |
+------------------+----------+
| Debian Bullseye  | PASS     |
+------------------+----------+
| Debian 12        | PASS     |
+------------------+----------+
| openSUSE Leap 15 | PASS     |
+------------------+----------+
| RHEL9            | PASS     |
+------------------+----------+
| Fedora 37        | PASS     |
+------------------+----------+
| Fedora 38        | PASS     |
+------------------+----------+
| RHEL8            | PASS     |
+------------------+----------+
| Ubuntu 22.04     | PASS     |
+------------------+----------+


CentOS Stream 8
	Kernel: 5.4.0-167-generic
	Compiler: gcc 8.5.0 20210514

Fedora 40
	Kernel: Depends on container host
	Compiler: gcc 14.1.1

Fedora 39
	Kernel: Depends on container host
	Compiler: gcc 13.2.1

CentOS Stream 9
	Kernel: 5.4.0-167-generic
	Compiler: gcc 11.4.1 20230605

Debian Bullseye
	Kernel: 5.4.0-167-generic
	Compiler: gcc 10.2.1-6

Debian 12
	Kernel: Container Host Kernel
	Compiler: gcc 12.2.0

openSUSE Leap 15
	Kernel: 5.4.0-167-generic
	Compiler: gcc 7.5.0

RHEL9
	Kernel: Depends on container host
	Compiler: gcc 11.4.1

Fedora 37
	Kernel: Depends on container host system
	Compiler: gcc 12.3.1

Fedora 38
	Kernel: Depends on container host
	Compiler: clang 16.0.6

RHEL8
	Kernel: 5.4.0-167-generic
	Compiler: gcc 8.5.0 20210514 (Red Hat 8.5.0-20)

Ubuntu 22.04
	Kernel: 5.4.0-167-generic
	Compiler: gcc 11.4.0

To view detailed results, visit:
https://lab.dpdk.org/results/dashboard/patchsets/30261/

UNH-IOL DPDK Community Lab

To manage your email subscriptions, visit: 
https://lab.dpdk.org/results/dashboard/preferences/subscriptions/