From mboxrd@z Thu Jan  1 00:00:00 1970
Return-Path: <test-report-bounces@dpdk.org>
Received: from mails.dpdk.org (mails.dpdk.org [217.70.189.124])
	by inbox.dpdk.org (Postfix) with ESMTP id 1D47F454AE
	for <public@inbox.dpdk.org>; Thu, 20 Jun 2024 21:57:25 +0200 (CEST)
Received: from mails.dpdk.org (localhost [127.0.0.1])
	by mails.dpdk.org (Postfix) with ESMTP id 1B3DB4042E;
	Thu, 20 Jun 2024 21:57:25 +0200 (CEST)
Received: from mail-oi1-f228.google.com (mail-oi1-f228.google.com
 [209.85.167.228])
 by mails.dpdk.org (Postfix) with ESMTP id 0985E402E2
 for <test-report@dpdk.org>; Thu, 20 Jun 2024 21:57:24 +0200 (CEST)
Received: by mail-oi1-f228.google.com with SMTP id
 5614622812f47-3d24a231342so618177b6e.1
 for <test-report@dpdk.org>; Thu, 20 Jun 2024 12:57:23 -0700 (PDT)
DKIM-Signature: v=1; a=rsa-sha256; c=relaxed/relaxed;
 d=iol.unh.edu; s=unh-iol; t=1718913443; x=1719518243; darn=dpdk.org;
 h=references:in-reply-to:cc:to:from:subject:message-id:date:from:to
 :cc:subject:date:message-id:reply-to;
 bh=0QEd+TskNN4EZYSJCwpC0vFd2DH75zGO9AHbIuokK+I=;
 b=H0Z9ivOO48M4v51EWJP9Ss/xWkAknV7CVeq8ZjHqWemrJvZtTsLDZhxsehiZ2b4076
 lJGOzcPTkIIVgul5oEZ0Yh+j2YBUqG4qYBoMHc2Lw+WzG2gvJRPonlc/8lAwJ50YJayc
 uxWEkr6migeIP8bF3GwUXkvC26Gc/2D8ELn6w=
X-Google-DKIM-Signature: v=1; a=rsa-sha256; c=relaxed/relaxed;
 d=1e100.net; s=20230601; t=1718913443; x=1719518243;
 h=references:in-reply-to:cc:to:from:subject:message-id:date
 :x-gm-message-state:from:to:cc:subject:date:message-id:reply-to;
 bh=0QEd+TskNN4EZYSJCwpC0vFd2DH75zGO9AHbIuokK+I=;
 b=fmfqPiNl4MPNhHLbvPTfvHPruHum9zHS4SYM7dgj+axB11V7pX6kr3NL5sCHYiU1G1
 c5r6oNS9nlLH+uj2Jd3RbGKIwagKSb9wsUIWJSrwOO/Xs167wRMmXsHDvzEFVH6X+8Sy
 Y0dVQ+W5AROsnZTkkVyR85noNu5G3cXiiSq2Qua6x2sMP6qW3C3qwM5Pk1KLvSB+ZvRp
 2UOyll8PYuK8mBZynYncpR86KnU9FowXljWHegmUsxmmmpWXJcOMwt8CskvUVJM8rNeF
 VD0frG0/3QZl+wYeJfUofnkR6uzkRXrKObwg5t7BZGkCLoZX89+gqukZVMdzNVbsy4PP
 4fCA==
X-Gm-Message-State: AOJu0YzuQQmdeiuJNDag77ZLbRt12II8AKWr8VlmDEGau+StpTGL3OWo
 A2pdSub63IffjvPyVpu4pDj7FARl3+n9+mSs0TVx93KZq+h9RxDz+TptbvQQvBSeBdM3L/w40j7
 rDw2Lfpck2IvVX3qSpxPYNEh16v1ZJBaQWV+Vx9RRSCYt86suQicDyx/r
X-Google-Smtp-Source: AGHT+IG1xUKXscOxfOZeji7NoT1rp8UgHnSOVM8PFbORg7SwBpAa3fQfcEjg7wLiaFwtR7Kwd+r5yB74bydR
X-Received: by 2002:a05:6808:1392:b0:3d2:1e7c:c3f3 with SMTP id
 5614622812f47-3d51b997f33mr7486532b6e.20.1718913442839; 
 Thu, 20 Jun 2024 12:57:22 -0700 (PDT)
Received: from postal.iol.unh.edu (postal.iol.unh.edu.
 [2606:4100:3880:1234::84]) by smtp-relay.gmail.com with ESMTPS id
 d75a77b69052e-444c2bf7f51sm21391cf.17.2024.06.20.12.57.22
 (version=TLS1_2 cipher=ECDHE-ECDSA-AES128-GCM-SHA256 bits=128/128);
 Thu, 20 Jun 2024 12:57:22 -0700 (PDT)
X-Relaying-Domain: iol.unh.edu
Date: Thu, 20 Jun 2024 12:57:22 -0700 (PDT)
Message-ID: <667489a2.c80a0220.a493f.028fSMTPIN_ADDED_MISSING@mx.google.com>
Received: from [172.21.0.6] (unknown [172.18.0.240])
 by postal.iol.unh.edu (Postfix) with ESMTP id 7D77F605C380;
 Thu, 20 Jun 2024 15:57:22 -0400 (EDT)
Subject: |SUCCESS| pw141420-141423 [PATCH] [v3,6/6] eal: provide option to us
From: dpdklab@iol.unh.edu
To: Test Report <test-report@dpdk.org>
Cc: dpdk-test-reports@iol.unh.edu
In-Reply-To: <20240620115027.420304-7-mattias.ronnblom@ericsson.com>
References: <20240620115027.420304-7-mattias.ronnblom@ericsson.com>
Content-Type: text/plain
X-BeenThere: test-report@dpdk.org
X-Mailman-Version: 2.1.29
Precedence: list
List-Id: automatic DPDK test reports <test-report.dpdk.org>
List-Unsubscribe: <https://mails.dpdk.org/options/test-report>,
 <mailto:test-report-request@dpdk.org?subject=unsubscribe>
List-Archive: <http://mails.dpdk.org/archives/test-report/>
List-Post: <mailto:test-report@dpdk.org>
List-Help: <mailto:test-report-request@dpdk.org?subject=help>
List-Subscribe: <https://mails.dpdk.org/listinfo/test-report>,
 <mailto:test-report-request@dpdk.org?subject=subscribe>
Errors-To: test-report-bounces@dpdk.org

Test-Label: iol-abi-testing
Test-Status: SUCCESS
http://dpdk.org/patch/141423

_Testing PASS_

Submitter: Mattias Ronnblom <mattias.ronnblom@ericsson.com>
Date: Thursday, June 20 2024 11:50:27 
DPDK git baseline: Repo:dpdk
  Branch: master
  CommitID:4a44d97f0a52a76258c6a6cb6a713f4380a8ab1f

141420-141423 --> testing pass

Test environment and result as below:

+------------------+----------+
|   Environment    | abi_test |
+==================+==========+
| CentOS Stream 8  | PASS     |
+------------------+----------+
| Fedora 40        | PASS     |
+------------------+----------+
| Fedora 39        | PASS     |
+------------------+----------+
| CentOS Stream 9  | PASS     |
+------------------+----------+
| Debian Bullseye  | PASS     |
+------------------+----------+
| Debian 12        | PASS     |
+------------------+----------+
| openSUSE Leap 15 | PASS     |
+------------------+----------+
| RHEL9            | PASS     |
+------------------+----------+
| Fedora 37        | PASS     |
+------------------+----------+
| Fedora 38        | PASS     |
+------------------+----------+
| RHEL8            | PASS     |
+------------------+----------+
| Ubuntu 22.04     | PASS     |
+------------------+----------+


CentOS Stream 8
	Kernel: 5.4.0-167-generic
	Compiler: gcc 8.5.0 20210514

Fedora 40
	Kernel: Depends on container host
	Compiler: gcc 14.1.1

Fedora 39
	Kernel: Depends on container host
	Compiler: gcc 13.2.1

CentOS Stream 9
	Kernel: 5.4.0-167-generic
	Compiler: gcc 11.4.1 20230605

Debian Bullseye
	Kernel: 5.4.0-167-generic
	Compiler: gcc 10.2.1-6

Debian 12
	Kernel: Container Host Kernel
	Compiler: gcc 12.2.0

openSUSE Leap 15
	Kernel: 5.4.0-167-generic
	Compiler: gcc 7.5.0

RHEL9
	Kernel: Depends on container host
	Compiler: gcc 11.4.1

Fedora 37
	Kernel: Depends on container host system
	Compiler: gcc 12.3.1

Fedora 38
	Kernel: Depends on container host
	Compiler: clang 16.0.6

RHEL8
	Kernel: 5.4.0-167-generic
	Compiler: gcc 8.5.0 20210514 (Red Hat 8.5.0-20)

Ubuntu 22.04
	Kernel: 5.4.0-167-generic
	Compiler: gcc 11.4.0

To view detailed results, visit:
https://lab.dpdk.org/results/dashboard/patchsets/30261/

UNH-IOL DPDK Community Lab

To manage your email subscriptions, visit: 
https://lab.dpdk.org/results/dashboard/preferences/subscriptions/