From mboxrd@z Thu Jan  1 00:00:00 1970
Return-Path: <test-report-bounces@dpdk.org>
Received: from mails.dpdk.org (mails.dpdk.org [217.70.189.124])
	by inbox.dpdk.org (Postfix) with ESMTP id 074D4454AF
	for <public@inbox.dpdk.org>; Thu, 20 Jun 2024 23:32:56 +0200 (CEST)
Received: from mails.dpdk.org (localhost [127.0.0.1])
	by mails.dpdk.org (Postfix) with ESMTP id 03A83402D2;
	Thu, 20 Jun 2024 23:32:56 +0200 (CEST)
Received: from mail-qt1-f227.google.com (mail-qt1-f227.google.com
 [209.85.160.227])
 by mails.dpdk.org (Postfix) with ESMTP id 0CC6040150
 for <test-report@dpdk.org>; Thu, 20 Jun 2024 23:32:55 +0200 (CEST)
Received: by mail-qt1-f227.google.com with SMTP id
 d75a77b69052e-4405c2263eeso5952551cf.0
 for <test-report@dpdk.org>; Thu, 20 Jun 2024 14:32:55 -0700 (PDT)
DKIM-Signature: v=1; a=rsa-sha256; c=relaxed/relaxed;
 d=iol.unh.edu; s=unh-iol; t=1718919174; x=1719523974; darn=dpdk.org;
 h=references:in-reply-to:cc:to:from:subject:message-id:date:from:to
 :cc:subject:date:message-id:reply-to;
 bh=3KjN3iDvgsPyqL43fdie+vSmQC7F/tuRC5sRZmFpG5Q=;
 b=FWGNK2+s2oqpxX8m1USofMXyti2IbKpH1n1xCQfdljQSC2Qg6xb7M7KNChI0YniJPt
 BXyHPLQfXLDKF8mXJTai3z+xDPZWABw62sSkqL09b5LUpQtEMFw1S6d4WiFS+ziKR0xL
 BHYsy7x0b8BHaBKWOREo9PHN+Px9cHG7P/bc4=
X-Google-DKIM-Signature: v=1; a=rsa-sha256; c=relaxed/relaxed;
 d=1e100.net; s=20230601; t=1718919174; x=1719523974;
 h=references:in-reply-to:cc:to:from:subject:message-id:date
 :x-gm-message-state:from:to:cc:subject:date:message-id:reply-to;
 bh=3KjN3iDvgsPyqL43fdie+vSmQC7F/tuRC5sRZmFpG5Q=;
 b=Qv9kOciqMqIzu7uDYLKsEKGVAKxiP4jLuPhvBSIl2D3AOFetrEK+CHLYL8x+u8F1v2
 L2jK5xt3hTjhQ4Wjxv4RYS23tAR9bmUpndvw+fiB0KPp4LxnN0YQrxoD2guohad1MBew
 1WL2WZUxYtQzvGzZdImm7TZkYP2ioxedkDVEOTGArvmw9ZhPXYLn2o4Xe+TCZ609SEj+
 j5HjIhTTt///Zu/JT2E+fy863+fvJB9H+DJIuPqn+yo7UteDCRD8R/u2R3Ue5z7Z4VpR
 Dj7iDCAh1xr4JZBp3gyfTJrO8r2dDN7NcbzJKvv48ZSUceHrADUu0YMeXUZblp/zmw4W
 0VUA==
X-Gm-Message-State: AOJu0YynsJ1rQiSe8MSIRy0H/zyAwLh2e/LHeFaEWptOmuufd1SumdMQ
 igYyZFmB/Inaz8CEaqwMX1IRx1MVrdugdS7P2D95o2ap4hCJTmzha3602E/6JhcHT72Csohih27
 uCMQAzYmNUlX27NwRyA9IxJZT8O8lLwo2t0+T5B9c
X-Google-Smtp-Source: AGHT+IE39KElDs0WD3PKeqRDJGHBdeVbRg6zfnAsaBnO2ybtv6Pv9yoGJM8t/tTsp9PdT+Z33gnADj9opnRg
X-Received: by 2002:ac8:7fd6:0:b0:441:549f:9a4b with SMTP id
 d75a77b69052e-444a7a850efmr63625271cf.64.1718919174420; 
 Thu, 20 Jun 2024 14:32:54 -0700 (PDT)
Received: from postal.iol.unh.edu (postal.iol.unh.edu. [132.177.123.84])
 by smtp-relay.gmail.com with ESMTPS id
 d75a77b69052e-444c2bf9cbcsm76561cf.19.2024.06.20.14.32.54
 (version=TLS1_2 cipher=ECDHE-ECDSA-AES128-GCM-SHA256 bits=128/128);
 Thu, 20 Jun 2024 14:32:54 -0700 (PDT)
X-Relaying-Domain: iol.unh.edu
Date: Thu, 20 Jun 2024 14:32:54 -0700 (PDT)
Message-ID: <6674a006.c80a0220.2c433.08f3SMTPIN_ADDED_MISSING@mx.google.com>
Received: from [172.21.0.6] (unknown [172.18.0.240])
 by postal.iol.unh.edu (Postfix) with ESMTP id 137E1605C380;
 Thu, 20 Jun 2024 17:32:54 -0400 (EDT)
Subject: |SUCCESS| pw141420-141423 [PATCH] [v3,6/6] eal: provide option to us
From: dpdklab@iol.unh.edu
To: Test Report <test-report@dpdk.org>
Cc: dpdk-test-reports@iol.unh.edu
In-Reply-To: <20240620115027.420304-7-mattias.ronnblom@ericsson.com>
References: <20240620115027.420304-7-mattias.ronnblom@ericsson.com>
Content-Type: text/plain
X-BeenThere: test-report@dpdk.org
X-Mailman-Version: 2.1.29
Precedence: list
List-Id: automatic DPDK test reports <test-report.dpdk.org>
List-Unsubscribe: <https://mails.dpdk.org/options/test-report>,
 <mailto:test-report-request@dpdk.org?subject=unsubscribe>
List-Archive: <http://mails.dpdk.org/archives/test-report/>
List-Post: <mailto:test-report@dpdk.org>
List-Help: <mailto:test-report-request@dpdk.org?subject=help>
List-Subscribe: <https://mails.dpdk.org/listinfo/test-report>,
 <mailto:test-report-request@dpdk.org?subject=subscribe>
Errors-To: test-report-bounces@dpdk.org

Test-Label: iol-unit-amd64-testing
Test-Status: SUCCESS
http://dpdk.org/patch/141423

_Testing PASS_

Submitter: Mattias Ronnblom <mattias.ronnblom@ericsson.com>
Date: Thursday, June 20 2024 11:50:27 
DPDK git baseline: Repo:dpdk
  Branch: master
  CommitID:4a44d97f0a52a76258c6a6cb6a713f4380a8ab1f

141420-141423 --> testing pass

Test environment and result as below:

+------------------+----------------+
|   Environment    | dpdk_unit_test |
+==================+================+
| CentOS Stream 9  | PASS           |
+------------------+----------------+
| Debian Bullseye  | PASS           |
+------------------+----------------+
| Fedora 37        | PASS           |
+------------------+----------------+
| RHEL9            | PASS           |
+------------------+----------------+
| Fedora 39        | PASS           |
+------------------+----------------+
| Debian 12        | PASS           |
+------------------+----------------+
| Fedora 38        | PASS           |
+------------------+----------------+
| CentOS Stream 8  | PASS           |
+------------------+----------------+
| Fedora 40        | PASS           |
+------------------+----------------+
| RHEL8            | PASS           |
+------------------+----------------+
| Ubuntu 22.04     | PASS           |
+------------------+----------------+
| Ubuntu 20.04     | PASS           |
+------------------+----------------+
| openSUSE Leap 15 | PASS           |
+------------------+----------------+


CentOS Stream 9
	Kernel: 5.4.0-167-generic
	Compiler: gcc 11.4.1 20230605

Debian Bullseye
	Kernel: 5.4.0-167-generic
	Compiler: gcc 10.2.1-6

Fedora 37
	Kernel: Depends on container host system
	Compiler: gcc 12.3.1

RHEL9
	Kernel: Depends on container host
	Compiler: gcc 11.4.1

Fedora 39
	Kernel: Depends on container host
	Compiler: gcc 13.2.1

Debian 12
	Kernel: Container Host Kernel
	Compiler: gcc 12.2.0

Fedora 38
	Kernel: Depends on container host
	Compiler: gcc 13.2.1

CentOS Stream 8
	Kernel: 5.4.0-167-generic
	Compiler: gcc 8.5.0 20210514

Fedora 40
	Kernel: Depends on container host
	Compiler: gcc 14.1.1

RHEL8
	Kernel: 5.4.0-167-generic
	Compiler: gcc 8.5.0 20210514 (Red Hat 8.5.0-20)

Ubuntu 22.04
	Kernel: 5.4.0-167-generic
	Compiler: gcc 11.4.0

Ubuntu 20.04
	Kernel: 5.4.0-167-generic
	Compiler: gcc 9.4.0-1ubuntu1~20.04.1

openSUSE Leap 15
	Kernel: 5.4.0-167-generic
	Compiler: gcc 7.5.0

To view detailed results, visit:
https://lab.dpdk.org/results/dashboard/patchsets/30261/

UNH-IOL DPDK Community Lab

To manage your email subscriptions, visit: 
https://lab.dpdk.org/results/dashboard/preferences/subscriptions/