From mboxrd@z Thu Jan  1 00:00:00 1970
Return-Path: <test-report-bounces@dpdk.org>
Received: from mails.dpdk.org (mails.dpdk.org [217.70.189.124])
	by inbox.dpdk.org (Postfix) with ESMTP id DF79B454B0
	for <public@inbox.dpdk.org>; Fri, 21 Jun 2024 00:34:45 +0200 (CEST)
Received: from mails.dpdk.org (localhost [127.0.0.1])
	by mails.dpdk.org (Postfix) with ESMTP id DA1D040265;
	Fri, 21 Jun 2024 00:34:45 +0200 (CEST)
Received: from mail-qv1-f98.google.com (mail-qv1-f98.google.com
 [209.85.219.98]) by mails.dpdk.org (Postfix) with ESMTP id C547A4025E
 for <test-report@dpdk.org>; Fri, 21 Jun 2024 00:34:43 +0200 (CEST)
Received: by mail-qv1-f98.google.com with SMTP id
 6a1803df08f44-6b4fec3a1a7so6102476d6.2
 for <test-report@dpdk.org>; Thu, 20 Jun 2024 15:34:43 -0700 (PDT)
DKIM-Signature: v=1; a=rsa-sha256; c=relaxed/relaxed;
 d=iol.unh.edu; s=unh-iol; t=1718922883; x=1719527683; darn=dpdk.org;
 h=references:in-reply-to:cc:to:from:subject:message-id:date:from:to
 :cc:subject:date:message-id:reply-to;
 bh=MQQ+D9lBsdTsolLkkd6HqhcX1TlN63OWrLd6zrvMgqo=;
 b=YpqV4kb9aGjvm6MEeA6IrZWnC/K/Rze+6KQOZxrV0zMNkqcK0P8q7BVRAuwn4kFpEY
 4kDsuH8CjgfcczRboradYOe1KSC90NTtmpBoG0uPKFEWhlI1fnoyYrpTv5HjOuMDzWkf
 e8Aep9vUq5Y6OpxKQu/Z06Ig7mlOOBWMUs+9M=
X-Google-DKIM-Signature: v=1; a=rsa-sha256; c=relaxed/relaxed;
 d=1e100.net; s=20230601; t=1718922883; x=1719527683;
 h=references:in-reply-to:cc:to:from:subject:message-id:date
 :x-gm-message-state:from:to:cc:subject:date:message-id:reply-to;
 bh=MQQ+D9lBsdTsolLkkd6HqhcX1TlN63OWrLd6zrvMgqo=;
 b=WSIWdodVHY7K5sitEJoA+4dUTqWcKHZI8BAAfiQBK5QU1Mv+aC///Jj1gqAwqOdx+R
 XHLxC6vDgijCOfEQNnWlUvHBRSgbhp6gbf/IV4yeeqgtaexnResxmUQgiFnMvZHfPGio
 NbXzEf6WgppNVnl0RYwPSFln9yPtx9EYvFjptPR+jukj4OTYMoW1FLvpdpYRZWrD4zIF
 tbTKaIRWB5WKJEqDQKZupVQiORo8B+WFwa8w+3/wU65QH1M7gMknlYxe6TaQ97dgdhz2
 X/vkab7QO2XBZICEdE4AsvFV1ynewD1EgofgcCfcl569YImqafH4+Wb9LkU+aEmH0Nhv
 5/wQ==
X-Gm-Message-State: AOJu0Yzz6nJdu3Qy9Pxwi8UBq2Sxt05QF0sN3a/pQdxv2u8pHWcx9DhJ
 sup9sP1ZZMBOWpyHiHRJ06tPMPO7A/RJ7c7M1XSOsZQYJmhNGp4ZS/7F/CttHRHHg9lpDd2atjB
 Q02ybYIX0xCDc0jiXVTwsvNjx/X0iecPUHLIvDx/A
X-Google-Smtp-Source: AGHT+IFfO5SfEDPPLimyC0O4skwzRw5VgX/tV2xYWogWJyxZMZF4ji8rol49uNPnqWnfGWW4o6Di4tGgKDjF
X-Received: by 2002:a0c:f148:0:b0:6b0:77fb:8f24 with SMTP id
 6a1803df08f44-6b501e1045emr64086176d6.17.1718922883210; 
 Thu, 20 Jun 2024 15:34:43 -0700 (PDT)
Received: from postal.iol.unh.edu (postal.iol.unh.edu. [132.177.123.84])
 by smtp-relay.gmail.com with ESMTPS id
 6a1803df08f44-6b51ed25ecbsm105746d6.36.2024.06.20.15.34.43
 (version=TLS1_2 cipher=ECDHE-ECDSA-AES128-GCM-SHA256 bits=128/128);
 Thu, 20 Jun 2024 15:34:43 -0700 (PDT)
X-Relaying-Domain: iol.unh.edu
Date: Thu, 20 Jun 2024 15:34:43 -0700 (PDT)
Message-ID: <6674ae83.050a0220.4a287.0cebSMTPIN_ADDED_MISSING@mx.google.com>
Received: from [172.21.0.6] (unknown [172.18.0.240])
 by postal.iol.unh.edu (Postfix) with ESMTP id E27C0605C380;
 Thu, 20 Jun 2024 18:34:42 -0400 (EDT)
Subject: |SUCCESS| pw141420-141423 [PATCH] [v3,6/6] eal: provide option to us
From: dpdklab@iol.unh.edu
To: Test Report <test-report@dpdk.org>
Cc: dpdk-test-reports@iol.unh.edu
In-Reply-To: <20240620115027.420304-7-mattias.ronnblom@ericsson.com>
References: <20240620115027.420304-7-mattias.ronnblom@ericsson.com>
Content-Type: text/plain
X-BeenThere: test-report@dpdk.org
X-Mailman-Version: 2.1.29
Precedence: list
List-Id: automatic DPDK test reports <test-report.dpdk.org>
List-Unsubscribe: <https://mails.dpdk.org/options/test-report>,
 <mailto:test-report-request@dpdk.org?subject=unsubscribe>
List-Archive: <http://mails.dpdk.org/archives/test-report/>
List-Post: <mailto:test-report@dpdk.org>
List-Help: <mailto:test-report-request@dpdk.org?subject=help>
List-Subscribe: <https://mails.dpdk.org/listinfo/test-report>,
 <mailto:test-report-request@dpdk.org?subject=subscribe>
Errors-To: test-report-bounces@dpdk.org

Test-Label: iol-compile-arm64-testing
Test-Status: SUCCESS
http://dpdk.org/patch/141423

_Testing PASS_

Submitter: Mattias Ronnblom <mattias.ronnblom@ericsson.com>
Date: Thursday, June 20 2024 11:50:27 
DPDK git baseline: Repo:dpdk
  Branch: master
  CommitID:4a44d97f0a52a76258c6a6cb6a713f4380a8ab1f

141420-141423 --> testing pass

Test environment and result as below:

+----------------------------------------+--------------------+
|              Environment               | dpdk_meson_compile |
+========================================+====================+
| Debian 12 with MUSDK                   | PASS               |
+----------------------------------------+--------------------+
| Ubuntu 20.04 ARM SVE                   | PASS               |
+----------------------------------------+--------------------+
| RHEL9 (ARM)                            | PASS               |
+----------------------------------------+--------------------+
| Fedora 37 (ARM)                        | PASS               |
+----------------------------------------+--------------------+
| Fedora 38 (ARM)                        | PASS               |
+----------------------------------------+--------------------+
| Fedora 40 (ARM)                        | PASS               |
+----------------------------------------+--------------------+
| CentOS Stream 9 (ARM)                  | PASS               |
+----------------------------------------+--------------------+
| Debian 11 (Buster) (ARM)               | PASS               |
+----------------------------------------+--------------------+
| Debian 12 (arm)                        | PASS               |
+----------------------------------------+--------------------+
| Ubuntu 20.04 aarch32 GCC Cross Compile | PASS               |
+----------------------------------------+--------------------+
| Ubuntu 20.04 (ARM)                     | PASS               |
+----------------------------------------+--------------------+
| Ubuntu 22.04 (ARM)                     | PASS               |
+----------------------------------------+--------------------+
| Fedora 39 (ARM Clang)                  | PASS               |
+----------------------------------------+--------------------+


Debian 12 with MUSDK
	Kernel: Container Host Kernel
	Compiler: gcc 12.2.0

Ubuntu 20.04 ARM SVE
	Kernel: 5.4.0-167-generic
	Compiler: gcc (Ubuntu 10.5.0-1ubuntu1~20.04) 10.5.0

RHEL9 (ARM)
	Kernel: Depends on container host
	Compiler: gcc 11.4.1

Fedora 37 (ARM)
	Kernel: Depends on container host
	Compiler: gcc 12.3.1

Fedora 38 (ARM)
	Kernel: Depends on container host
	Compiler: gcc 13.2.1

Fedora 40 (ARM)
	Kernel: Depends on container host
	Compiler: gcc 14.1.1

CentOS Stream 9 (ARM)
	Kernel: Container Host Kernel
	Compiler: gcc 11.4.1

Debian 11 (Buster) (ARM)
	Kernel: Container Host Kernel
	Compiler: gcc 10.2.1

Debian 12 (arm)
	Kernel: Container Host Kernel
	Compiler: gcc 12.2.0

Ubuntu 20.04 aarch32 GCC Cross Compile
	Kernel: 5.4.0-167-generic
	Compiler: gcc 9.4.0

Ubuntu 20.04 (ARM)
	Kernel: Container Host Kernel
	Compiler: gcc 9.4.0

Ubuntu 22.04 (ARM)
	Kernel: Container Host Kernel
	Compiler: gcc 11.4.0

Fedora 39 (ARM Clang)
	Kernel: Depends on container host
	Compiler: clang 17.0.6

To view detailed results, visit:
https://lab.dpdk.org/results/dashboard/patchsets/30261/

UNH-IOL DPDK Community Lab

To manage your email subscriptions, visit: 
https://lab.dpdk.org/results/dashboard/preferences/subscriptions/