From mboxrd@z Thu Jan  1 00:00:00 1970
Return-Path: <test-report-bounces@dpdk.org>
Received: from mails.dpdk.org (mails.dpdk.org [217.70.189.124])
	by inbox.dpdk.org (Postfix) with ESMTP id 66F88454B0
	for <public@inbox.dpdk.org>; Fri, 21 Jun 2024 00:45:51 +0200 (CEST)
Received: from mails.dpdk.org (localhost [127.0.0.1])
	by mails.dpdk.org (Postfix) with ESMTP id 61C2D40265;
	Fri, 21 Jun 2024 00:45:51 +0200 (CEST)
Received: from mail-io1-f100.google.com (mail-io1-f100.google.com
 [209.85.166.100])
 by mails.dpdk.org (Postfix) with ESMTP id 8583A4025E
 for <test-report@dpdk.org>; Fri, 21 Jun 2024 00:45:49 +0200 (CEST)
Received: by mail-io1-f100.google.com with SMTP id
 ca18e2360f4ac-7ebc67365e3so51649339f.1
 for <test-report@dpdk.org>; Thu, 20 Jun 2024 15:45:49 -0700 (PDT)
DKIM-Signature: v=1; a=rsa-sha256; c=relaxed/relaxed;
 d=iol.unh.edu; s=unh-iol; t=1718923549; x=1719528349; darn=dpdk.org;
 h=references:in-reply-to:cc:to:from:subject:message-id:date:from:to
 :cc:subject:date:message-id:reply-to;
 bh=0I/rooSzmUhREIwG7Raocr5zMD8/PsRSWFKP5xGKBBc=;
 b=diK86y3p6E7p/+cWb8wWNbnVW6RPk7ulRM+nK2ahs6OwSgSGYn8iiPOtzLP52YITQy
 Rb/euAZBW+YtG+lf35uHyDkaT9XuEuGeo+W0sBshQqlnMIZqiLBy7y0vlSTjxtVS2NEz
 zVi47J0GZ7qIoFnXbk6RcKSkv/2qrz22iCj90=
X-Google-DKIM-Signature: v=1; a=rsa-sha256; c=relaxed/relaxed;
 d=1e100.net; s=20230601; t=1718923549; x=1719528349;
 h=references:in-reply-to:cc:to:from:subject:message-id:date
 :x-gm-message-state:from:to:cc:subject:date:message-id:reply-to;
 bh=0I/rooSzmUhREIwG7Raocr5zMD8/PsRSWFKP5xGKBBc=;
 b=PypRWhEnt8r82x/gQvD1dqQHMkEY9SKBzJ+MIJnk0SYzfCUtyPToHXoM9hQkbeNKv8
 3QHCetuWILu6SjYiRd9Mdezqd2m48DttNgUAMhj4EBl28fqaGNALw+VR0dRDcXi2LUd9
 oFUMxM1ZItnkswnAJaGOUBoYD5wU8uxBb5dxZeA7vhU5TKXkKkYIlku93F7QrNICXA1N
 4ozbx26w7wgjjZtx4tHZFzhlPti4xZ7mmTfkm1Vrg0VcVSt0M69JtPQLeIMklTJTnTgv
 fyNCcK8inmNKl9U8E9jrx0MeDcok61Ya94GB+o2hD+J+ktJrPrR1OqOm2qNOZFukq2Ro
 epIg==
X-Gm-Message-State: AOJu0YwYf+309gulbGMS6vihJg8YHgSXOLDXK1EY8R4+ETP6C3LrSjhM
 WM+RweW+VwBdS35SkwRrSzjgMP59XXh+w7an5WfCF/6KPCxjnaO7M9tKAqThiZdQt94r5x1EcW1
 E48Gr7nRas2sZKmfBvofU/C/nsy9Swt5tpVg07Uez
X-Google-Smtp-Source: AGHT+IHZPIsqIvV8NzIdjNvfQOpiX4dCaJZf+nxM+ZiuLmDPavmbwikFa4opMqgmdTJbbGofT/PlufIArVq0
X-Received: by 2002:a05:6602:6401:b0:7eb:776f:d960 with SMTP id
 ca18e2360f4ac-7f13ee41debmr852783139f.9.1718923548790; 
 Thu, 20 Jun 2024 15:45:48 -0700 (PDT)
Received: from postal.iol.unh.edu (postal.iol.unh.edu. [132.177.123.84])
 by smtp-relay.gmail.com with ESMTPS id
 8926c6da1cb9f-4b9d1249179sm5415173.70.2024.06.20.15.45.48
 (version=TLS1_2 cipher=ECDHE-ECDSA-AES128-GCM-SHA256 bits=128/128);
 Thu, 20 Jun 2024 15:45:48 -0700 (PDT)
X-Relaying-Domain: iol.unh.edu
Date: Thu, 20 Jun 2024 15:45:48 -0700 (PDT)
Message-ID: <6674b11c.050a0220.e2242.0674SMTPIN_ADDED_MISSING@mx.google.com>
Received: from [172.21.0.6] (unknown [172.18.0.240])
 by postal.iol.unh.edu (Postfix) with ESMTP id 3D597605C380;
 Thu, 20 Jun 2024 18:45:48 -0400 (EDT)
Subject: |SUCCESS| pw141420-141423 [PATCH] [v3,6/6] eal: provide option to us
From: dpdklab@iol.unh.edu
To: Test Report <test-report@dpdk.org>
Cc: dpdk-test-reports@iol.unh.edu
In-Reply-To: <20240620115027.420304-7-mattias.ronnblom@ericsson.com>
References: <20240620115027.420304-7-mattias.ronnblom@ericsson.com>
Content-Type: text/plain
X-BeenThere: test-report@dpdk.org
X-Mailman-Version: 2.1.29
Precedence: list
List-Id: automatic DPDK test reports <test-report.dpdk.org>
List-Unsubscribe: <https://mails.dpdk.org/options/test-report>,
 <mailto:test-report-request@dpdk.org?subject=unsubscribe>
List-Archive: <http://mails.dpdk.org/archives/test-report/>
List-Post: <mailto:test-report@dpdk.org>
List-Help: <mailto:test-report-request@dpdk.org?subject=help>
List-Subscribe: <https://mails.dpdk.org/listinfo/test-report>,
 <mailto:test-report-request@dpdk.org?subject=subscribe>
Errors-To: test-report-bounces@dpdk.org

Test-Label: iol-unit-amd64-testing
Test-Status: SUCCESS
http://dpdk.org/patch/141423

_Testing PASS_

Submitter: Mattias Ronnblom <mattias.ronnblom@ericsson.com>
Date: Thursday, June 20 2024 11:50:27 
DPDK git baseline: Repo:dpdk
  Branch: master
  CommitID:4a44d97f0a52a76258c6a6cb6a713f4380a8ab1f

141420-141423 --> testing pass

Test environment and result as below:

+------------------+----------------+
|   Environment    | dpdk_unit_test |
+==================+================+
| CentOS Stream 9  | PASS           |
+------------------+----------------+
| Debian 12        | PASS           |
+------------------+----------------+
| Debian Bullseye  | PASS           |
+------------------+----------------+
| CentOS Stream 8  | PASS           |
+------------------+----------------+
| Fedora 37        | PASS           |
+------------------+----------------+
| Fedora 38        | PASS           |
+------------------+----------------+
| Fedora 39        | PASS           |
+------------------+----------------+
| Fedora 40        | PASS           |
+------------------+----------------+
| openSUSE Leap 15 | PASS           |
+------------------+----------------+
| RHEL9            | PASS           |
+------------------+----------------+
| Ubuntu 24.04     | PASS           |
+------------------+----------------+
| RHEL8            | PASS           |
+------------------+----------------+
| Ubuntu 20.04     | PASS           |
+------------------+----------------+
| Ubuntu 22.04     | PASS           |
+------------------+----------------+


CentOS Stream 9
	Kernel: 5.4.0-167-generic
	Compiler: gcc 11.4.1 20230605

Debian 12
	Kernel: Container Host Kernel
	Compiler: gcc 12.2.0

Debian Bullseye
	Kernel: 5.4.0-167-generic
	Compiler: gcc 10.2.1-6

CentOS Stream 8
	Kernel: 5.4.0-167-generic
	Compiler: gcc 8.5.0 20210514

Fedora 37
	Kernel: Depends on container host system
	Compiler: gcc 12.3.1

Fedora 38
	Kernel: Depends on container host
	Compiler: gcc 13.2.1

Fedora 39
	Kernel: Depends on container host
	Compiler: gcc 13.2.1

Fedora 40
	Kernel: Depends on container host
	Compiler: clang 18.1.6

openSUSE Leap 15
	Kernel: 5.4.0-167-generic
	Compiler: gcc 7.5.0

RHEL9
	Kernel: Depends on container host
	Compiler: gcc 11.4.1

Ubuntu 24.04
	Kernel: 5.4.0-167-generic
	Compiler: gcc 13.2.0

RHEL8
	Kernel: 5.4.0-167-generic
	Compiler: gcc 8.5.0 20210514 (Red Hat 8.5.0-20)

Ubuntu 20.04
	Kernel: 5.4.0-167-generic
	Compiler: gcc 9.4.0-1ubuntu1~20.04.1

Ubuntu 22.04
	Kernel: 5.4.0-167-generic
	Compiler: gcc 11.4.0

To view detailed results, visit:
https://lab.dpdk.org/results/dashboard/patchsets/30261/

UNH-IOL DPDK Community Lab

To manage your email subscriptions, visit: 
https://lab.dpdk.org/results/dashboard/preferences/subscriptions/