From mboxrd@z Thu Jan  1 00:00:00 1970
Return-Path: <test-report-bounces@dpdk.org>
Received: from mails.dpdk.org (mails.dpdk.org [217.70.189.124])
	by inbox.dpdk.org (Postfix) with ESMTP id 56C5B454B0
	for <public@inbox.dpdk.org>; Fri, 21 Jun 2024 01:15:39 +0200 (CEST)
Received: from mails.dpdk.org (localhost [127.0.0.1])
	by mails.dpdk.org (Postfix) with ESMTP id 53A1842E6D;
	Fri, 21 Jun 2024 01:15:39 +0200 (CEST)
Received: from mail-il1-f226.google.com (mail-il1-f226.google.com
 [209.85.166.226])
 by mails.dpdk.org (Postfix) with ESMTP id 76EE04025E
 for <test-report@dpdk.org>; Fri, 21 Jun 2024 01:15:15 +0200 (CEST)
Received: by mail-il1-f226.google.com with SMTP id
 e9e14a558f8ab-3748ebe7e53so5582115ab.1
 for <test-report@dpdk.org>; Thu, 20 Jun 2024 16:15:15 -0700 (PDT)
DKIM-Signature: v=1; a=rsa-sha256; c=relaxed/relaxed;
 d=iol.unh.edu; s=unh-iol; t=1718925315; x=1719530115; darn=dpdk.org;
 h=references:in-reply-to:cc:to:from:subject:message-id:date:from:to
 :cc:subject:date:message-id:reply-to;
 bh=lWoPb+wOXm8eofhTziZEth8UgJeAeXhzveXHvKXoPwA=;
 b=anMGTS5FHe8V352M5qZKgHYtj4AYnpXtlTP58cHPf9ESm35Bkv5v3rMklX/jKD5y+n
 ryZZvJlLNCBGOGx5dXXl5VEYZFu/n5fvKBjgtaiMlFnd3v7lEwzuaZNJNMo1iSQkVN+w
 M1N2Q3JU9TGRYtlKY+zrgvKKiyatOlSitz7bM=
X-Google-DKIM-Signature: v=1; a=rsa-sha256; c=relaxed/relaxed;
 d=1e100.net; s=20230601; t=1718925315; x=1719530115;
 h=references:in-reply-to:cc:to:from:subject:message-id:date
 :x-gm-message-state:from:to:cc:subject:date:message-id:reply-to;
 bh=lWoPb+wOXm8eofhTziZEth8UgJeAeXhzveXHvKXoPwA=;
 b=r1uWqcdwcgDyGc+b/q9D54kVCRk7ERvvuBvXsKF8QUB3lvf1JeDKw+U3ezClKdKW1m
 R6+vklpyJrmRU7LTEFvyNps6Wr4Xqzd3hlOIcU9uvAxFkUAep+Uyjt90mGI6mX2pNb+X
 qZdw2WO5af0EmUCBRZa8kk+ot0AJJYrvs/h1zRWMVs0a4KW2UVF4O3z50zzV3dFX5Zxi
 9s7JVN4mUOfZFlWh0wbAd06rXVgT21j1fC105P8B8DCJ8ETMRHDyWQM9BHm0ZqtqVBuT
 Gi5m9CMXdUevbIoC5WVVZWS6cLCQd2BEhrl7iwech469tQY1Ak1pIiAo1tKVWpcYOaoK
 pBgw==
X-Gm-Message-State: AOJu0Yye/lE8EwZYQrwBqjQx0PkUNq+aeXtpkRn1hF8hDLtlJQKI3nbR
 ETYaCDbxNQTLJMNDB99U5CCycwArD001JMIDfUbFL/N9fz1Y2jLw2r7Jcw2NqZr3+2EMKMZHfGY
 A89HUzAbpvIPT4wLT6kxDmwpUr6OgpFUbjlygeGD/soGFCaUbo6bB5RnO
X-Google-Smtp-Source: AGHT+IHO7l86QA5KVsXWOKaKVXMFV9y6qtGMOiRonjqHcKk1MEyXlEhzOWiSgXTT7gnOa3VYxdzL11UhbQDp
X-Received: by 2002:a05:6e02:164e:b0:375:9e3f:5f6 with SMTP id
 e9e14a558f8ab-3761d656391mr77200465ab.6.1718925314902; 
 Thu, 20 Jun 2024 16:15:14 -0700 (PDT)
Received: from postal.iol.unh.edu (postal.iol.unh.edu.
 [2606:4100:3880:1234::84]) by smtp-relay.gmail.com with ESMTPS id
 e9e14a558f8ab-3762f3beff9sm196735ab.76.2024.06.20.16.15.14
 (version=TLS1_2 cipher=ECDHE-ECDSA-AES128-GCM-SHA256 bits=128/128);
 Thu, 20 Jun 2024 16:15:14 -0700 (PDT)
X-Relaying-Domain: iol.unh.edu
Date: Thu, 20 Jun 2024 16:15:14 -0700 (PDT)
Message-ID: <6674b802.050a0220.48745.179fSMTPIN_ADDED_MISSING@mx.google.com>
Received: from [172.21.0.6] (unknown [172.18.0.240])
 by postal.iol.unh.edu (Postfix) with ESMTP id 67F38605C380;
 Thu, 20 Jun 2024 19:15:14 -0400 (EDT)
Subject: |SUCCESS| pw141420-141423 [PATCH] [v3,6/6] eal: provide option to us
From: dpdklab@iol.unh.edu
To: Test Report <test-report@dpdk.org>
Cc: dpdk-test-reports@iol.unh.edu
In-Reply-To: <20240620115027.420304-7-mattias.ronnblom@ericsson.com>
References: <20240620115027.420304-7-mattias.ronnblom@ericsson.com>
Content-Type: text/plain
X-BeenThere: test-report@dpdk.org
X-Mailman-Version: 2.1.29
Precedence: list
List-Id: automatic DPDK test reports <test-report.dpdk.org>
List-Unsubscribe: <https://mails.dpdk.org/options/test-report>,
 <mailto:test-report-request@dpdk.org?subject=unsubscribe>
List-Archive: <http://mails.dpdk.org/archives/test-report/>
List-Post: <mailto:test-report@dpdk.org>
List-Help: <mailto:test-report-request@dpdk.org?subject=help>
List-Subscribe: <https://mails.dpdk.org/listinfo/test-report>,
 <mailto:test-report-request@dpdk.org?subject=subscribe>
Errors-To: test-report-bounces@dpdk.org

Test-Label: iol-compile-arm64-testing
Test-Status: SUCCESS
http://dpdk.org/patch/141423

_Testing PASS_

Submitter: Mattias Ronnblom <mattias.ronnblom@ericsson.com>
Date: Thursday, June 20 2024 11:50:27 
DPDK git baseline: Repo:dpdk
  Branch: master
  CommitID:4a44d97f0a52a76258c6a6cb6a713f4380a8ab1f

141420-141423 --> testing pass

Test environment and result as below:

+--------------------------+--------------------+
|       Environment        | dpdk_meson_compile |
+==========================+====================+
| Ubuntu 20.04 ARM SVE     | PASS               |
+--------------------------+--------------------+
| RHEL9 (ARM)              | PASS               |
+--------------------------+--------------------+
| Fedora 39 (ARM)          | PASS               |
+--------------------------+--------------------+
| Debian 12 with MUSDK     | PASS               |
+--------------------------+--------------------+
| Ubuntu 24.04 (ARM)       | PASS               |
+--------------------------+--------------------+
| Debian 12 (arm)          | PASS               |
+--------------------------+--------------------+
| Debian 11 (Buster) (ARM) | PASS               |
+--------------------------+--------------------+
| CentOS Stream 9 (ARM)    | PASS               |
+--------------------------+--------------------+
| Fedora 38 (ARM Clang)    | PASS               |
+--------------------------+--------------------+


Ubuntu 20.04 ARM SVE
	Kernel: 5.4.0-167-generic
	Compiler: gcc (Ubuntu 10.5.0-1ubuntu1~20.04) 10.5.0

RHEL9 (ARM)
	Kernel: Depends on container host
	Compiler: gcc 11.4.1

Fedora 39 (ARM)
	Kernel: Depends on container host
	Compiler: gcc 13.2.1

Debian 12 with MUSDK
	Kernel: Container Host Kernel
	Compiler: gcc 12.2.0

Ubuntu 24.04 (ARM)
	Kernel: 5.4.0-167-generic
	Compiler: gcc 13.2.0

Debian 12 (arm)
	Kernel: Container Host Kernel
	Compiler: gcc 12.2.0

Debian 11 (Buster) (ARM)
	Kernel: Container Host Kernel
	Compiler: gcc 10.2.1

CentOS Stream 9 (ARM)
	Kernel: Container Host Kernel
	Compiler: gcc 11.4.1

Fedora 38 (ARM Clang)
	Kernel: Depends on container host
	Compiler: clang 16.0.6

To view detailed results, visit:
https://lab.dpdk.org/results/dashboard/patchsets/30261/

UNH-IOL DPDK Community Lab

To manage your email subscriptions, visit: 
https://lab.dpdk.org/results/dashboard/preferences/subscriptions/