From mboxrd@z Thu Jan  1 00:00:00 1970
Return-Path: <test-report-bounces@dpdk.org>
Received: from mails.dpdk.org (mails.dpdk.org [217.70.189.124])
	by inbox.dpdk.org (Postfix) with ESMTP id EC389454B1
	for <public@inbox.dpdk.org>; Fri, 21 Jun 2024 02:03:03 +0200 (CEST)
Received: from mails.dpdk.org (localhost [127.0.0.1])
	by mails.dpdk.org (Postfix) with ESMTP id E929040265;
	Fri, 21 Jun 2024 02:03:03 +0200 (CEST)
Received: from mail-ot1-f98.google.com (mail-ot1-f98.google.com
 [209.85.210.98]) by mails.dpdk.org (Postfix) with ESMTP id 7E6DD4025E
 for <test-report@dpdk.org>; Fri, 21 Jun 2024 02:03:02 +0200 (CEST)
Received: by mail-ot1-f98.google.com with SMTP id
 46e09a7af769-6f9a7120d9dso792952a34.0
 for <test-report@dpdk.org>; Thu, 20 Jun 2024 17:03:02 -0700 (PDT)
DKIM-Signature: v=1; a=rsa-sha256; c=relaxed/relaxed;
 d=iol.unh.edu; s=unh-iol; t=1718928182; x=1719532982; darn=dpdk.org;
 h=references:in-reply-to:cc:to:from:subject:message-id:date:from:to
 :cc:subject:date:message-id:reply-to;
 bh=qQD3IroUaW5v/4ZQUFMhHM52fW8iLhKTsFx0FousPOQ=;
 b=ZWQyooe3FR4OyqMPW1TA6PeE9o6ZqHKiNeZqMASr+AKFHOs26wI4Y22F09g9dp+aWO
 IJ8dRBkmlYovpsRc3u0v8BGPhQOxjnBaeskX/p6AhfEgNK51Itph7h+4MxF+BxmR4sSo
 WbjEorr6NVBJ6Ntc98QUH5WpS0+MyzOrpV9YM=
X-Google-DKIM-Signature: v=1; a=rsa-sha256; c=relaxed/relaxed;
 d=1e100.net; s=20230601; t=1718928182; x=1719532982;
 h=references:in-reply-to:cc:to:from:subject:message-id:date
 :x-gm-message-state:from:to:cc:subject:date:message-id:reply-to;
 bh=qQD3IroUaW5v/4ZQUFMhHM52fW8iLhKTsFx0FousPOQ=;
 b=oTRGBFy3IpxCUXwdtBGtEZsw+3RRNDq34MaJnGFFjWzWYkPJpmDb2Njs0RXB1rViGq
 6INL8b05LUcOqxmHPBlQ4D9J0eka3xKVX3rsfHF95Qi5gvU5p9kKa2HYWwrbRMdswVLc
 ypdgJmG7BwRBqUo6G8f/lGOvPtx9EATHYPEt+v0Ixm7qCOTHJZuW9khtgRIdiQj/VNpr
 vtNrsWS0sWz/IC4ySwbVYfc1fUpIMTlFg1d5Ad55KGD2bQE3JKI2k70F2SMrKrQWlrTx
 QnszEyKrUqJ+wHVldJFI9rreWd6TDYhKBynNQz9QVtmJSdNQhbRKnXNEURpX/pwYZOrH
 IEog==
X-Gm-Message-State: AOJu0YyXwRucWg3PfwffEdBecLRE3MQNeO6bolGjGpMwALyANU65mFwf
 yzZRx5MD4B+BOwzjAG0L/CHviaDXcIvxNgWKYz7LoA0AUn1+5TGTY3kULZycVOCwPdTrWjqVnnJ
 obA6s6npgZ9ikh4boMCOU7k5KFzu4Yc34mv/5GXzlSM0ZKgQdIIw/Hn8+
X-Google-Smtp-Source: AGHT+IHWa1+GRAIo1vaQB6Uurt3J7E2pdoZZiu1GweNcYTeKn48WMkGYj+Novlpy/aOpVbbHBcJs2yyanQ38
X-Received: by 2002:a9d:7406:0:b0:6fd:5b31:7362 with SMTP id
 46e09a7af769-70075a75316mr5888711a34.35.1718928181670; 
 Thu, 20 Jun 2024 17:03:01 -0700 (PDT)
Received: from postal.iol.unh.edu (postal.iol.unh.edu.
 [2606:4100:3880:1234::84]) by smtp-relay.gmail.com with ESMTPS id
 46e09a7af769-7009c4de81fsm17505a34.1.2024.06.20.17.03.01
 (version=TLS1_2 cipher=ECDHE-ECDSA-AES128-GCM-SHA256 bits=128/128);
 Thu, 20 Jun 2024 17:03:01 -0700 (PDT)
X-Relaying-Domain: iol.unh.edu
Date: Thu, 20 Jun 2024 17:03:01 -0700 (PDT)
Message-ID: <6674c335.050a0220.3a2a2.14f5SMTPIN_ADDED_MISSING@mx.google.com>
Received: from [172.21.0.8] (unknown [172.18.0.240])
 by postal.iol.unh.edu (Postfix) with ESMTP id 1892F605C380;
 Thu, 20 Jun 2024 20:03:01 -0400 (EDT)
Subject: |SUCCESS| pw141446-141448 [PATCH] [v4,3/3] dts: Improve logging for 
From: dpdklab@iol.unh.edu
To: Test Report <test-report@dpdk.org>
Cc: dpdk-test-reports@iol.unh.edu
In-Reply-To: <20240620173609.15375-4-jspewock@iol.unh.edu>
References: <20240620173609.15375-4-jspewock@iol.unh.edu>
Content-Type: text/plain
X-BeenThere: test-report@dpdk.org
X-Mailman-Version: 2.1.29
Precedence: list
List-Id: automatic DPDK test reports <test-report.dpdk.org>
List-Unsubscribe: <https://mails.dpdk.org/options/test-report>,
 <mailto:test-report-request@dpdk.org?subject=unsubscribe>
List-Archive: <http://mails.dpdk.org/archives/test-report/>
List-Post: <mailto:test-report@dpdk.org>
List-Help: <mailto:test-report-request@dpdk.org?subject=help>
List-Subscribe: <https://mails.dpdk.org/listinfo/test-report>,
 <mailto:test-report-request@dpdk.org?subject=subscribe>
Errors-To: test-report-bounces@dpdk.org

Test-Label: iol-abi-testing
Test-Status: SUCCESS
http://dpdk.org/patch/141448

_Testing PASS_

Submitter: Jeremy Spewock <jspewock@iol.unh.edu>
Date: Thursday, June 20 2024 17:36:09 
DPDK git baseline: Repo:dpdk
  Branch: master
  CommitID:4a44d97f0a52a76258c6a6cb6a713f4380a8ab1f

141446-141448 --> testing pass

Test environment and result as below:

+------------------+----------+
|   Environment    | abi_test |
+==================+==========+
| Fedora 37        | PASS     |
+------------------+----------+
| Fedora 38        | PASS     |
+------------------+----------+
| Fedora 39        | PASS     |
+------------------+----------+
| Ubuntu 24.04     | PASS     |
+------------------+----------+
| CentOS Stream 8  | PASS     |
+------------------+----------+
| CentOS Stream 9  | PASS     |
+------------------+----------+
| Fedora 40        | PASS     |
+------------------+----------+
| Debian Bullseye  | PASS     |
+------------------+----------+
| Debian 12        | PASS     |
+------------------+----------+
| RHEL8            | PASS     |
+------------------+----------+
| openSUSE Leap 15 | PASS     |
+------------------+----------+
| Ubuntu 22.04     | PASS     |
+------------------+----------+
| RHEL9            | PASS     |
+------------------+----------+


Fedora 37
	Kernel: Depends on container host system
	Compiler: gcc 12.3.1

Fedora 38
	Kernel: Depends on container host
	Compiler: clang 16.0.6

Fedora 39
	Kernel: Depends on container host
	Compiler: clang 17.0.6

Ubuntu 24.04
	Kernel: 5.4.0-167-generic
	Compiler: gcc 13.2.0

CentOS Stream 8
	Kernel: 5.4.0-167-generic
	Compiler: gcc 8.5.0 20210514

CentOS Stream 9
	Kernel: 5.4.0-167-generic
	Compiler: gcc 11.4.1 20230605

Fedora 40
	Kernel: Depends on container host
	Compiler: clang 18.1.6

Debian Bullseye
	Kernel: 5.4.0-167-generic
	Compiler: gcc 10.2.1-6

Debian 12
	Kernel: Container Host Kernel
	Compiler: gcc 12.2.0

RHEL8
	Kernel: 5.4.0-167-generic
	Compiler: gcc 8.5.0 20210514 (Red Hat 8.5.0-20)

openSUSE Leap 15
	Kernel: 5.4.0-167-generic
	Compiler: gcc 7.5.0

Ubuntu 22.04
	Kernel: 5.4.0-167-generic
	Compiler: gcc 11.4.0

RHEL9
	Kernel: Depends on container host
	Compiler: gcc 11.4.1

To view detailed results, visit:
https://lab.dpdk.org/results/dashboard/patchsets/30265/

UNH-IOL DPDK Community Lab

To manage your email subscriptions, visit: 
https://lab.dpdk.org/results/dashboard/preferences/subscriptions/