From mboxrd@z Thu Jan  1 00:00:00 1970
Return-Path: <test-report-bounces@dpdk.org>
Received: from mails.dpdk.org (mails.dpdk.org [217.70.189.124])
	by inbox.dpdk.org (Postfix) with ESMTP id 31A43454B1
	for <public@inbox.dpdk.org>; Fri, 21 Jun 2024 02:09:03 +0200 (CEST)
Received: from mails.dpdk.org (localhost [127.0.0.1])
	by mails.dpdk.org (Postfix) with ESMTP id 2CA3640265;
	Fri, 21 Jun 2024 02:09:03 +0200 (CEST)
Received: from mail-yb1-f226.google.com (mail-yb1-f226.google.com
 [209.85.219.226])
 by mails.dpdk.org (Postfix) with ESMTP id 3D5BE4025E
 for <test-report@dpdk.org>; Fri, 21 Jun 2024 02:09:02 +0200 (CEST)
Received: by mail-yb1-f226.google.com with SMTP id
 3f1490d57ef6-e02da9b2db7so1051859276.3
 for <test-report@dpdk.org>; Thu, 20 Jun 2024 17:09:02 -0700 (PDT)
DKIM-Signature: v=1; a=rsa-sha256; c=relaxed/relaxed;
 d=iol.unh.edu; s=unh-iol; t=1718928541; x=1719533341; darn=dpdk.org;
 h=references:in-reply-to:cc:to:from:subject:message-id:date:from:to
 :cc:subject:date:message-id:reply-to;
 bh=j5It17UFUvnaiRsm++cSULnVOkl1tnzOayMd5bY8YV0=;
 b=cmF2YHmfosrYYPS9pMA6x34nE0jB5MLtXpmpmJfZSM+36hoQI3hkh27s7pPo9yUVBk
 24R8P0J+Qo1iB+GF12KvRccrolhOIwbUgJ36Ky/wRagzKEiIydCZdRKuvXdYPbmpvXUj
 mLMlskGal41zUh+4M6QMF8hOVA+O6KAT89m54=
X-Google-DKIM-Signature: v=1; a=rsa-sha256; c=relaxed/relaxed;
 d=1e100.net; s=20230601; t=1718928541; x=1719533341;
 h=references:in-reply-to:cc:to:from:subject:message-id:date
 :x-gm-message-state:from:to:cc:subject:date:message-id:reply-to;
 bh=j5It17UFUvnaiRsm++cSULnVOkl1tnzOayMd5bY8YV0=;
 b=CJkZ0TDZ2S3QiLxH2osyAGLkfq7YK9FYm5MTJvs+OLR1xdOuuXWDr49Ty4uhBLrVj0
 cCLA2u9AxS/oKls9t6aJ8WrxxprG9qq3aZQ1xE+SxRCmAKEs7HuNpKqMYLOLh7coc5XH
 dx+kn+SC1+xKK0X/eknEiPR90UWmOQZ/oibw0u+7K0XazikMMCSr9eEv4q57Bw3MRjTF
 DkpWD8z3h1VFHrcOy/W7qvr77Im/lA7KnyXbGZRAmn3TkqwXNdNbCVDsP3exouH2e+wV
 5cNUVxVxyG2aOFvvAHbWzkrhYYc5oP7LOJgJVvHCaMa9OLonTKtRtsplqMgbQtWk1r0/
 GNRw==
X-Gm-Message-State: AOJu0YyLHfPxC2Xm07XmdE0LABNq1RHNiefR/4PAAcq3xRHjEvVDjsis
 OSQM/3sk46/lLG5HJQMilyIi6sjXUiNJwASMhkk5eUr+Q9X34a3UB3Qh9KWptyv+S1wHgYldlhU
 CkN+syHaSg6gri76rzpVs6bxnRQl38K9cptHzfZVa+XGgKtRbEljo0/5p
X-Google-Smtp-Source: AGHT+IFdpJZTAbapOdqvN3AJ5/TceFY8GkMiGqXEhHPjI5QpyCLUdDeqN69EDgI3ulUTMhaQVzeok9XEtb5M
X-Received: by 2002:a0d:c741:0:b0:631:259b:fcac with SMTP id
 00721157ae682-63a8e5b67damr69317427b3.31.1718928541290; 
 Thu, 20 Jun 2024 17:09:01 -0700 (PDT)
Received: from postal.iol.unh.edu (postal.iol.unh.edu.
 [2606:4100:3880:1234::84]) by smtp-relay.gmail.com with ESMTPS id
 6a1803df08f44-6b51ed35e93sm191356d6.41.2024.06.20.17.09.01
 (version=TLS1_2 cipher=ECDHE-ECDSA-AES128-GCM-SHA256 bits=128/128);
 Thu, 20 Jun 2024 17:09:01 -0700 (PDT)
X-Relaying-Domain: iol.unh.edu
Date: Thu, 20 Jun 2024 17:09:01 -0700 (PDT)
Message-ID: <6674c49d.050a0220.94f22.183fSMTPIN_ADDED_MISSING@mx.google.com>
Received: from [172.21.0.6] (unknown [172.18.0.240])
 by postal.iol.unh.edu (Postfix) with ESMTP id EF18F605C380;
 Thu, 20 Jun 2024 20:09:00 -0400 (EDT)
Subject: |SUCCESS| pw141434-141445 [PATCH] [12/12] crypto/cnxk: enable dual s
From: dpdklab@iol.unh.edu
To: Test Report <test-report@dpdk.org>
Cc: dpdk-test-reports@iol.unh.edu
In-Reply-To: <20240620145848.3461844-13-asasidharan@marvell.com>
References: <20240620145848.3461844-13-asasidharan@marvell.com>
Content-Type: text/plain
X-BeenThere: test-report@dpdk.org
X-Mailman-Version: 2.1.29
Precedence: list
List-Id: automatic DPDK test reports <test-report.dpdk.org>
List-Unsubscribe: <https://mails.dpdk.org/options/test-report>,
 <mailto:test-report-request@dpdk.org?subject=unsubscribe>
List-Archive: <http://mails.dpdk.org/archives/test-report/>
List-Post: <mailto:test-report@dpdk.org>
List-Help: <mailto:test-report-request@dpdk.org?subject=help>
List-Subscribe: <https://mails.dpdk.org/listinfo/test-report>,
 <mailto:test-report-request@dpdk.org?subject=subscribe>
Errors-To: test-report-bounces@dpdk.org

Test-Label: iol-unit-amd64-testing
Test-Status: SUCCESS
http://dpdk.org/patch/141445

_Testing PASS_

Submitter: Aakash Sasidharan <asasidharan@marvell.com>
Date: Thursday, June 20 2024 14:58:48 
DPDK git baseline: Repo:dpdk
  Branch: master
  CommitID:4a44d97f0a52a76258c6a6cb6a713f4380a8ab1f

141434-141445 --> testing pass

Test environment and result as below:

+------------------+----------------+
|   Environment    | dpdk_unit_test |
+==================+================+
| CentOS Stream 9  | PASS           |
+------------------+----------------+
| CentOS Stream 8  | PASS           |
+------------------+----------------+
| Debian Bullseye  | PASS           |
+------------------+----------------+
| Fedora 38        | PASS           |
+------------------+----------------+
| Debian 12        | PASS           |
+------------------+----------------+
| Fedora 37        | PASS           |
+------------------+----------------+
| Fedora 39        | PASS           |
+------------------+----------------+
| Fedora 40        | PASS           |
+------------------+----------------+
| RHEL8            | PASS           |
+------------------+----------------+
| openSUSE Leap 15 | PASS           |
+------------------+----------------+
| Ubuntu 22.04     | PASS           |
+------------------+----------------+
| Ubuntu 20.04     | PASS           |
+------------------+----------------+
| Ubuntu 24.04     | PASS           |
+------------------+----------------+
| RHEL9            | PASS           |
+------------------+----------------+


CentOS Stream 9
	Kernel: 5.4.0-167-generic
	Compiler: gcc 11.4.1 20230605

CentOS Stream 8
	Kernel: 5.4.0-167-generic
	Compiler: gcc 8.5.0 20210514

Debian Bullseye
	Kernel: 5.4.0-167-generic
	Compiler: gcc 10.2.1-6

Fedora 38
	Kernel: Depends on container host
	Compiler: gcc 13.2.1

Debian 12
	Kernel: Container Host Kernel
	Compiler: gcc 12.2.0

Fedora 37
	Kernel: Depends on container host system
	Compiler: gcc 12.3.1

Fedora 39
	Kernel: Depends on container host
	Compiler: gcc 13.2.1

Fedora 40
	Kernel: Depends on container host
	Compiler: gcc 14.1.1

RHEL8
	Kernel: 5.4.0-167-generic
	Compiler: gcc 8.5.0 20210514 (Red Hat 8.5.0-20)

openSUSE Leap 15
	Kernel: 5.4.0-167-generic
	Compiler: gcc 7.5.0

Ubuntu 22.04
	Kernel: 5.4.0-167-generic
	Compiler: gcc 11.4.0

Ubuntu 20.04
	Kernel: 5.4.0-167-generic
	Compiler: gcc 9.4.0-1ubuntu1~20.04.1

Ubuntu 24.04
	Kernel: 5.4.0-167-generic
	Compiler: gcc 13.2.0

RHEL9
	Kernel: Depends on container host
	Compiler: gcc 11.4.1

To view detailed results, visit:
https://lab.dpdk.org/results/dashboard/patchsets/30264/

UNH-IOL DPDK Community Lab

To manage your email subscriptions, visit: 
https://lab.dpdk.org/results/dashboard/preferences/subscriptions/