From mboxrd@z Thu Jan  1 00:00:00 1970
Return-Path: <test-report-bounces@dpdk.org>
Received: from mails.dpdk.org (mails.dpdk.org [217.70.189.124])
	by inbox.dpdk.org (Postfix) with ESMTP id C6EB5454B1
	for <public@inbox.dpdk.org>; Fri, 21 Jun 2024 02:53:36 +0200 (CEST)
Received: from mails.dpdk.org (localhost [127.0.0.1])
	by mails.dpdk.org (Postfix) with ESMTP id C242140265;
	Fri, 21 Jun 2024 02:53:36 +0200 (CEST)
Received: from mail-oo1-f97.google.com (mail-oo1-f97.google.com
 [209.85.161.97]) by mails.dpdk.org (Postfix) with ESMTP id C4B1C4025E
 for <test-report@dpdk.org>; Fri, 21 Jun 2024 02:53:35 +0200 (CEST)
Received: by mail-oo1-f97.google.com with SMTP id
 006d021491bc7-5bad217c51aso802064eaf.1
 for <test-report@dpdk.org>; Thu, 20 Jun 2024 17:53:35 -0700 (PDT)
DKIM-Signature: v=1; a=rsa-sha256; c=relaxed/relaxed;
 d=iol.unh.edu; s=unh-iol; t=1718931215; x=1719536015; darn=dpdk.org;
 h=references:in-reply-to:cc:to:from:subject:message-id:date:from:to
 :cc:subject:date:message-id:reply-to;
 bh=I1rdvfAhCKTjYL5reXlZySplv87bqcyM3Q9ZPlPrqYw=;
 b=KbN0SAgI81uLF5qvfjUGTCQiHfoy8psbclEIsJ2VGG6Ipamx9aLjn3DmnjY3kJCKgH
 BJu+ScdhhNspmBVhMTtOJd5klcLVF31MQL1W2X5xEYYu9d9uj8bOwOikFJa2dVk0nyQQ
 9jL5lFfCYpsCmFIyRANm53pNSUF6Otq4GCAJw=
X-Google-DKIM-Signature: v=1; a=rsa-sha256; c=relaxed/relaxed;
 d=1e100.net; s=20230601; t=1718931215; x=1719536015;
 h=references:in-reply-to:cc:to:from:subject:message-id:date
 :x-gm-message-state:from:to:cc:subject:date:message-id:reply-to;
 bh=I1rdvfAhCKTjYL5reXlZySplv87bqcyM3Q9ZPlPrqYw=;
 b=Pee2MuDY2q3+6uDtvbduoVGTDcbZ50gY0FSAfGmuF/X3cRdwtjXZnO+2NThtG5ezfR
 nsmuHjZS/zm3U9+aZlaJ951y0JrrfAJ/fwAc2051ngeO2LfV/ONEVZahhov6rFEcXNgt
 ZTkpiwU3i863q8TSJGxWGpwCpnmdTjRMi8fuc1YRQiH40Tl6ogeqoJobtKzUbBxzO4c3
 E2KF4pivtbt/hxdAhS45Wh4zY8NjohtQM/SE1Y1JydtrpWpJ8bbqVVqAPvIyiuhbvuv5
 RlgWTh2LukGDgJxMEEDuJ3lQhnSgHwpzhi+ufs9n+A02JILkDu42USVGC0kMf01o2wR7
 YH7Q==
X-Gm-Message-State: AOJu0Yzy1rCcgl5DQElsRYKh9O5fx0aOAr+QdPfe32LRF9XyVsUHfdFS
 IIfidDuptLJ0beWOj9XcREqaFVhpAxv/nwQXbiKrXeB1NS2xxZ7IltDi1Tk4rnt4JouIl3tqCGJ
 zaKVzlSAl/OksykuoEc/TlHzsn7ULTmbnwf729qlf+iMaMZ73BIKRPljZ
X-Google-Smtp-Source: AGHT+IGxQOIuoTD0XHRryhayEAzfg94p4P62xa7zX+2ck9jMk+n/l1uocZuwFNwQKsOANFFNudEbP7FQLXie
X-Received: by 2002:a05:6358:39a3:b0:19f:4a60:e6fb with SMTP id
 e5c5f4694b2df-1a1fd3d8a2amr860174355d.7.1718931214907; 
 Thu, 20 Jun 2024 17:53:34 -0700 (PDT)
Received: from postal.iol.unh.edu (postal.iol.unh.edu.
 [2606:4100:3880:1234::84]) by smtp-relay.gmail.com with ESMTPS id
 41be03b00d2f7-716b3ee7898sm16866a12.19.2024.06.20.17.53.34
 (version=TLS1_2 cipher=ECDHE-ECDSA-AES128-GCM-SHA256 bits=128/128);
 Thu, 20 Jun 2024 17:53:34 -0700 (PDT)
X-Relaying-Domain: iol.unh.edu
Date: Thu, 20 Jun 2024 17:53:34 -0700 (PDT)
Message-ID: <6674cf0e.630a0220.91048.1655SMTPIN_ADDED_MISSING@mx.google.com>
Received: from [172.21.0.6] (unknown [172.18.0.240])
 by postal.iol.unh.edu (Postfix) with ESMTP id 25245605C380;
 Thu, 20 Jun 2024 20:53:34 -0400 (EDT)
Subject: |SUCCESS| pw141450-141459 [PATCH] [v4,13/13] eal: provide option to 
From: dpdklab@iol.unh.edu
To: Test Report <test-report@dpdk.org>
Cc: dpdk-test-reports@iol.unh.edu
In-Reply-To: <20240620175731.420639-14-mattias.ronnblom@ericsson.com>
References: <20240620175731.420639-14-mattias.ronnblom@ericsson.com>
Content-Type: text/plain
X-BeenThere: test-report@dpdk.org
X-Mailman-Version: 2.1.29
Precedence: list
List-Id: automatic DPDK test reports <test-report.dpdk.org>
List-Unsubscribe: <https://mails.dpdk.org/options/test-report>,
 <mailto:test-report-request@dpdk.org?subject=unsubscribe>
List-Archive: <http://mails.dpdk.org/archives/test-report/>
List-Post: <mailto:test-report@dpdk.org>
List-Help: <mailto:test-report-request@dpdk.org?subject=help>
List-Subscribe: <https://mails.dpdk.org/listinfo/test-report>,
 <mailto:test-report-request@dpdk.org?subject=subscribe>
Errors-To: test-report-bounces@dpdk.org

Test-Label: iol-unit-amd64-testing
Test-Status: SUCCESS
http://dpdk.org/patch/141459

_Testing PASS_

Submitter: Mattias Ronnblom <mattias.ronnblom@ericsson.com>
Date: Thursday, June 20 2024 17:57:31 
DPDK git baseline: Repo:dpdk
  Branch: master
  CommitID:4a44d97f0a52a76258c6a6cb6a713f4380a8ab1f

141450-141459 --> testing pass

Test environment and result as below:

+------------------+----------------+
|   Environment    | dpdk_unit_test |
+==================+================+
| CentOS Stream 8  | PASS           |
+------------------+----------------+
| CentOS Stream 9  | PASS           |
+------------------+----------------+
| Fedora 39        | PASS           |
+------------------+----------------+
| Fedora 38        | PASS           |
+------------------+----------------+
| Fedora 37        | PASS           |
+------------------+----------------+
| Debian Bullseye  | PASS           |
+------------------+----------------+
| Fedora 40        | PASS           |
+------------------+----------------+
| openSUSE Leap 15 | PASS           |
+------------------+----------------+
| RHEL8            | PASS           |
+------------------+----------------+
| RHEL9            | PASS           |
+------------------+----------------+


CentOS Stream 8
	Kernel: 5.4.0-167-generic
	Compiler: gcc 8.5.0 20210514

CentOS Stream 9
	Kernel: 5.4.0-167-generic
	Compiler: gcc 11.4.1 20230605

Fedora 39
	Kernel: Depends on container host
	Compiler: gcc 13.2.1

Fedora 38
	Kernel: Depends on container host
	Compiler: clang 16.0.6

Fedora 37
	Kernel: Depends on container host system
	Compiler: gcc 12.3.1

Debian Bullseye
	Kernel: 5.4.0-167-generic
	Compiler: gcc 10.2.1-6

Fedora 40
	Kernel: Depends on container host
	Compiler: gcc 14.1.1

openSUSE Leap 15
	Kernel: 5.4.0-167-generic
	Compiler: gcc 7.5.0

RHEL8
	Kernel: 5.4.0-167-generic
	Compiler: gcc 8.5.0 20210514 (Red Hat 8.5.0-20)

RHEL9
	Kernel: Depends on container host
	Compiler: gcc 11.4.1

To view detailed results, visit:
https://lab.dpdk.org/results/dashboard/patchsets/30266/

UNH-IOL DPDK Community Lab

To manage your email subscriptions, visit: 
https://lab.dpdk.org/results/dashboard/preferences/subscriptions/