From mboxrd@z Thu Jan  1 00:00:00 1970
Return-Path: <test-report-bounces@dpdk.org>
Received: from mails.dpdk.org (mails.dpdk.org [217.70.189.124])
	by inbox.dpdk.org (Postfix) with ESMTP id 0514C454B3
	for <public@inbox.dpdk.org>; Fri, 21 Jun 2024 04:41:13 +0200 (CEST)
Received: from mails.dpdk.org (localhost [127.0.0.1])
	by mails.dpdk.org (Postfix) with ESMTP id F1C7842E87;
	Fri, 21 Jun 2024 04:41:13 +0200 (CEST)
Received: from mail-oi1-f228.google.com (mail-oi1-f228.google.com
 [209.85.167.228])
 by mails.dpdk.org (Postfix) with ESMTP id CC5F74025E
 for <test-report@dpdk.org>; Fri, 21 Jun 2024 04:40:57 +0200 (CEST)
Received: by mail-oi1-f228.google.com with SMTP id
 5614622812f47-3c9cc681e4fso784055b6e.0
 for <test-report@dpdk.org>; Thu, 20 Jun 2024 19:40:57 -0700 (PDT)
DKIM-Signature: v=1; a=rsa-sha256; c=relaxed/relaxed;
 d=iol.unh.edu; s=unh-iol; t=1718937657; x=1719542457; darn=dpdk.org;
 h=references:in-reply-to:cc:to:from:subject:message-id:date:from:to
 :cc:subject:date:message-id:reply-to;
 bh=r1CmjZsNtSJPuFXnsVWp4xDjT1vQBhKL+kDhxdH+Xbg=;
 b=hPWFs9HOFu607xRChS7NcKvN9fdc5mBdnRJqlp+kpJ1sv3GMTQxNp/WsXk6oNGCvzG
 Un/eMQSbSXIcWa7Ok/hs8IA//o1dsffaRzqnSqg09qQ6GOx8ZR9psnbxBRjukdft/YCc
 vceFdxH78VklTDz4acZOOlsc+DHT1hkALcKJY=
X-Google-DKIM-Signature: v=1; a=rsa-sha256; c=relaxed/relaxed;
 d=1e100.net; s=20230601; t=1718937657; x=1719542457;
 h=references:in-reply-to:cc:to:from:subject:message-id:date
 :x-gm-message-state:from:to:cc:subject:date:message-id:reply-to;
 bh=r1CmjZsNtSJPuFXnsVWp4xDjT1vQBhKL+kDhxdH+Xbg=;
 b=pGPT2TUEe9qDW9ZN+guafGlbeCqZaalG77tSJTVIHbnrfF3qg2Tgdc3AHFVx/4ui5T
 h7BAmMd8H1RJJ9cGFhmSsQ3jGCEUaOmxXJpsYObZ9xlglB6HnD7EBMhf/Zz2+NMsBcHU
 lBg0RdmadHzsW5i5P9homnWIZHVb2SKSMrGa7qb5nfFGSV6OojIp8sfKrV1F618DN5Eg
 8qEraPVN1U+GrocxL6jjTauEMXEkJjGEMrv3/3stRaqI6DBJLolYw7kmYeRXPoMC/8DO
 2f5sYdKFvRm5on+bUyNp8OH8S0mvZ+/EcD5D+AElDnkufr4j3+hpdrScsXZKFu/fcxI7
 eV7g==
X-Gm-Message-State: AOJu0YwlVjv5TobjVnxpX705qzfWSx6Trgnpfk2KbMN+o6+/dV7fuaj7
 RuJCzOML+Uguonvdj6zQ293ZwAe50tBN6Bz+xOja3qm94OuqKPzN75Y3BzQxgA/N/lTjDXqtlco
 77kEpA+sxOD7D9MnsGEGHsKLsu4IRwiH6w/+UPpuNHjkYYqtHy061GEfa
X-Google-Smtp-Source: AGHT+IEYe+CdpwxwMcUF1ILzde5sEiOq2qxSGqRqdZX38TFe6A7rBAQXTtxg3/V8s1Lw+7pyFmoPZn2DnvEJ
X-Received: by 2002:a05:6808:15a5:b0:3d5:2365:4fc7 with SMTP id
 5614622812f47-3d5236554camr6068444b6e.12.1718937657072; 
 Thu, 20 Jun 2024 19:40:57 -0700 (PDT)
Received: from postal.iol.unh.edu (postal.iol.unh.edu.
 [2606:4100:3880:1234::84]) by smtp-relay.gmail.com with ESMTPS id
 d2e1a72fcca58-706511be4a6sm23978b3a.15.2024.06.20.19.40.56
 (version=TLS1_2 cipher=ECDHE-ECDSA-AES128-GCM-SHA256 bits=128/128);
 Thu, 20 Jun 2024 19:40:57 -0700 (PDT)
X-Relaying-Domain: iol.unh.edu
Date: Thu, 20 Jun 2024 19:40:57 -0700 (PDT)
Message-ID: <6674e839.050a0220.d2a6d.1ee6SMTPIN_ADDED_MISSING@mx.google.com>
Received: from [172.21.0.6] (unknown [172.18.0.240])
 by postal.iol.unh.edu (Postfix) with ESMTP id 3ACBF6052754;
 Thu, 20 Jun 2024 22:40:56 -0400 (EDT)
Subject: |SUCCESS| pw141427-141433 [PATCH] [v2,7/7] test/security: use single
From: dpdklab@iol.unh.edu
To: Test Report <test-report@dpdk.org>
Cc: dpdk-test-reports@iol.unh.edu
In-Reply-To: <20240620145056.3456650-8-asasidharan@marvell.com>
References: <20240620145056.3456650-8-asasidharan@marvell.com>
Content-Type: text/plain
X-BeenThere: test-report@dpdk.org
X-Mailman-Version: 2.1.29
Precedence: list
List-Id: automatic DPDK test reports <test-report.dpdk.org>
List-Unsubscribe: <https://mails.dpdk.org/options/test-report>,
 <mailto:test-report-request@dpdk.org?subject=unsubscribe>
List-Archive: <http://mails.dpdk.org/archives/test-report/>
List-Post: <mailto:test-report@dpdk.org>
List-Help: <mailto:test-report-request@dpdk.org?subject=help>
List-Subscribe: <https://mails.dpdk.org/listinfo/test-report>,
 <mailto:test-report-request@dpdk.org?subject=subscribe>
Errors-To: test-report-bounces@dpdk.org

Test-Label: iol-abi-testing
Test-Status: SUCCESS
http://dpdk.org/patch/141433

_Testing PASS_

Submitter: Aakash Sasidharan <asasidharan@marvell.com>
Date: Thursday, June 20 2024 14:50:56 
DPDK git baseline: Repo:dpdk
  Branch: master
  CommitID:4a44d97f0a52a76258c6a6cb6a713f4380a8ab1f

141427-141433 --> testing pass

Test environment and result as below:

+------------------+----------+
|   Environment    | abi_test |
+==================+==========+
| Debian Bullseye  | PASS     |
+------------------+----------+
| CentOS Stream 8  | PASS     |
+------------------+----------+
| CentOS Stream 9  | PASS     |
+------------------+----------+
| Debian 12        | PASS     |
+------------------+----------+
| Fedora 38        | PASS     |
+------------------+----------+
| Fedora 40        | PASS     |
+------------------+----------+
| Fedora 37        | PASS     |
+------------------+----------+
| Fedora 39        | PASS     |
+------------------+----------+
| Ubuntu 22.04     | PASS     |
+------------------+----------+
| openSUSE Leap 15 | PASS     |
+------------------+----------+
| RHEL9            | PASS     |
+------------------+----------+
| Ubuntu 24.04     | PASS     |
+------------------+----------+
| RHEL8            | PASS     |
+------------------+----------+


Debian Bullseye
	Kernel: 5.4.0-167-generic
	Compiler: gcc 10.2.1-6

CentOS Stream 8
	Kernel: 5.4.0-167-generic
	Compiler: gcc 8.5.0 20210514

CentOS Stream 9
	Kernel: 5.4.0-167-generic
	Compiler: gcc 11.4.1 20230605

Debian 12
	Kernel: Container Host Kernel
	Compiler: gcc 12.2.0

Fedora 38
	Kernel: Depends on container host
	Compiler: clang 16.0.6

Fedora 40
	Kernel: Depends on container host
	Compiler: clang 18.1.6

Fedora 37
	Kernel: Depends on container host system
	Compiler: gcc 12.3.1

Fedora 39
	Kernel: Depends on container host
	Compiler: gcc 13.2.1

Ubuntu 22.04
	Kernel: 5.4.0-167-generic
	Compiler: gcc 11.4.0

openSUSE Leap 15
	Kernel: 5.4.0-167-generic
	Compiler: gcc 7.5.0

RHEL9
	Kernel: Depends on container host
	Compiler: gcc 11.4.1

Ubuntu 24.04
	Kernel: 5.4.0-167-generic
	Compiler: gcc 13.2.0

RHEL8
	Kernel: 5.4.0-167-generic
	Compiler: gcc 8.5.0 20210514 (Red Hat 8.5.0-20)

To view detailed results, visit:
https://lab.dpdk.org/results/dashboard/patchsets/30263/

UNH-IOL DPDK Community Lab

To manage your email subscriptions, visit: 
https://lab.dpdk.org/results/dashboard/preferences/subscriptions/