From mboxrd@z Thu Jan  1 00:00:00 1970
Return-Path: <test-report-bounces@dpdk.org>
Received: from mails.dpdk.org (mails.dpdk.org [217.70.189.124])
	by inbox.dpdk.org (Postfix) with ESMTP id 19E50454B2
	for <public@inbox.dpdk.org>; Fri, 21 Jun 2024 04:48:42 +0200 (CEST)
Received: from mails.dpdk.org (localhost [127.0.0.1])
	by mails.dpdk.org (Postfix) with ESMTP id 1606D40265;
	Fri, 21 Jun 2024 04:48:42 +0200 (CEST)
Received: from mail-ua1-f99.google.com (mail-ua1-f99.google.com
 [209.85.222.99]) by mails.dpdk.org (Postfix) with ESMTP id AE77C4025E
 for <test-report@dpdk.org>; Fri, 21 Jun 2024 04:48:40 +0200 (CEST)
Received: by mail-ua1-f99.google.com with SMTP id
 a1e0cc1a2514c-80f50f01b32so1368080241.0
 for <test-report@dpdk.org>; Thu, 20 Jun 2024 19:48:40 -0700 (PDT)
DKIM-Signature: v=1; a=rsa-sha256; c=relaxed/relaxed;
 d=iol.unh.edu; s=unh-iol; t=1718938120; x=1719542920; darn=dpdk.org;
 h=references:in-reply-to:cc:to:from:subject:message-id:date:from:to
 :cc:subject:date:message-id:reply-to;
 bh=atv5SwoSSOGztPK68/drN6BhrYJnbldt6CsMq1mQq6k=;
 b=QYTjr7ZzUz9jftEYSWCrbzSXy97pukyW1heXxvcOgchSK2jYR5y8TZ8UmX0DS3o7Ed
 H/8i3Y+FXY1HosnPeUZQL1+XIn4JseBdfeWwiN8pcOvhtQT9v5gWLr41p8IDyHT+tTkD
 RQcq1T/ftbdmEpzhGZ56iZiS2HA0TEM5dCqOU=
X-Google-DKIM-Signature: v=1; a=rsa-sha256; c=relaxed/relaxed;
 d=1e100.net; s=20230601; t=1718938120; x=1719542920;
 h=references:in-reply-to:cc:to:from:subject:message-id:date
 :x-gm-message-state:from:to:cc:subject:date:message-id:reply-to;
 bh=atv5SwoSSOGztPK68/drN6BhrYJnbldt6CsMq1mQq6k=;
 b=dwljP7Bkho5jI1BtHGhh/p2WsCLDkekZOgsdQ+WXQI287cxzpJb64pYJnIuds2wsyc
 UDLwJGueS9PRjaExza4cQu9oQzGhzNDl936iuBAhvBZWLD15zFOu0m9HCg2CL94UKBme
 JEdFiU8QAQEVYzO/ixohG0TGesYru2Ty1E/dgoyB9t5kjgoukJKurTE3kfI+kLeSuNY9
 P1oCe+RzGdGXRM5ebuICroJmUJmM8gnLAfLAyioSJnZD8GKi3wu9+3CtN5FRUMTu11bI
 X4DBIOejevNsTXMFgZfnOc6gP76LbWwRGDoHakN2Qrt8WMsUf65IUA8xqItWMJxR/e6k
 lgfA==
X-Gm-Message-State: AOJu0Ywg5f73g4+3U6Gl5ml9FYqiBS/K5v72cIGhLB7C6H7as8xzhRyR
 S9POymE7y1YzCg+Vdbdd1+P+z8V8jS8Z0HDtovFLsOGUlQ8XV/FWGGiPZoBGRzHcxKxf3RDR+7v
 cCcbYAwV3XOYcrCg/pWyF8+LeJPkxFyY1muVg2g9k
X-Google-Smtp-Source: AGHT+IEAirN8afnjUkYhpcvNaCb64McFWU6aLzqDQjtGjN6tnKmuc87EsREFut97d45x8bh6VfMP7nkUnvJD
X-Received: by 2002:a05:6102:236c:b0:48d:cc08:e1dc with SMTP id
 ada2fe7eead31-48f02b288cdmr8177337137.1.1718938120080; 
 Thu, 20 Jun 2024 19:48:40 -0700 (PDT)
Received: from postal.iol.unh.edu (postal.iol.unh.edu. [132.177.123.84])
 by smtp-relay.gmail.com with ESMTPS id
 ada2fe7eead31-48f332640fbsm26515137.4.2024.06.20.19.48.39
 (version=TLS1_2 cipher=ECDHE-ECDSA-AES128-GCM-SHA256 bits=128/128);
 Thu, 20 Jun 2024 19:48:40 -0700 (PDT)
X-Relaying-Domain: iol.unh.edu
Date: Thu, 20 Jun 2024 19:48:40 -0700 (PDT)
Message-ID: <6674ea08.050a0220.6b8ba.20f0SMTPIN_ADDED_MISSING@mx.google.com>
Received: from [172.21.0.8] (unknown [172.18.0.240])
 by postal.iol.unh.edu (Postfix) with ESMTP id 7F1D76050A9C;
 Thu, 20 Jun 2024 22:48:39 -0400 (EDT)
Subject: |SUCCESS| pw141446-141448 [PATCH] [v4,3/3] dts: Improve logging for 
From: dpdklab@iol.unh.edu
To: Test Report <test-report@dpdk.org>
Cc: dpdk-test-reports@iol.unh.edu
In-Reply-To: <20240620173609.15375-4-jspewock@iol.unh.edu>
References: <20240620173609.15375-4-jspewock@iol.unh.edu>
Content-Type: text/plain
X-BeenThere: test-report@dpdk.org
X-Mailman-Version: 2.1.29
Precedence: list
List-Id: automatic DPDK test reports <test-report.dpdk.org>
List-Unsubscribe: <https://mails.dpdk.org/options/test-report>,
 <mailto:test-report-request@dpdk.org?subject=unsubscribe>
List-Archive: <http://mails.dpdk.org/archives/test-report/>
List-Post: <mailto:test-report@dpdk.org>
List-Help: <mailto:test-report-request@dpdk.org?subject=help>
List-Subscribe: <https://mails.dpdk.org/listinfo/test-report>,
 <mailto:test-report-request@dpdk.org?subject=subscribe>
Errors-To: test-report-bounces@dpdk.org

Test-Label: iol-unit-amd64-testing
Test-Status: SUCCESS
http://dpdk.org/patch/141448

_Testing PASS_

Submitter: Jeremy Spewock <jspewock@iol.unh.edu>
Date: Thursday, June 20 2024 17:36:09 
DPDK git baseline: Repo:dpdk
  Branch: master
  CommitID:4a44d97f0a52a76258c6a6cb6a713f4380a8ab1f

141446-141448 --> testing pass

Test environment and result as below:

+------------------+----------------+
|   Environment    | dpdk_unit_test |
+==================+================+
| CentOS Stream 9  | PASS           |
+------------------+----------------+
| Debian 12        | PASS           |
+------------------+----------------+
| CentOS Stream 8  | PASS           |
+------------------+----------------+
| Debian Bullseye  | PASS           |
+------------------+----------------+
| Fedora 37        | PASS           |
+------------------+----------------+
| Fedora 39        | PASS           |
+------------------+----------------+
| Fedora 40        | PASS           |
+------------------+----------------+
| Fedora 38        | PASS           |
+------------------+----------------+
| openSUSE Leap 15 | PASS           |
+------------------+----------------+
| RHEL8            | PASS           |
+------------------+----------------+
| RHEL9            | PASS           |
+------------------+----------------+
| Ubuntu 22.04     | PASS           |
+------------------+----------------+
| Ubuntu 20.04     | PASS           |
+------------------+----------------+
| Ubuntu 24.04     | PASS           |
+------------------+----------------+


CentOS Stream 9
	Kernel: 5.4.0-167-generic
	Compiler: gcc 11.4.1 20230605

Debian 12
	Kernel: Container Host Kernel
	Compiler: gcc 12.2.0

CentOS Stream 8
	Kernel: 5.4.0-167-generic
	Compiler: gcc 8.5.0 20210514

Debian Bullseye
	Kernel: 5.4.0-167-generic
	Compiler: gcc 10.2.1-6

Fedora 37
	Kernel: Depends on container host system
	Compiler: gcc 12.3.1

Fedora 39
	Kernel: Depends on container host
	Compiler: gcc 13.2.1

Fedora 40
	Kernel: Depends on container host
	Compiler: gcc 14.1.1

Fedora 38
	Kernel: Depends on container host
	Compiler: clang 16.0.6

openSUSE Leap 15
	Kernel: 5.4.0-167-generic
	Compiler: gcc 7.5.0

RHEL8
	Kernel: 5.4.0-167-generic
	Compiler: gcc 8.5.0 20210514 (Red Hat 8.5.0-20)

RHEL9
	Kernel: Depends on container host
	Compiler: gcc 11.4.1

Ubuntu 22.04
	Kernel: 5.4.0-167-generic
	Compiler: gcc 11.4.0

Ubuntu 20.04
	Kernel: 5.4.0-167-generic
	Compiler: gcc 9.4.0-1ubuntu1~20.04.1

Ubuntu 24.04
	Kernel: 5.4.0-167-generic
	Compiler: gcc 13.2.0

To view detailed results, visit:
https://lab.dpdk.org/results/dashboard/patchsets/30265/

UNH-IOL DPDK Community Lab

To manage your email subscriptions, visit: 
https://lab.dpdk.org/results/dashboard/preferences/subscriptions/