From mboxrd@z Thu Jan  1 00:00:00 1970
Return-Path: <test-report-bounces@dpdk.org>
Received: from mails.dpdk.org (mails.dpdk.org [217.70.189.124])
	by inbox.dpdk.org (Postfix) with ESMTP id 0A021454B2
	for <public@inbox.dpdk.org>; Fri, 21 Jun 2024 05:21:42 +0200 (CEST)
Received: from mails.dpdk.org (localhost [127.0.0.1])
	by mails.dpdk.org (Postfix) with ESMTP id 066E64042E;
	Fri, 21 Jun 2024 05:21:42 +0200 (CEST)
Received: from mail-yw1-f225.google.com (mail-yw1-f225.google.com
 [209.85.128.225])
 by mails.dpdk.org (Postfix) with ESMTP id EF6E64026A
 for <test-report@dpdk.org>; Fri, 21 Jun 2024 05:21:39 +0200 (CEST)
Received: by mail-yw1-f225.google.com with SMTP id
 00721157ae682-63bf211542cso13989927b3.1
 for <test-report@dpdk.org>; Thu, 20 Jun 2024 20:21:39 -0700 (PDT)
DKIM-Signature: v=1; a=rsa-sha256; c=relaxed/relaxed;
 d=iol.unh.edu; s=unh-iol; t=1718940099; x=1719544899; darn=dpdk.org;
 h=references:in-reply-to:cc:to:from:subject:message-id:date:from:to
 :cc:subject:date:message-id:reply-to;
 bh=atv5SwoSSOGztPK68/drN6BhrYJnbldt6CsMq1mQq6k=;
 b=AQ5RmZtQKU3J93ivlzh4kBs6eKyA/7Ml566dicJ5ZVwUNV+e2aU821leFEYZQzpnGq
 L/SG6N6vJbleVAOGinY22hzKua8JPXYEjWxuSA3lykS3BP1Py+vTagWock3ZvQwW2ABD
 Q4zsUL2kWzK8K7x9Ndo/aYokUm7++447CS6Q4=
X-Google-DKIM-Signature: v=1; a=rsa-sha256; c=relaxed/relaxed;
 d=1e100.net; s=20230601; t=1718940099; x=1719544899;
 h=references:in-reply-to:cc:to:from:subject:message-id:date
 :x-gm-message-state:from:to:cc:subject:date:message-id:reply-to;
 bh=atv5SwoSSOGztPK68/drN6BhrYJnbldt6CsMq1mQq6k=;
 b=ib2JjlhIQis4NkByiB5B1nb55uarH2AYJfqRWJiPipfLwVrmfKEfieACEJ3boTCOI0
 wrw/s3J6w05ZhHm+2/cvN7TP/ZnZFoRH4M5j6o9y/IGsaNkqKwb4JxNC8bh05HThKXIW
 ghKJT4jFXoFztYLshRmCIajZyY6y06CgroKki26Zf6i4SftIWDMSZZLRhh7fZTZgnsLd
 5DdJq0wvwZDpD/j6jJYfTSJzxTB0ol4uqLVYaiATXRAwC9+9TdonQDzWa488eeB5JG4D
 hUp88t5zAAGJq0Oz+O1c7Kgk2JTLGkJdpbFHf4Hh1BEuxzKt438ZEL2RNGDvtFGtehpK
 TDDg==
X-Gm-Message-State: AOJu0YyOE0yZJzaNMDYKwXv+hqL4u3smQjekebXsZgclOKxSr4Lf6gq4
 2tYGSh5vJXdxiB4avOLQ7d6kdYCDbTPXfbThrH44wQH8A7CV31DPg5Xm5APn4gU5Fh82CDJW9lZ
 jxQKCD/EC7ptm58CeB6uU2E66p/HnjF6TQhqmO4nqcNdQyPx0xnEhoEEG
X-Google-Smtp-Source: AGHT+IGgpkr3yirdyqIk5sNX1Z0h69DUOP7+cLQIt+rDKw32JeB5QxXstpRch0S40EZstHeQuAim4lRmetay
X-Received: by 2002:a25:8385:0:b0:dfe:9f5:a9c3 with SMTP id
 3f1490d57ef6-e02be13af8emr7238395276.20.1718940099347; 
 Thu, 20 Jun 2024 20:21:39 -0700 (PDT)
Received: from postal.iol.unh.edu (postal.iol.unh.edu.
 [2606:4100:3880:1234::84]) by smtp-relay.gmail.com with ESMTPS id
 3f1490d57ef6-e02e61198ebsm29083276.5.2024.06.20.20.21.39
 (version=TLS1_2 cipher=ECDHE-ECDSA-AES128-GCM-SHA256 bits=128/128);
 Thu, 20 Jun 2024 20:21:39 -0700 (PDT)
X-Relaying-Domain: iol.unh.edu
Date: Thu, 20 Jun 2024 20:21:39 -0700 (PDT)
Message-ID: <6674f1c3.050a0220.a2c18.25f6SMTPIN_ADDED_MISSING@mx.google.com>
Received: from [172.21.0.6] (unknown [172.18.0.240])
 by postal.iol.unh.edu (Postfix) with ESMTP id 005606050A9C;
 Thu, 20 Jun 2024 23:21:39 -0400 (EDT)
Subject: |SUCCESS| pw141446-141448 [PATCH] [v4,3/3] dts: Improve logging for 
From: dpdklab@iol.unh.edu
To: Test Report <test-report@dpdk.org>
Cc: dpdk-test-reports@iol.unh.edu
In-Reply-To: <20240620173609.15375-4-jspewock@iol.unh.edu>
References: <20240620173609.15375-4-jspewock@iol.unh.edu>
Content-Type: text/plain
X-BeenThere: test-report@dpdk.org
X-Mailman-Version: 2.1.29
Precedence: list
List-Id: automatic DPDK test reports <test-report.dpdk.org>
List-Unsubscribe: <https://mails.dpdk.org/options/test-report>,
 <mailto:test-report-request@dpdk.org?subject=unsubscribe>
List-Archive: <http://mails.dpdk.org/archives/test-report/>
List-Post: <mailto:test-report@dpdk.org>
List-Help: <mailto:test-report-request@dpdk.org?subject=help>
List-Subscribe: <https://mails.dpdk.org/listinfo/test-report>,
 <mailto:test-report-request@dpdk.org?subject=subscribe>
Errors-To: test-report-bounces@dpdk.org

Test-Label: iol-unit-amd64-testing
Test-Status: SUCCESS
http://dpdk.org/patch/141448

_Testing PASS_

Submitter: Jeremy Spewock <jspewock@iol.unh.edu>
Date: Thursday, June 20 2024 17:36:09 
DPDK git baseline: Repo:dpdk
  Branch: master
  CommitID:4a44d97f0a52a76258c6a6cb6a713f4380a8ab1f

141446-141448 --> testing pass

Test environment and result as below:

+------------------+----------------+
|   Environment    | dpdk_unit_test |
+==================+================+
| CentOS Stream 9  | PASS           |
+------------------+----------------+
| Debian 12        | PASS           |
+------------------+----------------+
| CentOS Stream 8  | PASS           |
+------------------+----------------+
| Debian Bullseye  | PASS           |
+------------------+----------------+
| Fedora 37        | PASS           |
+------------------+----------------+
| Fedora 39        | PASS           |
+------------------+----------------+
| Fedora 40        | PASS           |
+------------------+----------------+
| Fedora 38        | PASS           |
+------------------+----------------+
| openSUSE Leap 15 | PASS           |
+------------------+----------------+
| RHEL8            | PASS           |
+------------------+----------------+
| RHEL9            | PASS           |
+------------------+----------------+
| Ubuntu 22.04     | PASS           |
+------------------+----------------+
| Ubuntu 20.04     | PASS           |
+------------------+----------------+
| Ubuntu 24.04     | PASS           |
+------------------+----------------+


CentOS Stream 9
	Kernel: 5.4.0-167-generic
	Compiler: gcc 11.4.1 20230605

Debian 12
	Kernel: Container Host Kernel
	Compiler: gcc 12.2.0

CentOS Stream 8
	Kernel: 5.4.0-167-generic
	Compiler: gcc 8.5.0 20210514

Debian Bullseye
	Kernel: 5.4.0-167-generic
	Compiler: gcc 10.2.1-6

Fedora 37
	Kernel: Depends on container host system
	Compiler: gcc 12.3.1

Fedora 39
	Kernel: Depends on container host
	Compiler: gcc 13.2.1

Fedora 40
	Kernel: Depends on container host
	Compiler: gcc 14.1.1

Fedora 38
	Kernel: Depends on container host
	Compiler: clang 16.0.6

openSUSE Leap 15
	Kernel: 5.4.0-167-generic
	Compiler: gcc 7.5.0

RHEL8
	Kernel: 5.4.0-167-generic
	Compiler: gcc 8.5.0 20210514 (Red Hat 8.5.0-20)

RHEL9
	Kernel: Depends on container host
	Compiler: gcc 11.4.1

Ubuntu 22.04
	Kernel: 5.4.0-167-generic
	Compiler: gcc 11.4.0

Ubuntu 20.04
	Kernel: 5.4.0-167-generic
	Compiler: gcc 9.4.0-1ubuntu1~20.04.1

Ubuntu 24.04
	Kernel: 5.4.0-167-generic
	Compiler: gcc 13.2.0

To view detailed results, visit:
https://lab.dpdk.org/results/dashboard/patchsets/30265/

UNH-IOL DPDK Community Lab

To manage your email subscriptions, visit: 
https://lab.dpdk.org/results/dashboard/preferences/subscriptions/