From mboxrd@z Thu Jan  1 00:00:00 1970
Return-Path: <test-report-bounces@dpdk.org>
Received: from mails.dpdk.org (mails.dpdk.org [217.70.189.124])
	by inbox.dpdk.org (Postfix) with ESMTP id 1B613454B2
	for <public@inbox.dpdk.org>; Fri, 21 Jun 2024 05:26:15 +0200 (CEST)
Received: from mails.dpdk.org (localhost [127.0.0.1])
	by mails.dpdk.org (Postfix) with ESMTP id 1616F4042E;
	Fri, 21 Jun 2024 05:26:15 +0200 (CEST)
Received: from mail-io1-f99.google.com (mail-io1-f99.google.com
 [209.85.166.99]) by mails.dpdk.org (Postfix) with ESMTP id 168D44026A
 for <test-report@dpdk.org>; Fri, 21 Jun 2024 05:26:14 +0200 (CEST)
Received: by mail-io1-f99.google.com with SMTP id
 ca18e2360f4ac-7ea0b5e0977so63697839f.2
 for <test-report@dpdk.org>; Thu, 20 Jun 2024 20:26:14 -0700 (PDT)
DKIM-Signature: v=1; a=rsa-sha256; c=relaxed/relaxed;
 d=iol.unh.edu; s=unh-iol; t=1718940373; x=1719545173; darn=dpdk.org;
 h=references:in-reply-to:cc:to:from:subject:message-id:date:from:to
 :cc:subject:date:message-id:reply-to;
 bh=atv5SwoSSOGztPK68/drN6BhrYJnbldt6CsMq1mQq6k=;
 b=MHKVMPxcsEfmH0p3Myv6RGvKAIcGjLmmuu1vWBf4XGWd/gjmpvWvxAXAG7xoRjpG81
 51KTxiopJ+H6FuL0l42D4CqAzjPle8dOnp+5sOxMGnrU0N2/Lsv6vBu802dY/VDqnSDu
 UqzQlh+3ttVC553mMYOosA0eAAlB+1yFFdrsg=
X-Google-DKIM-Signature: v=1; a=rsa-sha256; c=relaxed/relaxed;
 d=1e100.net; s=20230601; t=1718940373; x=1719545173;
 h=references:in-reply-to:cc:to:from:subject:message-id:date
 :x-gm-message-state:from:to:cc:subject:date:message-id:reply-to;
 bh=atv5SwoSSOGztPK68/drN6BhrYJnbldt6CsMq1mQq6k=;
 b=wtJ9Q15P71vTjv2DQvF/x9YgjuO/g0dweTb5Xr263h07JsKhhYcX0u1mMlfTuaMKyg
 VlGWqxzIu7zw0f1tIIFfe5sT1FtbOLf3QEi5BWQ5j0bPHDM7wFUs0v/e/6YtuVb1hLgG
 3egRjyDxuAsOZt57kQTXoD1ymfRaw6UiCXaAr8sUmUy+iREeI8gBppf73FMajFm5OoKW
 4X3FXynrk4CfSYCzfv4wVymRnCzLr3nrCHN1caU2WTABwYAxuIgzHmLj7ufdUumxioQQ
 nvpKPN+yg/7JvpvImOt0fN9bFDPQokrF8xFutXSX9qJN3OxwEK7uGEKC7ptA3GuVNZtm
 fhsg==
X-Gm-Message-State: AOJu0Yy6IX0CqmUl9iktkYIc8ZNZaQ6mon6E3OeF9lmt25Tzg7P+qLs0
 Ia3jMoksHnQP2AHNKJQmh5DB0pxPO2x8iTr6a0j0koXXXspRc2eC6NpwLv1bDYTTfFZsDmH6yE9
 8+7A38U+IxrOBxzm18fzj7GtLr2w1qwbNJ3OKG8W1
X-Google-Smtp-Source: AGHT+IHL87XSsuI2PJ2jD1h3CSEKecU37cTW7IXosKbZA9p1sQnr9+AMNj414z/lYdv7OzSUwM/BscSTurOP
X-Received: by 2002:a05:6602:6b84:b0:7eb:687f:66a5 with SMTP id
 ca18e2360f4ac-7f13ee8fc06mr765954039f.21.1718940373501; 
 Thu, 20 Jun 2024 20:26:13 -0700 (PDT)
Received: from postal.iol.unh.edu (postal.iol.unh.edu. [132.177.123.84])
 by smtp-relay.gmail.com with ESMTPS id
 8926c6da1cb9f-4b9d1248e7fsm16458173.69.2024.06.20.20.26.13
 (version=TLS1_2 cipher=ECDHE-ECDSA-AES128-GCM-SHA256 bits=128/128);
 Thu, 20 Jun 2024 20:26:13 -0700 (PDT)
X-Relaying-Domain: iol.unh.edu
Date: Thu, 20 Jun 2024 20:26:13 -0700 (PDT)
Message-ID: <6674f2d5.050a0220.e2ebb.14ccSMTPIN_ADDED_MISSING@mx.google.com>
Received: from [172.21.0.6] (unknown [172.18.0.240])
 by postal.iol.unh.edu (Postfix) with ESMTP id EC6E66050A9C;
 Thu, 20 Jun 2024 23:26:12 -0400 (EDT)
Subject: |SUCCESS| pw141446-141448 [PATCH] [v4,3/3] dts: Improve logging for 
From: dpdklab@iol.unh.edu
To: Test Report <test-report@dpdk.org>
Cc: dpdk-test-reports@iol.unh.edu
In-Reply-To: <20240620173609.15375-4-jspewock@iol.unh.edu>
References: <20240620173609.15375-4-jspewock@iol.unh.edu>
Content-Type: text/plain
X-BeenThere: test-report@dpdk.org
X-Mailman-Version: 2.1.29
Precedence: list
List-Id: automatic DPDK test reports <test-report.dpdk.org>
List-Unsubscribe: <https://mails.dpdk.org/options/test-report>,
 <mailto:test-report-request@dpdk.org?subject=unsubscribe>
List-Archive: <http://mails.dpdk.org/archives/test-report/>
List-Post: <mailto:test-report@dpdk.org>
List-Help: <mailto:test-report-request@dpdk.org?subject=help>
List-Subscribe: <https://mails.dpdk.org/listinfo/test-report>,
 <mailto:test-report-request@dpdk.org?subject=subscribe>
Errors-To: test-report-bounces@dpdk.org

Test-Label: iol-unit-amd64-testing
Test-Status: SUCCESS
http://dpdk.org/patch/141448

_Testing PASS_

Submitter: Jeremy Spewock <jspewock@iol.unh.edu>
Date: Thursday, June 20 2024 17:36:09 
DPDK git baseline: Repo:dpdk
  Branch: master
  CommitID:4a44d97f0a52a76258c6a6cb6a713f4380a8ab1f

141446-141448 --> testing pass

Test environment and result as below:

+------------------+----------------+
|   Environment    | dpdk_unit_test |
+==================+================+
| CentOS Stream 9  | PASS           |
+------------------+----------------+
| Debian 12        | PASS           |
+------------------+----------------+
| CentOS Stream 8  | PASS           |
+------------------+----------------+
| Debian Bullseye  | PASS           |
+------------------+----------------+
| Fedora 37        | PASS           |
+------------------+----------------+
| Fedora 39        | PASS           |
+------------------+----------------+
| Fedora 40        | PASS           |
+------------------+----------------+
| Fedora 38        | PASS           |
+------------------+----------------+
| openSUSE Leap 15 | PASS           |
+------------------+----------------+
| RHEL8            | PASS           |
+------------------+----------------+
| RHEL9            | PASS           |
+------------------+----------------+
| Ubuntu 22.04     | PASS           |
+------------------+----------------+
| Ubuntu 20.04     | PASS           |
+------------------+----------------+
| Ubuntu 24.04     | PASS           |
+------------------+----------------+


CentOS Stream 9
	Kernel: 5.4.0-167-generic
	Compiler: gcc 11.4.1 20230605

Debian 12
	Kernel: Container Host Kernel
	Compiler: gcc 12.2.0

CentOS Stream 8
	Kernel: 5.4.0-167-generic
	Compiler: gcc 8.5.0 20210514

Debian Bullseye
	Kernel: 5.4.0-167-generic
	Compiler: gcc 10.2.1-6

Fedora 37
	Kernel: Depends on container host system
	Compiler: gcc 12.3.1

Fedora 39
	Kernel: Depends on container host
	Compiler: gcc 13.2.1

Fedora 40
	Kernel: Depends on container host
	Compiler: gcc 14.1.1

Fedora 38
	Kernel: Depends on container host
	Compiler: clang 16.0.6

openSUSE Leap 15
	Kernel: 5.4.0-167-generic
	Compiler: gcc 7.5.0

RHEL8
	Kernel: 5.4.0-167-generic
	Compiler: gcc 8.5.0 20210514 (Red Hat 8.5.0-20)

RHEL9
	Kernel: Depends on container host
	Compiler: gcc 11.4.1

Ubuntu 22.04
	Kernel: 5.4.0-167-generic
	Compiler: gcc 11.4.0

Ubuntu 20.04
	Kernel: 5.4.0-167-generic
	Compiler: gcc 9.4.0-1ubuntu1~20.04.1

Ubuntu 24.04
	Kernel: 5.4.0-167-generic
	Compiler: gcc 13.2.0

To view detailed results, visit:
https://lab.dpdk.org/results/dashboard/patchsets/30265/

UNH-IOL DPDK Community Lab

To manage your email subscriptions, visit: 
https://lab.dpdk.org/results/dashboard/preferences/subscriptions/