From mboxrd@z Thu Jan  1 00:00:00 1970
Return-Path: <test-report-bounces@dpdk.org>
Received: from mails.dpdk.org (mails.dpdk.org [217.70.189.124])
	by inbox.dpdk.org (Postfix) with ESMTP id 42E12454B2
	for <public@inbox.dpdk.org>; Fri, 21 Jun 2024 05:44:30 +0200 (CEST)
Received: from mails.dpdk.org (localhost [127.0.0.1])
	by mails.dpdk.org (Postfix) with ESMTP id 3D5D24042E;
	Fri, 21 Jun 2024 05:44:30 +0200 (CEST)
Received: from mail-io1-f98.google.com (mail-io1-f98.google.com
 [209.85.166.98]) by mails.dpdk.org (Postfix) with ESMTP id D46FA4026A
 for <test-report@dpdk.org>; Fri, 21 Jun 2024 05:44:26 +0200 (CEST)
Received: by mail-io1-f98.google.com with SMTP id
 ca18e2360f4ac-7ec0385de1fso54701539f.3
 for <test-report@dpdk.org>; Thu, 20 Jun 2024 20:44:26 -0700 (PDT)
DKIM-Signature: v=1; a=rsa-sha256; c=relaxed/relaxed;
 d=iol.unh.edu; s=unh-iol; t=1718941466; x=1719546266; darn=dpdk.org;
 h=references:in-reply-to:cc:to:from:subject:message-id:date:from:to
 :cc:subject:date:message-id:reply-to;
 bh=LvOt9TQ8Nep0a5WcuGtvOiAKx4hQCce+yIqND+yMbC0=;
 b=R4AOSpnqhDGsmxwXR9MiWwmW9KTqxF4rarDcVggj45cpDt/D39MQdW1jTSEHniSCty
 8jrKag5PJjPXG4jM2C6WWs5AzNQ4E8TPgxXMazR3HBSM0v32Z2Pbioc/re459HuJWx9v
 E8RRF2vmRVNcxvJ4FU1z7MQ98ICd0/WHqvuLc=
X-Google-DKIM-Signature: v=1; a=rsa-sha256; c=relaxed/relaxed;
 d=1e100.net; s=20230601; t=1718941466; x=1719546266;
 h=references:in-reply-to:cc:to:from:subject:message-id:date
 :x-gm-message-state:from:to:cc:subject:date:message-id:reply-to;
 bh=LvOt9TQ8Nep0a5WcuGtvOiAKx4hQCce+yIqND+yMbC0=;
 b=jAEB2p9Pnzs/hZjlQFza6Kv+DUSrBlzKxEy+RedXhWyNN48ziVw6HslvYMjeC/+R54
 FvkklYvNZsIB4yHdI/IOZoOw6UFLI3BIwdnfR+T2yxx/mQ2FLcoUnarMbFlcG6K12Zg2
 /jOnpwxhleSgMNPD5ySQWLeoiiSRMvvCVlxl0Ijuu7H0jMM98FZ3yYCq46WYyNZCCyR5
 uXoAc0UeOnjOVuoeZhdo1Z/WXSFjemvwryoBhehF9Ib+JCc2rk/E61BjVQDxlm7VqIZs
 i4RoBTrqqPtXBZsXV+Avp7rMGkCNyJsRMlnSei9+B3fUrkGqEtgugtfe1sTGI0nNVwal
 eYqQ==
X-Gm-Message-State: AOJu0Yxb1BIW0OOyUVtzYltML7CaSlzSaaWkRfiOymuSHFwiwJJJhyLD
 xaNMbbIZEpixAPz4LKBlkY2DsoDyPHJMusBCnsHNUxfSsan7Lq7nMZYRaLoW1/V+XrfePQDowvr
 ahDj6jEKOvA4VAXIkv0y1Gzd++pa0qFQq/APDYHog
X-Google-Smtp-Source: AGHT+IG8mM/KnHTc0njMEuSyNlErx5Dpsm5CFVe2VrsmRmQS1jSHk0sUk8pg5B9fPGIGKGT9C10LcFoAHJWZ
X-Received: by 2002:a05:6e02:1563:b0:374:9552:823c with SMTP id
 e9e14a558f8ab-3761d62845bmr82662965ab.2.1718941466201; 
 Thu, 20 Jun 2024 20:44:26 -0700 (PDT)
Received: from postal.iol.unh.edu (postal.iol.unh.edu. [132.177.123.84])
 by smtp-relay.gmail.com with ESMTPS id
 e9e14a558f8ab-3762f3beff9sm391575ab.76.2024.06.20.20.44.26
 (version=TLS1_2 cipher=ECDHE-ECDSA-AES128-GCM-SHA256 bits=128/128);
 Thu, 20 Jun 2024 20:44:26 -0700 (PDT)
X-Relaying-Domain: iol.unh.edu
Date: Thu, 20 Jun 2024 20:44:26 -0700 (PDT)
Message-ID: <6674f71a.050a0220.48745.30e8SMTPIN_ADDED_MISSING@mx.google.com>
Received: from [172.21.0.6] (unknown [172.18.0.240])
 by postal.iol.unh.edu (Postfix) with ESMTP id 95A9A605C21C;
 Thu, 20 Jun 2024 23:44:25 -0400 (EDT)
Subject: |SUCCESS| pw141446-141448 [PATCH] [v4,3/3] dts: Improve logging for 
From: dpdklab@iol.unh.edu
To: Test Report <test-report@dpdk.org>
Cc: dpdk-test-reports@iol.unh.edu
In-Reply-To: <20240620173609.15375-4-jspewock@iol.unh.edu>
References: <20240620173609.15375-4-jspewock@iol.unh.edu>
Content-Type: text/plain
X-BeenThere: test-report@dpdk.org
X-Mailman-Version: 2.1.29
Precedence: list
List-Id: automatic DPDK test reports <test-report.dpdk.org>
List-Unsubscribe: <https://mails.dpdk.org/options/test-report>,
 <mailto:test-report-request@dpdk.org?subject=unsubscribe>
List-Archive: <http://mails.dpdk.org/archives/test-report/>
List-Post: <mailto:test-report@dpdk.org>
List-Help: <mailto:test-report-request@dpdk.org?subject=help>
List-Subscribe: <https://mails.dpdk.org/listinfo/test-report>,
 <mailto:test-report-request@dpdk.org?subject=subscribe>
Errors-To: test-report-bounces@dpdk.org

Test-Label: iol-compile-arm64-testing
Test-Status: SUCCESS
http://dpdk.org/patch/141448

_Testing PASS_

Submitter: Jeremy Spewock <jspewock@iol.unh.edu>
Date: Thursday, June 20 2024 17:36:09 
DPDK git baseline: Repo:dpdk
  Branch: master
  CommitID:4a44d97f0a52a76258c6a6cb6a713f4380a8ab1f

141446-141448 --> testing pass

Test environment and result as below:

+----------------------------------------+--------------------+
|              Environment               | dpdk_meson_compile |
+========================================+====================+
| Ubuntu 20.04 ARM SVE                   | PASS               |
+----------------------------------------+--------------------+
| RHEL9 (ARM)                            | PASS               |
+----------------------------------------+--------------------+
| Debian 12 with MUSDK                   | PASS               |
+----------------------------------------+--------------------+
| Fedora 37 (ARM)                        | PASS               |
+----------------------------------------+--------------------+
| Fedora 38 (ARM)                        | PASS               |
+----------------------------------------+--------------------+
| Fedora 39 (ARM)                        | PASS               |
+----------------------------------------+--------------------+
| Fedora 40 (ARM)                        | PASS               |
+----------------------------------------+--------------------+
| Ubuntu 22.04 (ARM)                     | PASS               |
+----------------------------------------+--------------------+
| Ubuntu 24.04 (ARM)                     | PASS               |
+----------------------------------------+--------------------+
| Ubuntu 20.04 (ARM)                     | PASS               |
+----------------------------------------+--------------------+
| CentOS Stream 9 (ARM)                  | PASS               |
+----------------------------------------+--------------------+
| Debian 12 (arm)                        | PASS               |
+----------------------------------------+--------------------+
| Debian 11 (Buster) (ARM)               | PASS               |
+----------------------------------------+--------------------+
| Ubuntu 20.04 aarch32 GCC Cross Compile | PASS               |
+----------------------------------------+--------------------+
| Fedora 40 (ARM Clang)                  | PASS               |
+----------------------------------------+--------------------+
| Fedora 38 (ARM Clang)                  | PASS               |
+----------------------------------------+--------------------+


Ubuntu 20.04 ARM SVE
	Kernel: 5.4.0-167-generic
	Compiler: gcc (Ubuntu 10.5.0-1ubuntu1~20.04) 10.5.0

RHEL9 (ARM)
	Kernel: Depends on container host
	Compiler: gcc 11.4.1

Debian 12 with MUSDK
	Kernel: Container Host Kernel
	Compiler: gcc 12.2.0

Fedora 37 (ARM)
	Kernel: Depends on container host
	Compiler: gcc 12.3.1

Fedora 38 (ARM)
	Kernel: Depends on container host
	Compiler: gcc 13.2.1

Fedora 39 (ARM)
	Kernel: Depends on container host
	Compiler: gcc 13.2.1

Fedora 40 (ARM)
	Kernel: Depends on container host
	Compiler: gcc 14.1.1

Ubuntu 22.04 (ARM)
	Kernel: Container Host Kernel
	Compiler: gcc 11.4.0

Ubuntu 24.04 (ARM)
	Kernel: 5.4.0-167-generic
	Compiler: gcc 13.2.0

Ubuntu 20.04 (ARM)
	Kernel: Container Host Kernel
	Compiler: gcc 9.4.0

CentOS Stream 9 (ARM)
	Kernel: Container Host Kernel
	Compiler: gcc 11.4.1

Debian 12 (arm)
	Kernel: Container Host Kernel
	Compiler: gcc 12.2.0

Debian 11 (Buster) (ARM)
	Kernel: Container Host Kernel
	Compiler: gcc 10.2.1

Ubuntu 20.04 aarch32 GCC Cross Compile
	Kernel: 5.4.0-167-generic
	Compiler: gcc 9.4.0

Fedora 40 (ARM Clang)
	Kernel: Depends on container host
	Compiler: clang 18.1.6

Fedora 38 (ARM Clang)
	Kernel: Depends on container host
	Compiler: clang 16.0.6

To view detailed results, visit:
https://lab.dpdk.org/results/dashboard/patchsets/30265/

UNH-IOL DPDK Community Lab

To manage your email subscriptions, visit: 
https://lab.dpdk.org/results/dashboard/preferences/subscriptions/