From mboxrd@z Thu Jan  1 00:00:00 1970
Return-Path: <test-report-bounces@dpdk.org>
Received: from mails.dpdk.org (mails.dpdk.org [217.70.189.124])
	by inbox.dpdk.org (Postfix) with ESMTP id C9C59454B2
	for <public@inbox.dpdk.org>; Fri, 21 Jun 2024 05:49:56 +0200 (CEST)
Received: from mails.dpdk.org (localhost [127.0.0.1])
	by mails.dpdk.org (Postfix) with ESMTP id C3EEF40611;
	Fri, 21 Jun 2024 05:49:56 +0200 (CEST)
Received: from mail-io1-f97.google.com (mail-io1-f97.google.com
 [209.85.166.97]) by mails.dpdk.org (Postfix) with ESMTP id 9DD7E4026A
 for <test-report@dpdk.org>; Fri, 21 Jun 2024 05:49:55 +0200 (CEST)
Received: by mail-io1-f97.google.com with SMTP id
 ca18e2360f4ac-7f38f5584ebso29244139f.3
 for <test-report@dpdk.org>; Thu, 20 Jun 2024 20:49:55 -0700 (PDT)
DKIM-Signature: v=1; a=rsa-sha256; c=relaxed/relaxed;
 d=iol.unh.edu; s=unh-iol; t=1718941795; x=1719546595; darn=dpdk.org;
 h=references:in-reply-to:cc:to:from:subject:message-id:date:from:to
 :cc:subject:date:message-id:reply-to;
 bh=KNeuYo5BKcOAQVLLYY/maAIcnvrBNM7Oro9GB0bBZWQ=;
 b=FsIrHvnPEpLPkH894CLmwJrAtux+KnevZ1oJGgrguwI8Xxhswqt1idVGCof9ejHXQA
 T8Y1Oq39CPSEe0w0TXoddtz0Vf/KajW2LcaFgtUiuq33i9/wnhKbeYyGyM24EO2U4Bhc
 GYDFeT/FYOcexXCc1lrY0SVhnf7WQMAhwlrt8=
X-Google-DKIM-Signature: v=1; a=rsa-sha256; c=relaxed/relaxed;
 d=1e100.net; s=20230601; t=1718941795; x=1719546595;
 h=references:in-reply-to:cc:to:from:subject:message-id:date
 :x-gm-message-state:from:to:cc:subject:date:message-id:reply-to;
 bh=KNeuYo5BKcOAQVLLYY/maAIcnvrBNM7Oro9GB0bBZWQ=;
 b=NQUsPQer5dchKzBXdeOaS96NsPKrYRKB3bKD+17aC/jN/hCi2Dm3K/Ayur6PgzMV+9
 QukOiCklQbvON2OwiqbjOCDWm04L4m8OOa50QSv5x0pg/GEelJnI32ENdA6aSs0QRoGW
 +Ls7TtMDM1ZfZSRHX9HfTU6jywKvW88Qyt/Wz9uOqJnSLhpx3QjYtpcqgQj8W9TS2aM7
 azQUPYm7eYp4PqzRC6KgzWC3EQ3t6dRNpJJ7Gi9UHICJfGDcOfL0rBv2u6rUZFgS9iWX
 B7o6cF5FN3Nr1MjK8PlGwoD6elDYipZPZJuJtLdaKmCpXPaJr/LmNMYpjnzuKoaHnolI
 DcRA==
X-Gm-Message-State: AOJu0Yw7g9BWCuAUz+s5/aoPKPZ+5mLkLixJ7nt/dh3lScDJGxubGH0D
 6JPpSwBj9Sx38eK/KAb8agAFYAVLXZHv5Q92VmwXye+Xir9j0ovwl5+I8w5vYlZtTJg55G2s+8h
 2Mh0jgVbkHUONR59BTKqZBzYcMsQh68KVMBFdfHUg
X-Google-Smtp-Source: AGHT+IHDYlRXfKUK0xH7TUMy5421XbnBURxgpet0sKvM2GJY7EN4fyf1Poq9SlUuGYVXyKTXP7R6jP9Jm/7y
X-Received: by 2002:a05:6e02:1545:b0:375:d832:fa2f with SMTP id
 e9e14a558f8ab-3761d710508mr77317205ab.21.1718941794936; 
 Thu, 20 Jun 2024 20:49:54 -0700 (PDT)
Received: from postal.iol.unh.edu (postal.iol.unh.edu. [132.177.123.84])
 by smtp-relay.gmail.com with ESMTPS id
 e9e14a558f8ab-3762f31cf85sm370415ab.30.2024.06.20.20.49.54
 (version=TLS1_2 cipher=ECDHE-ECDSA-AES128-GCM-SHA256 bits=128/128);
 Thu, 20 Jun 2024 20:49:54 -0700 (PDT)
X-Relaying-Domain: iol.unh.edu
Date: Thu, 20 Jun 2024 20:49:54 -0700 (PDT)
Message-ID: <6674f862.050a0220.e24fa.3188SMTPIN_ADDED_MISSING@mx.google.com>
Received: from [172.21.0.6] (unknown [172.18.0.240])
 by postal.iol.unh.edu (Postfix) with ESMTP id 862A5605C21C;
 Thu, 20 Jun 2024 23:49:54 -0400 (EDT)
Subject: |SUCCESS| pw141450-141459 [PATCH] [v4,13/13] eal: provide option to 
From: dpdklab@iol.unh.edu
To: Test Report <test-report@dpdk.org>
Cc: dpdk-test-reports@iol.unh.edu
In-Reply-To: <20240620175731.420639-14-mattias.ronnblom@ericsson.com>
References: <20240620175731.420639-14-mattias.ronnblom@ericsson.com>
Content-Type: text/plain
X-BeenThere: test-report@dpdk.org
X-Mailman-Version: 2.1.29
Precedence: list
List-Id: automatic DPDK test reports <test-report.dpdk.org>
List-Unsubscribe: <https://mails.dpdk.org/options/test-report>,
 <mailto:test-report-request@dpdk.org?subject=unsubscribe>
List-Archive: <http://mails.dpdk.org/archives/test-report/>
List-Post: <mailto:test-report@dpdk.org>
List-Help: <mailto:test-report-request@dpdk.org?subject=help>
List-Subscribe: <https://mails.dpdk.org/listinfo/test-report>,
 <mailto:test-report-request@dpdk.org?subject=subscribe>
Errors-To: test-report-bounces@dpdk.org

Test-Label: iol-compile-arm64-testing
Test-Status: SUCCESS
http://dpdk.org/patch/141459

_Testing PASS_

Submitter: Mattias Ronnblom <mattias.ronnblom@ericsson.com>
Date: Thursday, June 20 2024 17:57:31 
DPDK git baseline: Repo:dpdk
  Branch: master
  CommitID:4a44d97f0a52a76258c6a6cb6a713f4380a8ab1f

141450-141459 --> testing pass

Test environment and result as below:

+----------------------------------------+--------------------+
|              Environment               | dpdk_meson_compile |
+========================================+====================+
| Ubuntu 20.04 ARM SVE                   | PASS               |
+----------------------------------------+--------------------+
| Debian 12 with MUSDK                   | PASS               |
+----------------------------------------+--------------------+
| RHEL9 (ARM)                            | PASS               |
+----------------------------------------+--------------------+
| Fedora 38 (ARM)                        | PASS               |
+----------------------------------------+--------------------+
| Fedora 39 (ARM)                        | PASS               |
+----------------------------------------+--------------------+
| Ubuntu 22.04 (ARM)                     | PASS               |
+----------------------------------------+--------------------+
| Ubuntu 20.04 (ARM)                     | PASS               |
+----------------------------------------+--------------------+
| Fedora 40 (ARM)                        | PASS               |
+----------------------------------------+--------------------+
| Ubuntu 24.04 (ARM)                     | PASS               |
+----------------------------------------+--------------------+
| CentOS Stream 9 (ARM)                  | PASS               |
+----------------------------------------+--------------------+
| Debian 12 (arm)                        | PASS               |
+----------------------------------------+--------------------+
| Fedora 40 (ARM Clang)                  | PASS               |
+----------------------------------------+--------------------+
| Fedora 39 (ARM Clang)                  | PASS               |
+----------------------------------------+--------------------+
| Ubuntu 20.04 ARM Clang Cross Compile   | PASS               |
+----------------------------------------+--------------------+
| Ubuntu 20.04 aarch32 GCC Cross Compile | PASS               |
+----------------------------------------+--------------------+


Ubuntu 20.04 ARM SVE
	Kernel: 5.4.0-167-generic
	Compiler: gcc (Ubuntu 10.5.0-1ubuntu1~20.04) 10.5.0

Debian 12 with MUSDK
	Kernel: Container Host Kernel
	Compiler: gcc 12.2.0

RHEL9 (ARM)
	Kernel: Depends on container host
	Compiler: gcc 11.4.1

Fedora 38 (ARM)
	Kernel: Depends on container host
	Compiler: gcc 13.2.1

Fedora 39 (ARM)
	Kernel: Depends on container host
	Compiler: gcc 13.2.1

Ubuntu 22.04 (ARM)
	Kernel: Container Host Kernel
	Compiler: gcc 11.4.0

Ubuntu 20.04 (ARM)
	Kernel: Container Host Kernel
	Compiler: gcc 9.4.0

Fedora 40 (ARM)
	Kernel: Depends on container host
	Compiler: gcc 14.1.1

Ubuntu 24.04 (ARM)
	Kernel: 5.4.0-167-generic
	Compiler: gcc 13.2.0

CentOS Stream 9 (ARM)
	Kernel: Container Host Kernel
	Compiler: gcc 11.4.1

Debian 12 (arm)
	Kernel: Container Host Kernel
	Compiler: gcc 12.2.0

Fedora 40 (ARM Clang)
	Kernel: Depends on container host
	Compiler: clang 18.1.6

Fedora 39 (ARM Clang)
	Kernel: Depends on container host
	Compiler: clang 17.0.6

Ubuntu 20.04 ARM Clang Cross Compile
	Kernel: 5.4.0-72-generic
	Compiler: clang 10.0.0-4ubuntu1

Ubuntu 20.04 aarch32 GCC Cross Compile
	Kernel: 5.4.0-167-generic
	Compiler: gcc 9.4.0

To view detailed results, visit:
https://lab.dpdk.org/results/dashboard/patchsets/30266/

UNH-IOL DPDK Community Lab

To manage your email subscriptions, visit: 
https://lab.dpdk.org/results/dashboard/preferences/subscriptions/