From mboxrd@z Thu Jan  1 00:00:00 1970
Return-Path: <test-report-bounces@dpdk.org>
Received: from mails.dpdk.org (mails.dpdk.org [217.70.189.124])
	by inbox.dpdk.org (Postfix) with ESMTP id 0B991454B2
	for <public@inbox.dpdk.org>; Fri, 21 Jun 2024 05:59:13 +0200 (CEST)
Received: from mails.dpdk.org (localhost [127.0.0.1])
	by mails.dpdk.org (Postfix) with ESMTP id 06C394042E;
	Fri, 21 Jun 2024 05:59:13 +0200 (CEST)
Received: from mail-oo1-f99.google.com (mail-oo1-f99.google.com
 [209.85.161.99]) by mails.dpdk.org (Postfix) with ESMTP id 6079C4026A
 for <test-report@dpdk.org>; Fri, 21 Jun 2024 05:59:08 +0200 (CEST)
Received: by mail-oo1-f99.google.com with SMTP id
 006d021491bc7-5bacd59e562so743673eaf.2
 for <test-report@dpdk.org>; Thu, 20 Jun 2024 20:59:08 -0700 (PDT)
DKIM-Signature: v=1; a=rsa-sha256; c=relaxed/relaxed;
 d=iol.unh.edu; s=unh-iol; t=1718942348; x=1719547148; darn=dpdk.org;
 h=references:in-reply-to:cc:to:from:subject:message-id:date:from:to
 :cc:subject:date:message-id:reply-to;
 bh=FQxozEEGe4PKvsPcmdy56ztEMoXc7ZUyydktzug25bg=;
 b=g1ldS0xf3ZJCYrN94LoU77bTo9xwQC7TMgO9l8EsBoVS+3kXpP/43qUcCtWsR4KOcX
 1qHma1ATVTBQLS1/E3wAIRBYWJV+ZXVrQ7UV3LsvjHusJ+2B484Rljm+qbn1qvz8hbTS
 YtQiXEKKUZgUFeloYHTaIiCU7dLRUs91c4UhQ=
X-Google-DKIM-Signature: v=1; a=rsa-sha256; c=relaxed/relaxed;
 d=1e100.net; s=20230601; t=1718942348; x=1719547148;
 h=references:in-reply-to:cc:to:from:subject:message-id:date
 :x-gm-message-state:from:to:cc:subject:date:message-id:reply-to;
 bh=FQxozEEGe4PKvsPcmdy56ztEMoXc7ZUyydktzug25bg=;
 b=jE/L1OYP3yKoTHIlJnq0veVzMssClw1Dc7P7O7jAMLSSBS/YKerjR5/nP9nUNxA0GS
 lys/ZWmAFa15zLZYnsl35j0lKPUYlFoejKrglUIXuHC+YQQEeb7ujU3avUs6gMS4yDoY
 v3E4aLO0IsbVw1M7zk+cOeIo9adb30WE2LrAmUpuvXuQwnRNetrEZHuzVbZUe5BRmjni
 WdO6wTFDPMEjQFd7lAY664kvVuAiygDMP8IicWtBphn3SdmP67H1zmhzv2xDySacaUny
 l/B+uxi/1YL1k1P8egYDWWfmy0jApznHQV3/3eja7IfVeCiF8RcehJaLtYSNh7JAHSfx
 KvGw==
X-Gm-Message-State: AOJu0Yw8kbSHd4pUJnq/UNvFaxSu/QICixGKYpRjTQZXko6G3CZ5xAuf
 6PBGG2AwCi0tZCJBwjMvVNMvozuhxQC8Zn7vLlXn6e6GxYBhxEi1uEfEvvYkcKKbPJ+ZSdbznGx
 Y/5IvPzRA6c7TESY32LWMpG5E2xAX84A7iKurGTI8
X-Google-Smtp-Source: AGHT+IEdmD3r8Emi+3V8F6S8eh3KiaJXxZfx4RHqCmlBtegKm/sqLkvsCMLbGqLZ6z5Ipzvw7WXNWy9gZHXb
X-Received: by 2002:a05:6358:7521:b0:19f:4967:4e69 with SMTP id
 e5c5f4694b2df-1a1fd63a455mr828671555d.30.1718942347758; 
 Thu, 20 Jun 2024 20:59:07 -0700 (PDT)
Received: from postal.iol.unh.edu (postal.iol.unh.edu. [132.177.123.84])
 by smtp-relay.gmail.com with ESMTPS id
 41be03b00d2f7-716b3ee7775sm9173a12.17.2024.06.20.20.59.07
 (version=TLS1_2 cipher=ECDHE-ECDSA-AES128-GCM-SHA256 bits=128/128);
 Thu, 20 Jun 2024 20:59:07 -0700 (PDT)
X-Relaying-Domain: iol.unh.edu
Date: Thu, 20 Jun 2024 20:59:07 -0700 (PDT)
Message-ID: <6674fa8b.050a0220.f68ea.0ce4SMTPIN_ADDED_MISSING@mx.google.com>
Received: from [172.21.0.7] (unknown [172.18.0.240])
 by postal.iol.unh.edu (Postfix) with ESMTP id EB032605C21C;
 Thu, 20 Jun 2024 23:59:06 -0400 (EDT)
Subject: |SUCCESS| pw141446-141448 [PATCH] [v4,3/3] dts: Improve logging for 
From: dpdklab@iol.unh.edu
To: Test Report <test-report@dpdk.org>
Cc: dpdk-test-reports@iol.unh.edu
In-Reply-To: <20240620173609.15375-4-jspewock@iol.unh.edu>
References: <20240620173609.15375-4-jspewock@iol.unh.edu>
Content-Type: text/plain
X-BeenThere: test-report@dpdk.org
X-Mailman-Version: 2.1.29
Precedence: list
List-Id: automatic DPDK test reports <test-report.dpdk.org>
List-Unsubscribe: <https://mails.dpdk.org/options/test-report>,
 <mailto:test-report-request@dpdk.org?subject=unsubscribe>
List-Archive: <http://mails.dpdk.org/archives/test-report/>
List-Post: <mailto:test-report@dpdk.org>
List-Help: <mailto:test-report-request@dpdk.org?subject=help>
List-Subscribe: <https://mails.dpdk.org/listinfo/test-report>,
 <mailto:test-report-request@dpdk.org?subject=subscribe>
Errors-To: test-report-bounces@dpdk.org

Test-Label: iol-unit-arm64-testing
Test-Status: SUCCESS
http://dpdk.org/patch/141448

_Testing PASS_

Submitter: Jeremy Spewock <jspewock@iol.unh.edu>
Date: Thursday, June 20 2024 17:36:09 
DPDK git baseline: Repo:dpdk
  Branch: master
  CommitID:4a44d97f0a52a76258c6a6cb6a713f4380a8ab1f

141446-141448 --> testing pass

Test environment and result as below:

+-----------------------------+----------------+--------------+
|         Environment         | dpdk_unit_test | lpm_autotest |
+=============================+================+==============+
| 32-bit Ubuntu 20.04.4 (ARM) | PASS           | SKIPPED      |
+-----------------------------+----------------+--------------+
| CentOS Stream 9 (ARM)       | PASS           | SKIPPED      |
+-----------------------------+----------------+--------------+
| Debian 12 (arm)             | PASS           | SKIPPED      |
+-----------------------------+----------------+--------------+
| Fedora 37 (ARM)             | PASS           | SKIPPED      |
+-----------------------------+----------------+--------------+
| Fedora 38 (ARM)             | PASS           | SKIPPED      |
+-----------------------------+----------------+--------------+
| Debian 11 (Buster) (ARM)    | PASS           | SKIPPED      |
+-----------------------------+----------------+--------------+
| Fedora 39 (ARM)             | PASS           | SKIPPED      |
+-----------------------------+----------------+--------------+
| Ubuntu 20.04 ARM SVE        | SKIPPED        | PASS         |
+-----------------------------+----------------+--------------+


32-bit Ubuntu 20.04.4 (ARM)
	Kernel: 5.4.0-155-generic aarch64
	Compiler: gcc 9.4

CentOS Stream 9 (ARM)
	Kernel: Container Host Kernel
	Compiler: gcc 11.4.1

Debian 12 (arm)
	Kernel: Container Host Kernel
	Compiler: gcc 12.2.0

Fedora 37 (ARM)
	Kernel: Depends on container host
	Compiler: gcc 12.3.1

Fedora 38 (ARM)
	Kernel: Depends on container host
	Compiler: gcc 13.2.1

Debian 11 (Buster) (ARM)
	Kernel: Container Host Kernel
	Compiler: gcc 10.2.1

Fedora 39 (ARM)
	Kernel: Depends on container host
	Compiler: gcc 13.2.1

Ubuntu 20.04 ARM SVE
	Kernel: 5.4.0-167-generic
	Compiler: gcc (Ubuntu 10.5.0-1ubuntu1~20.04) 10.5.0

To view detailed results, visit:
https://lab.dpdk.org/results/dashboard/patchsets/30265/

UNH-IOL DPDK Community Lab

To manage your email subscriptions, visit: 
https://lab.dpdk.org/results/dashboard/preferences/subscriptions/