From mboxrd@z Thu Jan  1 00:00:00 1970
Return-Path: <test-report-bounces@dpdk.org>
Received: from mails.dpdk.org (mails.dpdk.org [217.70.189.124])
	by inbox.dpdk.org (Postfix) with ESMTP id 34891454B3
	for <public@inbox.dpdk.org>; Fri, 21 Jun 2024 06:02:35 +0200 (CEST)
Received: from mails.dpdk.org (localhost [127.0.0.1])
	by mails.dpdk.org (Postfix) with ESMTP id 30A724042E;
	Fri, 21 Jun 2024 06:02:35 +0200 (CEST)
Received: from mail-il1-f226.google.com (mail-il1-f226.google.com
 [209.85.166.226])
 by mails.dpdk.org (Postfix) with ESMTP id 697424026A
 for <test-report@dpdk.org>; Fri, 21 Jun 2024 06:02:27 +0200 (CEST)
Received: by mail-il1-f226.google.com with SMTP id
 e9e14a558f8ab-375f713a099so5446405ab.2
 for <test-report@dpdk.org>; Thu, 20 Jun 2024 21:02:27 -0700 (PDT)
DKIM-Signature: v=1; a=rsa-sha256; c=relaxed/relaxed;
 d=iol.unh.edu; s=unh-iol; t=1718942547; x=1719547347; darn=dpdk.org;
 h=references:in-reply-to:cc:to:from:subject:message-id:date:from:to
 :cc:subject:date:message-id:reply-to;
 bh=4KdxnF+5Nas9A670w6SL8sAM3ahm+vOWFPvgEbr55d0=;
 b=XvZHvJ3puBK6nLeK0HMXiiM91WZZ0ULmR7Wty4OmRowIDNX8Ph0YERoQijy7gaqeUf
 XMU9Q5aTqnhsUaLkJdP/NoKHmKos30X+eBHMTw8E38bRNbj40VUOzt0XcZI5YejHQ0Qu
 wxb8iPt/KL7HjWgADxJ/ZHVuE7t4JqSK3JXOU=
X-Google-DKIM-Signature: v=1; a=rsa-sha256; c=relaxed/relaxed;
 d=1e100.net; s=20230601; t=1718942547; x=1719547347;
 h=references:in-reply-to:cc:to:from:subject:message-id:date
 :x-gm-message-state:from:to:cc:subject:date:message-id:reply-to;
 bh=4KdxnF+5Nas9A670w6SL8sAM3ahm+vOWFPvgEbr55d0=;
 b=Rwi8we+mJDQ8dq2MI0rvRkiikMpG7Gd4eKzksrjv3iiqvUMsfcmX1ZlrvIOdbc2ooJ
 uSNFD197l2JCBrsXe26AJDNMObQgi5EmI1plk2H7kR3k8Hj2uWpGj7+0k1p41oLVi9Tu
 qqPQfKk21zdoIvm1m6fUP572NkagNM1EqGPeA32CvlPSK/u5j7UXO/JcXK8SGqDh0agc
 X3/GMl5A3IdSUY8E8CPyi1ceLwOdE92SXqrC/rdwP7n0maBcQ7Qxelufo7iu0xTnbMx7
 TlbcZijnnfGiCtV3an9GQtCERHb3W5Vxhkf18Edi6MJm05Py9hJcZOZgaLv/wDeBgJMD
 VEgw==
X-Gm-Message-State: AOJu0Ywle20IddSG0pSYr3f2wLdNiMgko3YebToxFCXWC8zDiXhK7BSX
 DiHD6NK5MPMEnBmBBlLoXoH38ff6PpXMza5SvJBILZCJpbhfLA5+vRGJcjKS1TGyNy3UYW935A3
 TXOHwBVXCCm/Gy/hICdfRNmsuiJ8omkOqmT0xHQvE
X-Google-Smtp-Source: AGHT+IHQLeF1TOP3Go2ruhNXOwMDfubtIu8FKxsYAxyG16lTHThEHegB8S7NSrs5t100bpYTRwzsL9r0Ly1n
X-Received: by 2002:a05:6e02:1888:b0:374:91a7:d0fb with SMTP id
 e9e14a558f8ab-3761d731ef9mr86554935ab.29.1718942546825; 
 Thu, 20 Jun 2024 21:02:26 -0700 (PDT)
Received: from postal.iol.unh.edu (postal.iol.unh.edu. [132.177.123.84])
 by smtp-relay.gmail.com with ESMTPS id
 e9e14a558f8ab-3762f3bccf2sm393435ab.72.2024.06.20.21.02.26
 (version=TLS1_2 cipher=ECDHE-ECDSA-AES128-GCM-SHA256 bits=128/128);
 Thu, 20 Jun 2024 21:02:26 -0700 (PDT)
X-Relaying-Domain: iol.unh.edu
Date: Thu, 20 Jun 2024 21:02:26 -0700 (PDT)
Message-ID: <6674fb52.050a0220.635fe.333dSMTPIN_ADDED_MISSING@mx.google.com>
Received: from [172.21.0.6] (unknown [172.18.0.240])
 by postal.iol.unh.edu (Postfix) with ESMTP id 53F5F605C21C;
 Fri, 21 Jun 2024 00:02:26 -0400 (EDT)
Subject: |SUCCESS| pw141446-141448 [PATCH] [v4,3/3] dts: Improve logging for 
From: dpdklab@iol.unh.edu
To: Test Report <test-report@dpdk.org>
Cc: dpdk-test-reports@iol.unh.edu
In-Reply-To: <20240620173609.15375-4-jspewock@iol.unh.edu>
References: <20240620173609.15375-4-jspewock@iol.unh.edu>
Content-Type: text/plain
X-BeenThere: test-report@dpdk.org
X-Mailman-Version: 2.1.29
Precedence: list
List-Id: automatic DPDK test reports <test-report.dpdk.org>
List-Unsubscribe: <https://mails.dpdk.org/options/test-report>,
 <mailto:test-report-request@dpdk.org?subject=unsubscribe>
List-Archive: <http://mails.dpdk.org/archives/test-report/>
List-Post: <mailto:test-report@dpdk.org>
List-Help: <mailto:test-report-request@dpdk.org?subject=help>
List-Subscribe: <https://mails.dpdk.org/listinfo/test-report>,
 <mailto:test-report-request@dpdk.org?subject=subscribe>
Errors-To: test-report-bounces@dpdk.org

Test-Label: iol-unit-arm64-testing
Test-Status: SUCCESS
http://dpdk.org/patch/141448

_Testing PASS_

Submitter: Jeremy Spewock <jspewock@iol.unh.edu>
Date: Thursday, June 20 2024 17:36:09 
DPDK git baseline: Repo:dpdk
  Branch: master
  CommitID:4a44d97f0a52a76258c6a6cb6a713f4380a8ab1f

141446-141448 --> testing pass

Test environment and result as below:

+-----------------------------+----------------+--------------+
|         Environment         | dpdk_unit_test | lpm_autotest |
+=============================+================+==============+
| 32-bit Ubuntu 20.04.4 (ARM) | PASS           | SKIPPED      |
+-----------------------------+----------------+--------------+
| CentOS Stream 9 (ARM)       | PASS           | SKIPPED      |
+-----------------------------+----------------+--------------+
| Debian 12 (arm)             | PASS           | SKIPPED      |
+-----------------------------+----------------+--------------+
| Fedora 37 (ARM)             | PASS           | SKIPPED      |
+-----------------------------+----------------+--------------+
| Fedora 38 (ARM)             | PASS           | SKIPPED      |
+-----------------------------+----------------+--------------+
| Debian 11 (Buster) (ARM)    | PASS           | SKIPPED      |
+-----------------------------+----------------+--------------+
| Fedora 39 (ARM)             | PASS           | SKIPPED      |
+-----------------------------+----------------+--------------+
| Fedora 40 (ARM)             | PASS           | SKIPPED      |
+-----------------------------+----------------+--------------+
| Ubuntu 20.04 ARM SVE        | SKIPPED        | PASS         |
+-----------------------------+----------------+--------------+


32-bit Ubuntu 20.04.4 (ARM)
	Kernel: 5.4.0-155-generic aarch64
	Compiler: gcc 9.4

CentOS Stream 9 (ARM)
	Kernel: Container Host Kernel
	Compiler: gcc 11.4.1

Debian 12 (arm)
	Kernel: Container Host Kernel
	Compiler: gcc 12.2.0

Fedora 37 (ARM)
	Kernel: Depends on container host
	Compiler: gcc 12.3.1

Fedora 38 (ARM)
	Kernel: Depends on container host
	Compiler: gcc 13.2.1

Debian 11 (Buster) (ARM)
	Kernel: Container Host Kernel
	Compiler: gcc 10.2.1

Fedora 39 (ARM)
	Kernel: Depends on container host
	Compiler: gcc 13.2.1

Fedora 40 (ARM)
	Kernel: Depends on container host
	Compiler: gcc 14.1.1

Ubuntu 20.04 ARM SVE
	Kernel: 5.4.0-167-generic
	Compiler: gcc (Ubuntu 10.5.0-1ubuntu1~20.04) 10.5.0

To view detailed results, visit:
https://lab.dpdk.org/results/dashboard/patchsets/30265/

UNH-IOL DPDK Community Lab

To manage your email subscriptions, visit: 
https://lab.dpdk.org/results/dashboard/preferences/subscriptions/